BEGIN:VCALENDAR
VERSION:2.0
PRODID:-//Wilton Chamber of Commerce - ECPv6.15.18//NONSGML v1.0//EN
CALSCALE:GREGORIAN
METHOD:PUBLISH
X-ORIGINAL-URL:https://wiltonchamber.com
X-WR-CALDESC:Events for Wilton Chamber of Commerce
REFRESH-INTERVAL;VALUE=DURATION:PT1H
X-Robots-Tag:noindex
X-PUBLISHED-TTL:PT1H
BEGIN:VTIMEZONE
TZID:America/New_York
BEGIN:DAYLIGHT
TZOFFSETFROM:-0500
TZOFFSETTO:-0400
TZNAME:EDT
DTSTART:20220313T070000
END:DAYLIGHT
BEGIN:STANDARD
TZOFFSETFROM:-0400
TZOFFSETTO:-0500
TZNAME:EST
DTSTART:20221106T060000
END:STANDARD
BEGIN:DAYLIGHT
TZOFFSETFROM:-0500
TZOFFSETTO:-0400
TZNAME:EDT
DTSTART:20230312T070000
END:DAYLIGHT
BEGIN:STANDARD
TZOFFSETFROM:-0400
TZOFFSETTO:-0500
TZNAME:EST
DTSTART:20231105T060000
END:STANDARD
BEGIN:DAYLIGHT
TZOFFSETFROM:-0500
TZOFFSETTO:-0400
TZNAME:EDT
DTSTART:20240310T070000
END:DAYLIGHT
BEGIN:STANDARD
TZOFFSETFROM:-0400
TZOFFSETTO:-0500
TZNAME:EST
DTSTART:20241103T060000
END:STANDARD
END:VTIMEZONE
BEGIN:VEVENT
DTSTART;TZID=America/New_York:20231106T190000
DTEND;TZID=America/New_York:20231106T200000
DTSTAMP:20260423T045912
CREATED:20231101T153036Z
LAST-MODIFIED:20231101T153405Z
UID:10000221-1699297200-1699300800@wiltonchamber.com
SUMMARY:Don't Let Pickleball Paddle You with Injuries (Zoom)
DESCRIPTION:Learn about prevention and treatment tips for common racquet sports injuries such as shoulder\, elbow\, and ankle strains\, sprains\, and tears from the experts at ONS. \nMonday\, November 6\, 2023 7:00 – 8:00 PM \nRegistration required in order to receive Zoom link. Register by scanning QR code or with the link below.
URL:https://wiltonchamber.com/event-detail/dont-let-pickleball-paddle-you-with-injuries-zoom/
LOCATION:Zoom – Virtual Meeting
CATEGORIES:Community Events,Health and Wellness
ATTACH;FMTTYPE=image/jpeg:https://wiltonchamber.com/wp-content/uploads/2023/11/ONS-pickle-ball.jpg
END:VEVENT
END:VCALENDAR