BEGIN:VCALENDAR
VERSION:2.0
PRODID:-//Wilton Chamber of Commerce - ECPv6.15.18//NONSGML v1.0//EN
CALSCALE:GREGORIAN
METHOD:PUBLISH
X-WR-CALNAME:Wilton Chamber of Commerce
X-ORIGINAL-URL:https://wiltonchamber.com
X-WR-CALDESC:Events for Wilton Chamber of Commerce
REFRESH-INTERVAL;VALUE=DURATION:PT1H
X-Robots-Tag:noindex
X-PUBLISHED-TTL:PT1H
BEGIN:VTIMEZONE
TZID:America/New_York
BEGIN:DAYLIGHT
TZOFFSETFROM:-0500
TZOFFSETTO:-0400
TZNAME:EDT
DTSTART:20180311T070000
END:DAYLIGHT
BEGIN:STANDARD
TZOFFSETFROM:-0400
TZOFFSETTO:-0500
TZNAME:EST
DTSTART:20181104T060000
END:STANDARD
BEGIN:DAYLIGHT
TZOFFSETFROM:-0500
TZOFFSETTO:-0400
TZNAME:EDT
DTSTART:20190310T070000
END:DAYLIGHT
BEGIN:STANDARD
TZOFFSETFROM:-0400
TZOFFSETTO:-0500
TZNAME:EST
DTSTART:20191103T060000
END:STANDARD
BEGIN:DAYLIGHT
TZOFFSETFROM:-0500
TZOFFSETTO:-0400
TZNAME:EDT
DTSTART:20200308T070000
END:DAYLIGHT
BEGIN:STANDARD
TZOFFSETFROM:-0400
TZOFFSETTO:-0500
TZNAME:EST
DTSTART:20201101T060000
END:STANDARD
END:VTIMEZONE
BEGIN:VEVENT
DTSTART;TZID=America/New_York:20190814T173000
DTEND;TZID=America/New_York:20190814T190000
DTSTAMP:20260423T064835
CREATED:20190801T201305Z
LAST-MODIFIED:20230405T172113Z
UID:10000115-1565803800-1565809200@wiltonchamber.com
SUMMARY:Wilton Pizza & Pasta Business After Hours
DESCRIPTION:Please join us for a Jazz Soiree’ Business After Hours at Wilton Pizza and Pasta on Wednesday August 14\, 2019 from 5:30-7:00 pm. Network with chamber members and future members\, be entertained with lively jazz performance on their patio and enjoy refreshments and hors d’oeuvres! \nContact us at info@wiltonchamber.com or 203-762-0567 for questions. \nPlease fill out the form below to register and pay via PayPal:
URL:https://wiltonchamber.com/event-detail/wilton-pizza-pasta-business-after-hours/
LOCATION:Purple-Frog-Graphics-Logo\, CT
CATEGORIES:Chamber Events
ATTACH;FMTTYPE=image/png:https://wiltonchamber.com/wp-content/uploads/2023/02/derm-medical-logo-1.png
END:VEVENT
END:VCALENDAR