BEGIN:VCALENDAR
VERSION:2.0
PRODID:-//Wilton Chamber of Commerce - ECPv6.15.18//NONSGML v1.0//EN
CALSCALE:GREGORIAN
METHOD:PUBLISH
X-WR-CALNAME:Wilton Chamber of Commerce
X-ORIGINAL-URL:https://wiltonchamber.com
X-WR-CALDESC:Events for Wilton Chamber of Commerce
REFRESH-INTERVAL;VALUE=DURATION:PT1H
X-Robots-Tag:noindex
X-PUBLISHED-TTL:PT1H
BEGIN:VTIMEZONE
TZID:America/New_York
BEGIN:DAYLIGHT
TZOFFSETFROM:-0500
TZOFFSETTO:-0400
TZNAME:EDT
DTSTART:20220313T070000
END:DAYLIGHT
BEGIN:STANDARD
TZOFFSETFROM:-0400
TZOFFSETTO:-0500
TZNAME:EST
DTSTART:20221106T060000
END:STANDARD
BEGIN:DAYLIGHT
TZOFFSETFROM:-0500
TZOFFSETTO:-0400
TZNAME:EDT
DTSTART:20230312T070000
END:DAYLIGHT
BEGIN:STANDARD
TZOFFSETFROM:-0400
TZOFFSETTO:-0500
TZNAME:EST
DTSTART:20231105T060000
END:STANDARD
BEGIN:DAYLIGHT
TZOFFSETFROM:-0500
TZOFFSETTO:-0400
TZNAME:EDT
DTSTART:20240310T070000
END:DAYLIGHT
BEGIN:STANDARD
TZOFFSETFROM:-0400
TZOFFSETTO:-0500
TZNAME:EST
DTSTART:20241103T060000
END:STANDARD
END:VTIMEZONE
BEGIN:VEVENT
DTSTART;TZID=America/New_York:20230922T180000
DTEND;TZID=America/New_York:20230924T220000
DTSTAMP:20260423T055820
CREATED:20230807T202034Z
LAST-MODIFIED:20230807T202034Z
UID:10000183-1695405600-1695592800@wiltonchamber.com
SUMMARY:Wilton Rotary Carnival 2023
DESCRIPTION:The Rotary Club of Wilton together with the Knights of Columbus Bishop Fenwick Assembly 100 will host its family carnival from Sept. 22-24\, 2023! The carnival will be held at the corner of School Road and Route 7. Carnival hours are: Friday\, Sept. 22\, 6-10 p.m.\, Saturday Sept. 23\, 12- 10 p.m.\, and Sunday Sept. 24\, 12–5 p.m. \nThe Carnival is a great family event and a wonderful way to kick of the autumn season and new school year for the youngsters! The event will offer over a dozen different rides for all ages as well as multiple games and other activities for the whole family. Additionally\, there will be a variety of food trucks and food vendors throughout the weekend event. \nAdmission and parking is free. Wristbands for unlimited rides will be sold for $30 per wristband for each time slot. Individual ride tickets are also available. Volunteers from the Wilton Rotary Club and Knight of Columbus will be overseeing the ticket booth and assisting with wristbands. \nAll proceeds from the carnival will go back into the community to support projects in Wilton as well as global humanitarian programs led by Rotary International. Rotary Club of Wilton is a service club of volunteers with a goal of providing support and funding for local community improvement projects\, non-profit agencies\, youth leadership initiatives\, international humanitarian programs\, and polio eradication worldwide.
URL:https://wiltonchamber.com/event-detail/wilton-rotary-carnival-2023/
LOCATION:Wilton High School – Carnival Location\, Corner of Danbury Road and School Road\, Wilton\, CT\, 06897\, United States
CATEGORIES:Community Events,Rotary Carnival
ATTACH;FMTTYPE=image/png:https://wiltonchamber.com/wp-content/uploads/2023/08/2023-Rotary-Club-Carnival-Flyer-Instagram-Post-Square.png
END:VEVENT
END:VCALENDAR