BEGIN:VCALENDAR
VERSION:2.0
PRODID:-//Wilton Chamber of Commerce - ECPv6.15.18//NONSGML v1.0//EN
CALSCALE:GREGORIAN
METHOD:PUBLISH
X-ORIGINAL-URL:https://wiltonchamber.com
X-WR-CALDESC:Events for Wilton Chamber of Commerce
REFRESH-INTERVAL;VALUE=DURATION:PT1H
X-Robots-Tag:noindex
X-PUBLISHED-TTL:PT1H
BEGIN:VTIMEZONE
TZID:America/New_York
BEGIN:DAYLIGHT
TZOFFSETFROM:-0500
TZOFFSETTO:-0400
TZNAME:EDT
DTSTART:20210314T070000
END:DAYLIGHT
BEGIN:STANDARD
TZOFFSETFROM:-0400
TZOFFSETTO:-0500
TZNAME:EST
DTSTART:20211107T060000
END:STANDARD
BEGIN:DAYLIGHT
TZOFFSETFROM:-0500
TZOFFSETTO:-0400
TZNAME:EDT
DTSTART:20220313T070000
END:DAYLIGHT
BEGIN:STANDARD
TZOFFSETFROM:-0400
TZOFFSETTO:-0500
TZNAME:EST
DTSTART:20221106T060000
END:STANDARD
BEGIN:DAYLIGHT
TZOFFSETFROM:-0500
TZOFFSETTO:-0400
TZNAME:EDT
DTSTART:20230312T070000
END:DAYLIGHT
BEGIN:STANDARD
TZOFFSETFROM:-0400
TZOFFSETTO:-0500
TZNAME:EST
DTSTART:20231105T060000
END:STANDARD
END:VTIMEZONE
BEGIN:VEVENT
DTSTART;TZID=America/New_York:20220519T163000
DTEND;TZID=America/New_York:20220519T173000
DTSTAMP:20260423T062947
CREATED:20220510T141051Z
LAST-MODIFIED:20230405T172031Z
UID:10000089-1652977800-1652981400@wiltonchamber.com
SUMMARY:Ribbon Cutting - Wilton Dental Associates
DESCRIPTION:All are invited for a ribbon cutting ceremony for Wilton Dental Associates on Thursday May 19th. Welcome reception begins at 4:30pm with light bites\, refreshments and swag bags for everyone! Tour their office\, meet the staff and get to know Dr. Becky D’Andrea. \n“I am humbled and grateful to be part of the Wilton community! I want to make a difference in our world…whether it be through my dental practice and team OR through the connections we make through this wonderful\, rich community. My life-long dream was to have my own dental practice in a small town and take care of people the old fashioned way. We are a treat-you-like-family dental practice with a holistic\, airway-centric approach.  We truly take the time to connect with our patients. Please let us know how we can be of service to you and your family!” – Dr. Beckie D’Andrea \nWilton Dental Associates\n44 Old Ridgefield Road – Suite 212\nWilton\, CT 06897\n203-418-7723 \nRSVP HERE: \n	\n	\n			\n		\n						\n				\n				\n                \n			\n			\n						\n				Payment options\n				\n				 				 \n    			 				\n				\n			\n			\n							\n					Please enter the security code\n					\n						\n					\n					\n				\n				\n					Security Code (lowercase letters)\n					\n						\n						\n					\n					\n				\n						\n			\n						Submit Reservation
URL:https://wiltonchamber.com/event-detail/ribbon-cutting-wilton-dental-associates/
LOCATION:WP Router Placeholder Page\, CT
CATEGORIES:Ribbon Cutting
ATTACH;FMTTYPE=image/jpeg:https://wiltonchamber.com/wp-content/uploads/2022/03/Wilton-Dental-Associates-ribbon-cutting-1.jpg
END:VEVENT
END:VCALENDAR