BEGIN:VCALENDAR
VERSION:2.0
PRODID:-//Wilton Chamber of Commerce - ECPv6.15.18//NONSGML v1.0//EN
CALSCALE:GREGORIAN
METHOD:PUBLISH
X-WR-CALNAME:Wilton Chamber of Commerce
X-ORIGINAL-URL:https://wiltonchamber.com
X-WR-CALDESC:Events for Wilton Chamber of Commerce
REFRESH-INTERVAL;VALUE=DURATION:PT1H
X-Robots-Tag:noindex
X-PUBLISHED-TTL:PT1H
BEGIN:VTIMEZONE
TZID:America/New_York
BEGIN:DAYLIGHT
TZOFFSETFROM:-0500
TZOFFSETTO:-0400
TZNAME:EDT
DTSTART:20220313T070000
END:DAYLIGHT
BEGIN:STANDARD
TZOFFSETFROM:-0400
TZOFFSETTO:-0500
TZNAME:EST
DTSTART:20221106T060000
END:STANDARD
BEGIN:DAYLIGHT
TZOFFSETFROM:-0500
TZOFFSETTO:-0400
TZNAME:EDT
DTSTART:20230312T070000
END:DAYLIGHT
BEGIN:STANDARD
TZOFFSETFROM:-0400
TZOFFSETTO:-0500
TZNAME:EST
DTSTART:20231105T060000
END:STANDARD
BEGIN:DAYLIGHT
TZOFFSETFROM:-0500
TZOFFSETTO:-0400
TZNAME:EDT
DTSTART:20240310T070000
END:DAYLIGHT
BEGIN:STANDARD
TZOFFSETFROM:-0400
TZOFFSETTO:-0500
TZNAME:EST
DTSTART:20241103T060000
END:STANDARD
BEGIN:DAYLIGHT
TZOFFSETFROM:-0500
TZOFFSETTO:-0400
TZNAME:EDT
DTSTART:20250309T070000
END:DAYLIGHT
BEGIN:STANDARD
TZOFFSETFROM:-0400
TZOFFSETTO:-0500
TZNAME:EST
DTSTART:20251102T060000
END:STANDARD
BEGIN:DAYLIGHT
TZOFFSETFROM:-0500
TZOFFSETTO:-0400
TZNAME:EDT
DTSTART:20260308T070000
END:DAYLIGHT
BEGIN:STANDARD
TZOFFSETFROM:-0400
TZOFFSETTO:-0500
TZNAME:EST
DTSTART:20261101T060000
END:STANDARD
END:VTIMEZONE
BEGIN:VEVENT
DTSTART;TZID=America/New_York:20250606T100000
DTEND;TZID=America/New_York:20250606T150000
DTSTAMP:20260423T024954
CREATED:20250225T162401Z
LAST-MODIFIED:20250225T162401Z
UID:10000662-1749204000-1749222000@wiltonchamber.com
SUMMARY:A Better Chance of Wilton House Tour
DESCRIPTION:Join us on Friday\, June 6\, 2025\, from 10 AM to 3 PM for “Opening Our Hearts and Homes for ABC\,” a special Wilton house tour featuring five distinctive and stunning properties. This unique event offers a glimpse into some of Wilton’s most beautiful homes while supporting A Better Chance of Wilton and its mission. \nFor over 25 years\, A Better Chance of Wilton has provided educational opportunities to highly motivated high school students of color from across the United States. With 55 past scholars and five current students\, the program creates a supportive environment that fosters academic excellence and prepares students for college and beyond. Fully funded by private donations\, ABC Wilton continues to make a meaningful difference in the lives of its Scholars. \nThis year’s event is held in loving memory of George Andrew Davola III\, a former board member and dedicated supporter of A Better Chance of Wilton. His commitment to the program helped shape the opportunities available to our scholars\, and his legacy continues to inspire our work. \nSponsorship and ticket information can be found here: https://abcwilton.org/2025-house-tour/
URL:https://wiltonchamber.com/event-detail/a-better-chance-of-wilton-house-tour/
LOCATION:Wilton\, CT
CATEGORIES:Community Events,Fundraiser
ATTACH;FMTTYPE=image/png:https://wiltonchamber.com/wp-content/uploads/2025/02/Version-1.png
END:VEVENT
BEGIN:VEVENT
DTSTART;VALUE=DATE:20231031
DTEND;VALUE=DATE:20231202
DTSTAMP:20260423T024954
CREATED:20231030T172715Z
LAST-MODIFIED:20231030T172715Z
UID:10000218-1698710400-1701475199@wiltonchamber.com
SUMMARY:Circle of Care Holiday Toy Drive
DESCRIPTION:Give the gift of a smile this holiday season! Last year\, our drive provided gift packages for over 125 children facing a cancer diagnosis. There are many ways to get involved with our holiday gift drive. Become one of Binky’s Porch Elves and help deliver joy to children with cancer in Connecticut. \nCircle of Care’s holiday gift drive will provide custom gift packages to children with cancer who have been helped by our Financial Assistance program this year with the items collected and delivered by generous “elves” like you! If you or your organization would like to host a physical collection drive for gift items\, please email emma.flanagan@thecircleofcare.org to be provided with a list of suggested items to kickstart your drive. \nOur gift drive relies on donations of items\, monetary donations\, and delivery volunteers to ensure we can brighten the holiday season for as many families as possible. \nAll gifts\, though\, will need to be received by Circle of Care by Friday\, December 1st so our volunteer elves have time to sort\, wrap\, and deliver them to each child’s front door!
URL:https://wiltonchamber.com/event-detail/circle-of-care-holiday-toy-drive/
LOCATION:Wilton\, CT
CATEGORIES:Community Events,Fundraiser
ATTACH;FMTTYPE=image/jpeg:https://wiltonchamber.com/wp-content/uploads/2023/10/Holiday-Toy-Drive-Flyer.jpg
ORGANIZER;CN="Circle of Care":MAILTO:lisa.williams@thecircleofcare.org
END:VEVENT
BEGIN:VEVENT
DTSTART;TZID=America/New_York:20230602T100000
DTEND;TZID=America/New_York:20230602T150000
DTSTAMP:20260423T024954
CREATED:20230330T180130Z
LAST-MODIFIED:20230405T171956Z
UID:10000139-1685700000-1685718000@wiltonchamber.com
SUMMARY:A Better Chance of Wilton's House Tour - 2023
DESCRIPTION:Come view six of Wilton’s extraordinary and inspiring homes throughout the day on Friday June 2nd. All proceeds benefit A Better Chance of Wilton. Sponsorships are currently available\, and tickets for the tour will be available in late April.
URL:https://wiltonchamber.com/event-detail/a-better-chance-of-wiltons-house-tour-2023/
LOCATION:Wilton\, CT
CATEGORIES:Community Events
ATTACH;FMTTYPE=image/jpeg:https://wiltonchamber.com/wp-content/uploads/2023/03/thumbnail_ABC-House-Tour-Save-the-Date1.jpg
END:VEVENT
BEGIN:VEVENT
DTSTART;TZID=America/New_York:20230513T090000
DTEND;TZID=America/New_York:20230513T120000
DTSTAMP:20260423T024954
CREATED:20230508T191631Z
LAST-MODIFIED:20230508T191631Z
UID:10000164-1683968400-1683979200@wiltonchamber.com
SUMMARY:Community Shred Day
DESCRIPTION:Bring your papers to shred! Please remove clips and binders. Suggested donation of $20 per box/bag of paper to benefit Wilton Go Green and Circle of Care.
URL:https://wiltonchamber.com/event-detail/community-shred-day/
LOCATION:Wilton\, CT
CATEGORIES:Community Events,Go Green Event
ATTACH;FMTTYPE=image/jpeg:https://wiltonchamber.com/wp-content/uploads/2023/05/Shredding-Day-Flyer-.jpg
ORGANIZER;CN="Circle of Care":MAILTO:lisa.williams@thecircleofcare.org
END:VEVENT
END:VCALENDAR