BEGIN:VCALENDAR
VERSION:2.0
PRODID:-//Wilton Chamber of Commerce - ECPv6.15.18//NONSGML v1.0//EN
CALSCALE:GREGORIAN
METHOD:PUBLISH
X-WR-CALNAME:Wilton Chamber of Commerce
X-ORIGINAL-URL:https://wiltonchamber.com
X-WR-CALDESC:Events for Wilton Chamber of Commerce
REFRESH-INTERVAL;VALUE=DURATION:PT1H
X-Robots-Tag:noindex
X-PUBLISHED-TTL:PT1H
BEGIN:VTIMEZONE
TZID:America/New_York
BEGIN:DAYLIGHT
TZOFFSETFROM:-0500
TZOFFSETTO:-0400
TZNAME:EDT
DTSTART:20230312T070000
END:DAYLIGHT
BEGIN:STANDARD
TZOFFSETFROM:-0400
TZOFFSETTO:-0500
TZNAME:EST
DTSTART:20231105T060000
END:STANDARD
BEGIN:DAYLIGHT
TZOFFSETFROM:-0500
TZOFFSETTO:-0400
TZNAME:EDT
DTSTART:20240310T070000
END:DAYLIGHT
BEGIN:STANDARD
TZOFFSETFROM:-0400
TZOFFSETTO:-0500
TZNAME:EST
DTSTART:20241103T060000
END:STANDARD
BEGIN:DAYLIGHT
TZOFFSETFROM:-0500
TZOFFSETTO:-0400
TZNAME:EDT
DTSTART:20250309T070000
END:DAYLIGHT
BEGIN:STANDARD
TZOFFSETFROM:-0400
TZOFFSETTO:-0500
TZNAME:EST
DTSTART:20251102T060000
END:STANDARD
END:VTIMEZONE
BEGIN:VEVENT
DTSTART;TZID=America/New_York:20241114T183000
DTEND;TZID=America/New_York:20241114T194500
DTSTAMP:20260423T050016
CREATED:20241107T163414Z
LAST-MODIFIED:20241107T163414Z
UID:10000605-1731609000-1731613500@wiltonchamber.com
SUMMARY:Take Charge of Your Electricity: Part 2
DESCRIPTION:Dr. Lampe-Onnerud’s presentation will delve into how battery storage systems can revolutionize household energy management by reducing electricity costs\, enhancing grid stability\, and mitigating environmental impact. \n*As we get closer to the event\, registered participants will receive an email with the chance to sign up for a 10-minute conference with a Cadenza representative to learn a little bit more about a battery system in their own home. This does not take the place of a full consultation that would be required to move forward with a system in your home but gives you a chance to ask a few more personal questions about your property. \n** Advanced registration required**
URL:https://wiltonchamber.com/event-detail/take-charge-of-your-electricity-part-2/
LOCATION:Wilton Congregational Church\, 70 Ridgefield Rd\, Wilton\, CT\, 06897\, United States
CATEGORIES:Community Events,Go Green Event
ATTACH;FMTTYPE=image/png:https://wiltonchamber.com/wp-content/uploads/2024/11/2023-green-speaker-template-16-1.png
END:VEVENT
END:VCALENDAR