BEGIN:VCALENDAR
VERSION:2.0
PRODID:-//Wilton Chamber of Commerce - ECPv6.15.18//NONSGML v1.0//EN
CALSCALE:GREGORIAN
METHOD:PUBLISH
X-ORIGINAL-URL:https://wiltonchamber.com
X-WR-CALDESC:Events for Wilton Chamber of Commerce
REFRESH-INTERVAL;VALUE=DURATION:PT1H
X-Robots-Tag:noindex
X-PUBLISHED-TTL:PT1H
BEGIN:VTIMEZONE
TZID:America/New_York
BEGIN:DAYLIGHT
TZOFFSETFROM:-0500
TZOFFSETTO:-0400
TZNAME:EDT
DTSTART:20230312T070000
END:DAYLIGHT
BEGIN:STANDARD
TZOFFSETFROM:-0400
TZOFFSETTO:-0500
TZNAME:EST
DTSTART:20231105T060000
END:STANDARD
BEGIN:DAYLIGHT
TZOFFSETFROM:-0500
TZOFFSETTO:-0400
TZNAME:EDT
DTSTART:20240310T070000
END:DAYLIGHT
BEGIN:STANDARD
TZOFFSETFROM:-0400
TZOFFSETTO:-0500
TZNAME:EST
DTSTART:20241103T060000
END:STANDARD
BEGIN:DAYLIGHT
TZOFFSETFROM:-0500
TZOFFSETTO:-0400
TZNAME:EDT
DTSTART:20250309T070000
END:DAYLIGHT
BEGIN:STANDARD
TZOFFSETFROM:-0400
TZOFFSETTO:-0500
TZNAME:EST
DTSTART:20251102T060000
END:STANDARD
END:VTIMEZONE
BEGIN:VEVENT
DTSTART;TZID=America/New_York:20240625T170000
DTEND;TZID=America/New_York:20240627T190000
DTSTAMP:20260423T042128
CREATED:20240620T192234Z
LAST-MODIFIED:20240620T192234Z
UID:10000398-1719334800-1719514800@wiltonchamber.com
SUMMARY:Auto Class 101
DESCRIPTION:Parents\, don’t let your kid doom scroll all summer long. Bring em down to the shop! \nFrom June 25-27th\, WHS students will join us for a hands-on experience learning about car maintenance\, essential safety protocols\, and exploring automotive careers! \nOur Summer Trade Camp is the perfect opportunity for new drivers to get hands-on experience under the hood and learn essential car care skills that will keep their first car running smoothly. \nSpace is limited\, so don’t miss out!\nhttps://www.trackside.org/summer-trade-camp-2024.html
URL:https://wiltonchamber.com/event-detail/auto-class-101/
LOCATION:Wilton Auto and Tire Center\, 658 Danbury Rd.\, Wilton\, CT\, 06897\, United States
CATEGORIES:Community Events
ATTACH;FMTTYPE=image/png:https://wiltonchamber.com/wp-content/uploads/2024/06/event.png
ORGANIZER;CN="Wilton Auto and Tire Center":MAILTO:mikel@wiltonautoandtire.com
END:VEVENT
END:VCALENDAR