BEGIN:VCALENDAR
VERSION:2.0
PRODID:-//Wilton Chamber of Commerce - ECPv6.15.18//NONSGML v1.0//EN
CALSCALE:GREGORIAN
METHOD:PUBLISH
X-WR-CALNAME:Wilton Chamber of Commerce
X-ORIGINAL-URL:https://wiltonchamber.com
X-WR-CALDESC:Events for Wilton Chamber of Commerce
REFRESH-INTERVAL;VALUE=DURATION:PT1H
X-Robots-Tag:noindex
X-PUBLISHED-TTL:PT1H
BEGIN:VTIMEZONE
TZID:America/New_York
BEGIN:DAYLIGHT
TZOFFSETFROM:-0500
TZOFFSETTO:-0400
TZNAME:EDT
DTSTART:20250309T070000
END:DAYLIGHT
BEGIN:STANDARD
TZOFFSETFROM:-0400
TZOFFSETTO:-0500
TZNAME:EST
DTSTART:20251102T060000
END:STANDARD
BEGIN:DAYLIGHT
TZOFFSETFROM:-0500
TZOFFSETTO:-0400
TZNAME:EDT
DTSTART:20260308T070000
END:DAYLIGHT
BEGIN:STANDARD
TZOFFSETFROM:-0400
TZOFFSETTO:-0500
TZNAME:EST
DTSTART:20261101T060000
END:STANDARD
BEGIN:DAYLIGHT
TZOFFSETFROM:-0500
TZOFFSETTO:-0400
TZNAME:EDT
DTSTART:20270314T070000
END:DAYLIGHT
BEGIN:STANDARD
TZOFFSETFROM:-0400
TZOFFSETTO:-0500
TZNAME:EST
DTSTART:20271107T060000
END:STANDARD
END:VTIMEZONE
BEGIN:VEVENT
DTSTART;TZID=America/New_York:20260513T110000
DTEND;TZID=America/New_York:20260513T140000
DTSTAMP:20260424T213836
CREATED:20260424T190545Z
LAST-MODIFIED:20260424T190545Z
UID:10001531-1778670000-1778680800@wiltonchamber.com
SUMMARY:Domestic Violence Crisis Center's Voices of Courage Spring Luncheon
DESCRIPTION:Please join us for the Domestic Violence Crisis Center’s 24th Annual Voices of Courage Spring Luncheon! \nWe’ll gather at the beautiful Tokeneke Club for an inspiring afternoon featuring a powerful speaker\, Judith Clark\, Director of Survivors Justice Project\, who is at the forefront of advocacy for domestic violence survivor justice legislation\, working tirelessly to create a more compassionate and equitable legal system for those rebuilding their lives. This is a wonderful opportunity to learn\, connect\, and discover how together we can support and sustain the vital services Domestic Violence Crisis Center provides. \nEvery day\, we work to ensure that everyone has access to the help they need to build safer lives for themselves and their families. Your presence at this event makes that mission possible.
URL:https://wiltonchamber.com/event-detail/domestic-violence-crisis-centers-voices-of-courage-spring-luncheon/
LOCATION:Tokeneke Club\, 4 Butlers Island Rd\, Darien\, CT\, 06820\, United States
CATEGORIES:Community Events
ORGANIZER;CN="Domestic Violence Crisis Center":MAILTO:ahenry@dvccct.org
END:VEVENT
END:VCALENDAR