BEGIN:VCALENDAR
VERSION:2.0
PRODID:-//Wilton Chamber of Commerce - ECPv6.15.18//NONSGML v1.0//EN
CALSCALE:GREGORIAN
METHOD:PUBLISH
X-ORIGINAL-URL:https://wiltonchamber.com
X-WR-CALDESC:Events for Wilton Chamber of Commerce
REFRESH-INTERVAL;VALUE=DURATION:PT1H
X-Robots-Tag:noindex
X-PUBLISHED-TTL:PT1H
BEGIN:VTIMEZONE
TZID:America/New_York
BEGIN:DAYLIGHT
TZOFFSETFROM:-0500
TZOFFSETTO:-0400
TZNAME:EDT
DTSTART:20230312T070000
END:DAYLIGHT
BEGIN:STANDARD
TZOFFSETFROM:-0400
TZOFFSETTO:-0500
TZNAME:EST
DTSTART:20231105T060000
END:STANDARD
BEGIN:DAYLIGHT
TZOFFSETFROM:-0500
TZOFFSETTO:-0400
TZNAME:EDT
DTSTART:20240310T070000
END:DAYLIGHT
BEGIN:STANDARD
TZOFFSETFROM:-0400
TZOFFSETTO:-0500
TZNAME:EST
DTSTART:20241103T060000
END:STANDARD
BEGIN:DAYLIGHT
TZOFFSETFROM:-0500
TZOFFSETTO:-0400
TZNAME:EDT
DTSTART:20250309T070000
END:DAYLIGHT
BEGIN:STANDARD
TZOFFSETFROM:-0400
TZOFFSETTO:-0500
TZNAME:EST
DTSTART:20251102T060000
END:STANDARD
END:VTIMEZONE
BEGIN:VEVENT
DTSTART;TZID=America/New_York:20240613T183000
DTEND;TZID=America/New_York:20240613T230000
DTSTAMP:20260423T025030
CREATED:20240320T171954Z
LAST-MODIFIED:20240320T171954Z
UID:10000364-1718303400-1718319600@wiltonchamber.com
SUMMARY:Circle of Care 20th Anniversary Gala
DESCRIPTION:Over the past two decades\, Circle of Care has grown\, and we’ve nurtured. Our commitment to the families in our Circle is as solid as ever. Our 20th Anniversary marks a moment that is not only a celebration of our past achievements but a pivotal stepping stone\, propelling us toward our next phase of growth and impact. \nPlease join us for our 20th Anniversary Gala fundraiser. Its theme\, “Kaleidoscope – Colors of Courage\,” celebrates the boundless spirit\, strength\, and courage of our children and families facing cancer.
URL:https://wiltonchamber.com/event-detail/circle-of-care-20th-anniversary-gala/
LOCATION:The Loading Dock Stamford\, 375 Fairfield Ave\, Stamford\, CT\, 06902\, United States
CATEGORIES:Community Events,Fundraiser,Spring Gala
ATTACH;FMTTYPE=image/jpeg:https://wiltonchamber.com/wp-content/uploads/2024/03/FINAL-Save-The-Date-FRONT-0129.jpg
ORGANIZER;CN="Circle of Care":MAILTO:lisa.williams@thecircleofcare.org
END:VEVENT
END:VCALENDAR