BEGIN:VCALENDAR
VERSION:2.0
PRODID:-//Wilton Chamber of Commerce - ECPv6.15.18//NONSGML v1.0//EN
CALSCALE:GREGORIAN
METHOD:PUBLISH
X-WR-CALNAME:Wilton Chamber of Commerce
X-ORIGINAL-URL:https://wiltonchamber.com
X-WR-CALDESC:Events for Wilton Chamber of Commerce
REFRESH-INTERVAL;VALUE=DURATION:PT1H
X-Robots-Tag:noindex
X-PUBLISHED-TTL:PT1H
BEGIN:VTIMEZONE
TZID:America/New_York
BEGIN:DAYLIGHT
TZOFFSETFROM:-0500
TZOFFSETTO:-0400
TZNAME:EDT
DTSTART:20250309T070000
END:DAYLIGHT
BEGIN:STANDARD
TZOFFSETFROM:-0400
TZOFFSETTO:-0500
TZNAME:EST
DTSTART:20251102T060000
END:STANDARD
BEGIN:DAYLIGHT
TZOFFSETFROM:-0500
TZOFFSETTO:-0400
TZNAME:EDT
DTSTART:20260308T070000
END:DAYLIGHT
BEGIN:STANDARD
TZOFFSETFROM:-0400
TZOFFSETTO:-0500
TZNAME:EST
DTSTART:20261101T060000
END:STANDARD
BEGIN:DAYLIGHT
TZOFFSETFROM:-0500
TZOFFSETTO:-0400
TZNAME:EDT
DTSTART:20270314T070000
END:DAYLIGHT
BEGIN:STANDARD
TZOFFSETFROM:-0400
TZOFFSETTO:-0500
TZNAME:EST
DTSTART:20271107T060000
END:STANDARD
END:VTIMEZONE
BEGIN:VEVENT
DTSTART;TZID=America/New_York:20260425T100000
DTEND;TZID=America/New_York:20260425T120000
DTSTAMP:20260422T221407
CREATED:20260415T201448Z
LAST-MODIFIED:20260415T201448Z
UID:10001524-1777111200-1777118400@wiltonchamber.com
SUMMARY:The Goddard School of Wilton Spring Fling Open House
DESCRIPTION:Bring the whole family and experience everything that makes The Goddard School of Wilton so special. Each classroom will be open with engaging\, hands-on activities designed for all ages\, giving both current and prospective families a chance to explore\, play and connect with our incredible teachers. \nWe’ve planned an exciting lineup of entertainment and experiences\, including:\n– Live music\, singing songs and playing guitar throughout the event\n– Face painting featuring fun\, spring-themed designs\n– A temporary tattoo station kids will love\n– Our signature lemonade stand in support of Alex’s Lemonade Stand Foundation\n– Delicious treats and refreshing drinks for everyone to enjoy
URL:https://wiltonchamber.com/event-detail/the-goddard-school-of-wilton-spring-fling-open-house/
LOCATION:The Goddard School of Wilton\, 385 Danbury Road\, Wilton\, CT\, 06897\, United States
CATEGORIES:Community Events,Open House
ATTACH;FMTTYPE=image/png:https://wiltonchamber.com/wp-content/uploads/2026/04/Goddard-Spring-Fling.png
ORGANIZER;CN="The Goddard School of Wilton":MAILTO:WiltonCT@goddardschools.com
END:VEVENT
END:VCALENDAR