BEGIN:VCALENDAR
VERSION:2.0
PRODID:-//Wilton Chamber of Commerce - ECPv6.15.18//NONSGML v1.0//EN
CALSCALE:GREGORIAN
METHOD:PUBLISH
X-WR-CALNAME:Wilton Chamber of Commerce
X-ORIGINAL-URL:https://wiltonchamber.com
X-WR-CALDESC:Events for Wilton Chamber of Commerce
REFRESH-INTERVAL;VALUE=DURATION:PT1H
X-Robots-Tag:noindex
X-PUBLISHED-TTL:PT1H
BEGIN:VTIMEZONE
TZID:America/New_York
BEGIN:DAYLIGHT
TZOFFSETFROM:-0500
TZOFFSETTO:-0400
TZNAME:EDT
DTSTART:20220313T070000
END:DAYLIGHT
BEGIN:STANDARD
TZOFFSETFROM:-0400
TZOFFSETTO:-0500
TZNAME:EST
DTSTART:20221106T060000
END:STANDARD
BEGIN:DAYLIGHT
TZOFFSETFROM:-0500
TZOFFSETTO:-0400
TZNAME:EDT
DTSTART:20230312T070000
END:DAYLIGHT
BEGIN:STANDARD
TZOFFSETFROM:-0400
TZOFFSETTO:-0500
TZNAME:EST
DTSTART:20231105T060000
END:STANDARD
BEGIN:DAYLIGHT
TZOFFSETFROM:-0500
TZOFFSETTO:-0400
TZNAME:EDT
DTSTART:20240310T070000
END:DAYLIGHT
BEGIN:STANDARD
TZOFFSETFROM:-0400
TZOFFSETTO:-0500
TZNAME:EST
DTSTART:20241103T060000
END:STANDARD
BEGIN:DAYLIGHT
TZOFFSETFROM:-0500
TZOFFSETTO:-0400
TZNAME:EDT
DTSTART:20250309T070000
END:DAYLIGHT
BEGIN:STANDARD
TZOFFSETFROM:-0400
TZOFFSETTO:-0500
TZNAME:EST
DTSTART:20251102T060000
END:STANDARD
BEGIN:DAYLIGHT
TZOFFSETFROM:-0500
TZOFFSETTO:-0400
TZNAME:EDT
DTSTART:20260308T070000
END:DAYLIGHT
BEGIN:STANDARD
TZOFFSETFROM:-0400
TZOFFSETTO:-0500
TZNAME:EST
DTSTART:20261101T060000
END:STANDARD
END:VTIMEZONE
BEGIN:VEVENT
DTSTART;TZID=America/New_York:20251206T100000
DTEND;TZID=America/New_York:20251206T160000
DTSTAMP:20260423T030755
CREATED:20251023T155009Z
LAST-MODIFIED:20251023T155009Z
UID:10000933-1765015200-1765036800@wiltonchamber.com
SUMMARY:Cannon Grange Holiday Artisan Market
DESCRIPTION:Save the Date\nCannon Grange Holiday Artisan Market \nStop by and shop with 19 amazing artisans selling their High Quality items. \n$5.00 Entry Supports the Historic Cannon Grange and you receive a Raffle Ticket to enter into ANY\nraffle or drop your ticket into the bucket to win a Holiday Planter!!\nAlso – Bid on a Silent Auction! \nArtisans Attending\nAlevoil\nAmy Kahn Russell Jewelry\nBrooks Works Studio\nCharter Oak Creations\nFlickering Wick\nFour Legged & Fabulous\nGus Leather Goods\nThe Lady Ming Collection\nLaurie Berg Jewelry\nMillstone Farms\nOak & Vale\nScottish Fix Shortbread\nSmall Things Crochet\nTrades of Hope\nTurtle Moon Wellness\nWanke’s Yankee Hot Sauce\nWild Roses & Blooms\nWilton Kneads\nThe Wood Butcher \nWe look forward to seeing you on December 6 from 10:00-4:00 \n25 Cannon Road\nWilton
URL:https://wiltonchamber.com/event-detail/cannon-grange-holiday-artisan-market/
LOCATION:The Cannon Grange\, 25 Cannon Road\, Wilton\, CT
CATEGORIES:Community Events,Fundraiser,Pop Up Market,Shop Wilton
ATTACH;FMTTYPE=image/png:https://wiltonchamber.com/wp-content/uploads/2025/10/2025-Holiday-Market-Ad-Instagram.png
ORGANIZER;CN="The Cannon Grange":MAILTO:Query@cannongrange.org
END:VEVENT
BEGIN:VEVENT
DTSTART;TZID=America/New_York:20251130T090000
DTEND;TZID=America/New_York:20251130T113000
DTSTAMP:20260423T030755
CREATED:20251023T155541Z
LAST-MODIFIED:20251023T160318Z
UID:10000934-1764493200-1764502200@wiltonchamber.com
SUMMARY:Breakfast with Santa Bill
DESCRIPTION:Enjoy Breakfast with Santa Bill & Elf Martin at the\nHistoric Cannon Grange \nYour $12 per person ticket (kids under 2 are free) includes: Delicious Pancake Breakfast\, Photo Opportunity with Santa\, Face Painting & Music. \nA fun event for the whole family! \nSunday November 30 (9-9:30\, 10:15-11 or 11:30-12:15)\nPick your Time Slot by registering at: https://www.signupgenius.com/go/10C0D4CABAC2AA4F8CE9-59789769-2025#/
URL:https://wiltonchamber.com/event-detail/breakfast-with-santa-bill/
LOCATION:The Cannon Grange\, 25 Cannon Road\, Wilton\, CT
CATEGORIES:Community Events
ATTACH;FMTTYPE=image/png:https://wiltonchamber.com/wp-content/uploads/2025/10/Cannon-Grange-Breakfast-with-Santa-BIll.png
ORGANIZER;CN="The Cannon Grange":MAILTO:Query@cannongrange.org
END:VEVENT
BEGIN:VEVENT
DTSTART;TZID=America/New_York:20241207T100000
DTEND;TZID=America/New_York:20241207T163000
DTSTAMP:20260423T030755
CREATED:20241117T193155Z
LAST-MODIFIED:20241117T193155Z
UID:10000611-1733565600-1733589000@wiltonchamber.com
SUMMARY:Cannon Grange Holiday Market
DESCRIPTION:Join us at The Cannon Grange for our Annual Holiday Market on December 7\, 2024 from 10-4! \nOur Market will feature Local Artisans selling amazing items. \n$5 Entry Fee – will enter you into a contest to win a decorated wreath! \nYou will have the opportunity to enter into raffles and silent auction items. \nFollow us on Instagram at CannonGrange152 or on Facebook at CannonGrange#152 for all the info on our artisans. \nWatch for our posts and follow us on FB (Cannon Grange #152Inc) & Instagram (cannongrange152) and future information! \nFunds collected help support our Historic Grange. We are Membership owned and continue to provide events throughout the year to help support a piece of Wilton history.
URL:https://wiltonchamber.com/event-detail/cannon-grange-holiday-market/
LOCATION:The Cannon Grange\, 25 Cannon Road\, Wilton\, CT
CATEGORIES:Community Events,Shop Wilton
ATTACH;FMTTYPE=image/png:https://wiltonchamber.com/wp-content/uploads/2024/11/Save-the-Date-2024-Holiday-Market.png
END:VEVENT
BEGIN:VEVENT
DTSTART;TZID=America/New_York:20241103T083000
DTEND;TZID=America/New_York:20241103T160000
DTSTAMP:20260423T030755
CREATED:20241018T155114Z
LAST-MODIFIED:20241018T155114Z
UID:10000436-1730622600-1730649600@wiltonchamber.com
SUMMARY:Photo with Santa at The Cannon Grange
DESCRIPTION:Join Santa Bill for a 15 minute photo session. Min of 4 Images Delivered Digitally with an all new Backdrop. \nAll Funds collected are donated to Shelters & Food Pantries in CT\nThis event is sponsored by the CT Santa Society. $100.00 per photo session. \nLocation : The Cannon Grange – 25 Cannon Road\, Wilton. \nClick on our Sign Up Genius Link to schedule your visit.
URL:https://wiltonchamber.com/event-detail/photo-with-santa-at-the-cannon-grange/2024-11-03/
LOCATION:The Cannon Grange\, 25 Cannon Road\, Wilton\, CT
CATEGORIES:Community Events,Fundraiser
ATTACH;FMTTYPE=image/png:https://wiltonchamber.com/wp-content/uploads/2024/10/2024-PHOTO-WITH-SANTA-qr-code.png
ORGANIZER;CN="The Cannon Grange":MAILTO:Query@cannongrange.org
END:VEVENT
BEGIN:VEVENT
DTSTART;TZID=America/New_York:20241102T083000
DTEND;TZID=America/New_York:20241102T160000
DTSTAMP:20260423T030755
CREATED:20241018T155114Z
LAST-MODIFIED:20241018T155114Z
UID:10000435-1730536200-1730563200@wiltonchamber.com
SUMMARY:Photo with Santa at The Cannon Grange
DESCRIPTION:Join Santa Bill for a 15 minute photo session. Min of 4 Images Delivered Digitally with an all new Backdrop. \nAll Funds collected are donated to Shelters & Food Pantries in CT\nThis event is sponsored by the CT Santa Society. $100.00 per photo session. \nLocation : The Cannon Grange – 25 Cannon Road\, Wilton. \nClick on our Sign Up Genius Link to schedule your visit.
URL:https://wiltonchamber.com/event-detail/photo-with-santa-at-the-cannon-grange/2024-11-02/
LOCATION:The Cannon Grange\, 25 Cannon Road\, Wilton\, CT
CATEGORIES:Community Events,Fundraiser
ATTACH;FMTTYPE=image/png:https://wiltonchamber.com/wp-content/uploads/2024/10/2024-PHOTO-WITH-SANTA-qr-code.png
ORGANIZER;CN="The Cannon Grange":MAILTO:Query@cannongrange.org
END:VEVENT
BEGIN:VEVENT
DTSTART;TZID=America/New_York:20240518T100000
DTEND;TZID=America/New_York:20240518T140000
DTSTAMP:20260423T030755
CREATED:20240410T164716Z
LAST-MODIFIED:20240410T164716Z
UID:10000376-1716026400-1716040800@wiltonchamber.com
SUMMARY:Repair Cafe
DESCRIPTION:Wilton Go Green and Cannon Grange have teamed up to host the Repair Café! \nOur Repair Café is a gathering place for members of our community to not only try and repair a treasured item and give it a chance at a second life\, but also learn alongside our volunteer fixers. And if we can’t fix it\, we can direct you to someone who can or at least know we tried. \nOur Repair Café is organized into two categories: \nRepairs – our fixers will bring their tools and spare parts\, take a look at your item and assess what they can do to help.\nConsultations – sit and talk with our experts to ask questions about your item and get some tips on repair \nTo learn more about our different fixers and to secure a spot head to https://wiltongogreen.org/repair-cafe/
URL:https://wiltonchamber.com/event-detail/repair-cafe-3/
LOCATION:The Cannon Grange\, 25 Cannon Road\, Wilton\, CT
CATEGORIES:Community Events
ATTACH;FMTTYPE=image/png:https://wiltonchamber.com/wp-content/uploads/2024/04/Spring-2024-Repair-Cafe-IG-2.png
END:VEVENT
BEGIN:VEVENT
DTSTART;TZID=America/New_York:20231111T100000
DTEND;TZID=America/New_York:20231111T140000
DTSTAMP:20260423T030755
CREATED:20231019T172946Z
LAST-MODIFIED:20231019T172946Z
UID:10000216-1699696800-1699711200@wiltonchamber.com
SUMMARY:Repair Cafe
DESCRIPTION:Wilton Go Green and Cannon Grange have teamed up once again to host our second Repair Café! \nOur Repair Café is a gathering place for members of our community to not only try and repair a treasured item and give it a chance at a second life\, but also learn alongside our volunteer fixers. And if we can’t fix it\, we will try to send you to someone who can or at least know we tried. \nOur generous\, talented\, volunteer fixers are available for repairs and consultations on bicycles\, small appliances\, lamps\, clothing/textiles\, computers\, gardens and jewelry. \nWe have made some changes to our format so please read our website carefully. \nAppointments are highly recommended. Walk-ins are welcome but there’s no guarantee.
URL:https://wiltonchamber.com/event-detail/repair-cafe-2/
LOCATION:The Cannon Grange\, 25 Cannon Road\, Wilton\, CT
CATEGORIES:Community Events
ATTACH;FMTTYPE=image/png:https://wiltonchamber.com/wp-content/uploads/2023/10/Fall-2023-Repair-Cafe-IG-2.png
END:VEVENT
BEGIN:VEVENT
DTSTART;TZID=America/New_York:20230930T140000
DTEND;TZID=America/New_York:20230930T160000
DTSTAMP:20260423T030755
CREATED:20230824T185057Z
LAST-MODIFIED:20230824T185057Z
UID:10000188-1696082400-1696089600@wiltonchamber.com
SUMMARY:Halloween Costume Exchange
DESCRIPTION:Our Third Annual Halloween Wilton Go Green Costume Exchange is coming!! \nI you haven’t participated in the past here’s how it works: \n1) Wilton Go Green holds collection days for clean\, complete costumes for ages 0-100! YES you can donate the costume you grabbed at last years exchange 🙂\n2) Names are collected from residents who donate as they get to “shop” first at the Costume Exchange.\n3) After the Donor shopping hour\, ANYONE can come try and find a Halloween Costume for members of their family – FOR FREE.\n4) ENJOY your costume! \nCollection Days\n1) Monday\, September 11th from 4:30pm-6:30pm at Cannondale Train Station\n2) Saturday\, September 16th from 9:00am-11:00am at Cannondale Train Station\n3) Wednesday\, September 27th from Noon – 5:00pm at the Wilton Farmer’s Market \nCostume Exchange\nSaturday\, September 30th\nCannon Grange\n25 Cannon Road \n2:00pm – 3:00pm – Open to those who donated costumes\n3:00pm – 4:00pm – Open to everyone
URL:https://wiltonchamber.com/event-detail/halloween-costume-exchange/
LOCATION:The Cannon Grange\, 25 Cannon Road\, Wilton\, CT
CATEGORIES:Community Events
ATTACH;FMTTYPE=image/png:https://wiltonchamber.com/wp-content/uploads/2023/08/Halloween-Costume-Exchange-email-header.png
END:VEVENT
BEGIN:VEVENT
DTSTART;TZID=America/New_York:20230422T100000
DTEND;TZID=America/New_York:20230422T140000
DTSTAMP:20260423T030755
CREATED:20230330T180425Z
LAST-MODIFIED:20230417T181500Z
UID:10000140-1682157600-1682172000@wiltonchamber.com
SUMMARY:Repair Cafe
DESCRIPTION:​Come to the Wilton Repair Café and bring your favorite household items and clothing for fixing! It’s a FREE service! \nHere’s how to participate; \nVisit Wilton Go Green and secure your time slot to bring in your designated item for repairs\, advice or referrals. More than one item can be brought in as long as you sign up for the corresponding number of 30 minute time slots. Walk-ins are welcome to wait for an open time slot with a fixer. ​https://wiltongogreen.org/repair-cafe/ \nFor repairs\, our expert and volunteer fixers will bring their tools and spare parts\, take a look at your item and assess what they can do to help. For consultations\, our experts are here to answer your questions and provide repair tips. \nCannon Grange members will be hosting a kick off tree planting at 10am and will have a seed planting activity throughout the event. \nItems for Repair:\nBicycles – seat adjustment\, squeaky brakes\, chain issues\, flat tires\nToys\nJewelry – clasps\, extend\, cleaning\nSmall appliances/lamps\nClothing – buttons\, patches\, holes\, knitting projects\, small hems\, stuffed animals/loveys \nItems for Consultations:\nHouse plants and gardens\nWoodworking\nTech Support – updates\, scam alerts\, connectivity issues\, diagnostics \nCome on down! \nSaturday\, April 22nd – EARTH DAY\n10:00am – 2:00pm at the Cannon Grange. 25 Cannon Road\, Wilton. \nQuestions? Email info@wiltongogreen.org
URL:https://wiltonchamber.com/event-detail/repair-cafe/
LOCATION:The Cannon Grange\, 25 Cannon Road\, Wilton\, CT
CATEGORIES:Community Events
ATTACH;FMTTYPE=image/png:https://wiltonchamber.com/wp-content/uploads/2023/03/Repair-Cafe-for-GMW.png
END:VEVENT
END:VCALENDAR