BEGIN:VCALENDAR
VERSION:2.0
PRODID:-//Wilton Chamber of Commerce - ECPv6.15.18//NONSGML v1.0//EN
CALSCALE:GREGORIAN
METHOD:PUBLISH
X-ORIGINAL-URL:https://wiltonchamber.com
X-WR-CALDESC:Events for Wilton Chamber of Commerce
REFRESH-INTERVAL;VALUE=DURATION:PT1H
X-Robots-Tag:noindex
X-PUBLISHED-TTL:PT1H
BEGIN:VTIMEZONE
TZID:America/New_York
BEGIN:DAYLIGHT
TZOFFSETFROM:-0500
TZOFFSETTO:-0400
TZNAME:EDT
DTSTART:20190310T070000
END:DAYLIGHT
BEGIN:STANDARD
TZOFFSETFROM:-0400
TZOFFSETTO:-0500
TZNAME:EST
DTSTART:20191103T060000
END:STANDARD
BEGIN:DAYLIGHT
TZOFFSETFROM:-0500
TZOFFSETTO:-0400
TZNAME:EDT
DTSTART:20200308T070000
END:DAYLIGHT
BEGIN:STANDARD
TZOFFSETFROM:-0400
TZOFFSETTO:-0500
TZNAME:EST
DTSTART:20201101T060000
END:STANDARD
BEGIN:DAYLIGHT
TZOFFSETFROM:-0500
TZOFFSETTO:-0400
TZNAME:EDT
DTSTART:20210314T070000
END:DAYLIGHT
BEGIN:STANDARD
TZOFFSETFROM:-0400
TZOFFSETTO:-0500
TZNAME:EST
DTSTART:20211107T060000
END:STANDARD
BEGIN:DAYLIGHT
TZOFFSETFROM:-0500
TZOFFSETTO:-0400
TZNAME:EDT
DTSTART:20220313T070000
END:DAYLIGHT
BEGIN:STANDARD
TZOFFSETFROM:-0400
TZOFFSETTO:-0500
TZNAME:EST
DTSTART:20221106T060000
END:STANDARD
BEGIN:DAYLIGHT
TZOFFSETFROM:-0500
TZOFFSETTO:-0400
TZNAME:EDT
DTSTART:20230312T070000
END:DAYLIGHT
BEGIN:STANDARD
TZOFFSETFROM:-0400
TZOFFSETTO:-0500
TZNAME:EST
DTSTART:20231105T060000
END:STANDARD
BEGIN:DAYLIGHT
TZOFFSETFROM:-0500
TZOFFSETTO:-0400
TZNAME:EDT
DTSTART:20240310T070000
END:DAYLIGHT
BEGIN:STANDARD
TZOFFSETFROM:-0400
TZOFFSETTO:-0500
TZNAME:EST
DTSTART:20241103T060000
END:STANDARD
END:VTIMEZONE
BEGIN:VEVENT
DTSTART;TZID=America/New_York:20230613T170000
DTEND;TZID=America/New_York:20230613T183000
DTSTAMP:20260423T062557
CREATED:20230601T151607Z
LAST-MODIFIED:20230601T151607Z
UID:10000175-1686675600-1686681000@wiltonchamber.com
SUMMARY:Wine + UnWINEd : An Alzheimer’s Association Fundraiser
DESCRIPTION:Join us for an evening of yoga\, refreshments and fundraising to support The Alzheimer’s Association. Yoga class will be held from 5:00 p.m. – 6:00 p.m. followed by refreshments and fundraising on our outdoor patio. \nSuggested donation of $20 to participate\, includes 2 raffle tickets and a yoga mat! \nFor more information or to RSVP please call Ellie at 203-423-7500 or email eleanor.kirke@sunriseseniorliving.com
URL:https://wiltonchamber.com/event-detail/wine-unwined-an-alzheimers-association-fundraiser/
LOCATION:Sunrise Senior Living\, 211 Danbury Road\, Wilton\, CT\, 06897\, United States
CATEGORIES:Community Events,Fundraiser
ATTACH;FMTTYPE=image/png:https://wiltonchamber.com/wp-content/uploads/2023/05/1.png
ORGANIZER;CN="Sunrise of Wilton":MAILTO:Eleanor.kirke@sunriseseniorliving.com
END:VEVENT
BEGIN:VEVENT
DTSTART;TZID=America/New_York:20211103T120000
DTEND;TZID=America/New_York:20211117T160000
DTSTAMP:20260423T062557
CREATED:20211025T204858Z
LAST-MODIFIED:20230405T172035Z
UID:10000091-1635940800-1637164800@wiltonchamber.com
SUMMARY:Wilton Pop Up Market
DESCRIPTION:The Chamber of Commerce together with Sunrise of Wilton proudly presents our 1st Wilton Pop Up Market! All are invited to join us on on Nov. 3\, 10\, and 17\, 2021 between 12:00 – 4:00 pm to shop and find great steals and deals for the upcoming holiday season! \nThis outdoor pop up market will be located on the manicured grounds of Sunrise of Wilton (211 Danbury Road Wilton\, CT 06897) and will comprise of local artisans\, florists\, crafters\, bakers\, and small businesses from Wilton and neighboring towns. Ample parking is available\, and complimentary lite bites and refreshments will be provided by our host as you shop the afternoon away! \nParticipating vendors are: \n\nAshleigh Pascarella Pottery\nHannah May Designs\nKate and  Company\nKebella Beauty Care\nNayar’s Gifts\nNicky Serrano Art\nNoonday Collection with Kate\nOasis Senior Advisors CT-NY\nThe Healing Herb Garden\nThe Perfect Stitch\nTJ’s Cookie Jar\nVintage by Winters \nYour CBD Store – Wilton\n\n  \n 
URL:https://wiltonchamber.com/event-detail/wilton-pop-up-market/
LOCATION:CT
CATEGORIES:Pop Up Market,Shop Wilton
ATTACH;FMTTYPE=image/png:https://wiltonchamber.com/wp-content/uploads/2022/03/Sunrise-Pop-Up-Thumbnail.png
END:VEVENT
BEGIN:VEVENT
DTSTART;TZID=America/New_York:20200427T173000
DTEND;TZID=America/New_York:20200427T200000
DTSTAMP:20260423T062557
CREATED:20200303T192207Z
LAST-MODIFIED:20230405T172055Z
UID:10000104-1588008600-1588017600@wiltonchamber.com
SUMMARY:Taste of Wilton
DESCRIPTION:EVENT POSTPONED. DATE TO BE DETERMINED. We invite foodies and wine buffs  to sip\, sample and savor the finest that restaurateurs\, local chefs\, culinary personalities\, mixologists\, bakeries\, plus local liquor and specialty food retailers have to offer. A truly delectable array of cuisines and libations will be available so plan to gather at the new Sunrise Senior Living campus at 211 Danbury Road from 5:30-8:00 pm on Monday April 27. This event is supported by First County Bank and Kimco Realty. \nFor details\, contact info@wiltonchamber.com or 203-762-0567. \nTickets available in advance for $30 and at the door for $35.  Purchase advance tickets here:
URL:https://wiltonchamber.com/event-detail/a-taste-of-wilton/
LOCATION:CT
CATEGORIES:Taste of Wilton
ATTACH;FMTTYPE=image/png:https://wiltonchamber.com/wp-content/uploads/2021/04/Taste-logo-square-with-sponsors.png
END:VEVENT
END:VCALENDAR