BEGIN:VCALENDAR
VERSION:2.0
PRODID:-//Wilton Chamber of Commerce - ECPv6.15.18//NONSGML v1.0//EN
CALSCALE:GREGORIAN
METHOD:PUBLISH
X-ORIGINAL-URL:https://wiltonchamber.com
X-WR-CALDESC:Events for Wilton Chamber of Commerce
REFRESH-INTERVAL;VALUE=DURATION:PT1H
X-Robots-Tag:noindex
X-PUBLISHED-TTL:PT1H
BEGIN:VTIMEZONE
TZID:America/New_York
BEGIN:DAYLIGHT
TZOFFSETFROM:-0500
TZOFFSETTO:-0400
TZNAME:EDT
DTSTART:20210314T070000
END:DAYLIGHT
BEGIN:STANDARD
TZOFFSETFROM:-0400
TZOFFSETTO:-0500
TZNAME:EST
DTSTART:20211107T060000
END:STANDARD
BEGIN:DAYLIGHT
TZOFFSETFROM:-0500
TZOFFSETTO:-0400
TZNAME:EDT
DTSTART:20220313T070000
END:DAYLIGHT
BEGIN:STANDARD
TZOFFSETFROM:-0400
TZOFFSETTO:-0500
TZNAME:EST
DTSTART:20221106T060000
END:STANDARD
BEGIN:DAYLIGHT
TZOFFSETFROM:-0500
TZOFFSETTO:-0400
TZNAME:EDT
DTSTART:20230312T070000
END:DAYLIGHT
BEGIN:STANDARD
TZOFFSETFROM:-0400
TZOFFSETTO:-0500
TZNAME:EST
DTSTART:20231105T060000
END:STANDARD
END:VTIMEZONE
BEGIN:VEVENT
DTSTART;TZID=America/New_York:20221020T173000
DTEND;TZID=America/New_York:20221020T190000
DTSTAMP:20260423T181058
CREATED:20220920T233433Z
LAST-MODIFIED:20230405T172026Z
UID:10000084-1666287000-1666292400@wiltonchamber.com
SUMMARY:Sola Salons - Business After Hours
DESCRIPTION:Are you ready to get back to networking after the summer break? Join us for a one-of-a-kind ladies’ Business After Hours event hosted by Sola Salons and the beauty pros at their Wilton studio\, 5 River Road (Wilton River Park Shopping Center) on Thursday\, October 20th from 5:30 to 7:00 PM! Enjoy refreshments and hors d’oeuvres\, receive free goodie bags\,  and connect with other business owners and local women in our community! But you don’t have to do it alone\, RSVP and bring a friend for FREE!!! It’s business and pleasure  in one night! The event will be hosted by Sola Salons together with: \n\nEgdaly’s Rivera – Body Restoration Therapeutic Massage Studio (Massage\, Skincare\, Waxing)\nGalyna Kryvoruchko – Mediostar (Skincare\, Waxing\, Cosmetics)\nGenille York-de-Castro – Renew & Rejuvenate Skincare (Skincare\, Waxing)\nLaura Geiger – LG Salon (Hair\, Hair Extensions\, Keratins)\nMelissa Piney – Mel B Styling (Hair\, Hair Extensions)\nShannon Hector – Allura Hair Studio (Hair)\nSuzanne Wilson – Simply Skin (Skincare\, Brows/Lashes\, Waxing)\nTammy Parker – Beautiful You Salon (Hair\, Hair Extensions\, Natural Hair Care)\nViktoriia Afzal – Viktoria’s Hair Secret (Hair)\nZiggy P – Skin and Brows by Z (Skin and Brows)\n\n	\n	\n			\n		\n						\n				\n				\n                \n			\n			\n						\n				Payment options\n				\n				  				 \n    			 				\n				\n			\n			\n							\n					Please enter the security code\n					\n						\n					\n					\n				\n				\n					Security Code (lowercase letters)\n					\n						\n						\n					\n					\n				\n						\n			\n						Submit and Pay with PayPal
URL:https://wiltonchamber.com/event-detail/sola-salons-business-after-hours-2/
LOCATION:WP Router Placeholder Page\, Connecticut
CATEGORIES:BAH
ATTACH;FMTTYPE=image/png:https://wiltonchamber.com/wp-content/uploads/2023/01/Sola-BAH-insta-1024x1024-1.png
END:VEVENT
END:VCALENDAR