BEGIN:VCALENDAR
VERSION:2.0
PRODID:-//Wilton Chamber of Commerce - ECPv6.15.18//NONSGML v1.0//EN
CALSCALE:GREGORIAN
METHOD:PUBLISH
X-ORIGINAL-URL:https://wiltonchamber.com
X-WR-CALDESC:Events for Wilton Chamber of Commerce
REFRESH-INTERVAL;VALUE=DURATION:PT1H
X-Robots-Tag:noindex
X-PUBLISHED-TTL:PT1H
BEGIN:VTIMEZONE
TZID:America/New_York
BEGIN:DAYLIGHT
TZOFFSETFROM:-0500
TZOFFSETTO:-0400
TZNAME:EDT
DTSTART:20240310T070000
END:DAYLIGHT
BEGIN:STANDARD
TZOFFSETFROM:-0400
TZOFFSETTO:-0500
TZNAME:EST
DTSTART:20241103T060000
END:STANDARD
BEGIN:DAYLIGHT
TZOFFSETFROM:-0500
TZOFFSETTO:-0400
TZNAME:EDT
DTSTART:20250309T070000
END:DAYLIGHT
BEGIN:STANDARD
TZOFFSETFROM:-0400
TZOFFSETTO:-0500
TZNAME:EST
DTSTART:20251102T060000
END:STANDARD
BEGIN:DAYLIGHT
TZOFFSETFROM:-0500
TZOFFSETTO:-0400
TZNAME:EDT
DTSTART:20260308T070000
END:DAYLIGHT
BEGIN:STANDARD
TZOFFSETFROM:-0400
TZOFFSETTO:-0500
TZNAME:EST
DTSTART:20261101T060000
END:STANDARD
END:VTIMEZONE
BEGIN:VEVENT
DTSTART;TZID=America/New_York:20250612T120000
DTEND;TZID=America/New_York:20250612T133000
DTSTAMP:20260423T052657
CREATED:20250528T175023Z
LAST-MODIFIED:20250528T175023Z
UID:10000785-1749729600-1749735000@wiltonchamber.com
SUMMARY:League of Women Voters Wilton - Closing Lunch
DESCRIPTION:Please join the League of Women Voters Wilton at Simply Delicious (1 Danbury Road) on Thursday June 12\, 2025 – 12:00 pm for our Closing Lunch & Informal Conversation regarding this years legislative cycle. \nAsk questions of Wilton’s State Senator Ceci Maher and House Representative Savet Constantine \n$35.00 per person – Pay by Venmo (see QR Code on ad) Please RSVP by June 9 to: wiltonlwv@gmail.com
URL:https://wiltonchamber.com/event-detail/league-of-women-voters-wilton-closing-lunch/
LOCATION:Simple Delicious\, 1 Danbury Road\, Wilton\, CT\, 06897\, United States
CATEGORIES:Community Events
ATTACH;FMTTYPE=image/png:https://wiltonchamber.com/wp-content/uploads/2025/05/Legis.-Dialog-LWVW-email-rsvp.png
END:VEVENT
END:VCALENDAR