BEGIN:VCALENDAR
VERSION:2.0
PRODID:-//Wilton Chamber of Commerce - ECPv6.15.18//NONSGML v1.0//EN
CALSCALE:GREGORIAN
METHOD:PUBLISH
X-ORIGINAL-URL:https://wiltonchamber.com
X-WR-CALDESC:Events for Wilton Chamber of Commerce
REFRESH-INTERVAL;VALUE=DURATION:PT1H
X-Robots-Tag:noindex
X-PUBLISHED-TTL:PT1H
BEGIN:VTIMEZONE
TZID:America/New_York
BEGIN:DAYLIGHT
TZOFFSETFROM:-0500
TZOFFSETTO:-0400
TZNAME:EDT
DTSTART:20240310T070000
END:DAYLIGHT
BEGIN:STANDARD
TZOFFSETFROM:-0400
TZOFFSETTO:-0500
TZNAME:EST
DTSTART:20241103T060000
END:STANDARD
BEGIN:DAYLIGHT
TZOFFSETFROM:-0500
TZOFFSETTO:-0400
TZNAME:EDT
DTSTART:20250309T070000
END:DAYLIGHT
BEGIN:STANDARD
TZOFFSETFROM:-0400
TZOFFSETTO:-0500
TZNAME:EST
DTSTART:20251102T060000
END:STANDARD
BEGIN:DAYLIGHT
TZOFFSETFROM:-0500
TZOFFSETTO:-0400
TZNAME:EDT
DTSTART:20260308T070000
END:DAYLIGHT
BEGIN:STANDARD
TZOFFSETFROM:-0400
TZOFFSETTO:-0500
TZNAME:EST
DTSTART:20261101T060000
END:STANDARD
BEGIN:DAYLIGHT
TZOFFSETFROM:-0500
TZOFFSETTO:-0400
TZNAME:EDT
DTSTART:20270314T070000
END:DAYLIGHT
BEGIN:STANDARD
TZOFFSETFROM:-0400
TZOFFSETTO:-0500
TZNAME:EST
DTSTART:20271107T060000
END:STANDARD
END:VTIMEZONE
BEGIN:VEVENT
DTSTART;TZID=America/New_York:20260419T120000
DTEND;TZID=America/New_York:20260419T133000
DTSTAMP:20260423T013637
CREATED:20260311T172745Z
LAST-MODIFIED:20260311T172745Z
UID:10001469-1776600000-1776605400@wiltonchamber.com
SUMMARY:Stewardship Sunday with Wilton Land Trust and Trout Unlimited
DESCRIPTION:Join the Wilton Land Trust and Trout Unlimited to restore Norwalk River habitat at Schenck’s Island! \nStewardship Sundays bring together community members of all ages to care for Wilton’s natural landscapes and strengthen their connection to the environment. In just 1.5 hours\, participants help maintain trails\, restore biodiversity\, and support the long-term health of our preserves. \nThis welcoming\, hands-on program is open to everyone who wants to make a meaningful difference in our local environment. No experience necessary!
URL:https://wiltonchamber.com/event-detail/stewardship-sunday-with-wilton-land-trust-and-trout-unlimited/
LOCATION:Schenk’s Island\, 202 Old Ridgefield Rd #2\, Wilton\, CT\, 06897\, United States
CATEGORIES:Community Events
ATTACH;FMTTYPE=image/jpeg:https://wiltonchamber.com/wp-content/uploads/2026/03/2026-Stewardship-Sunday.jpg
END:VEVENT
BEGIN:VEVENT
DTSTART;TZID=America/New_York:20250717T170000
DTEND;TZID=America/New_York:20250717T210000
DTSTAMP:20260423T013637
CREATED:20250710T150133Z
LAST-MODIFIED:20250710T150133Z
UID:10000813-1752771600-1752786000@wiltonchamber.com
SUMMARY:Fairfield County Dance Festival Comes to Wilton for the First Time
DESCRIPTION:WILTON\, CT – Fresh off the heels of Wilton’s recent Food Truck Festival\, East Coast Contemporary Ballet in partnership with WildBloom Skincare is thrilled to announce the arrival of the Fairfield County Dance Festival to Wilton for the very first time—on Thursday\, July 17th at Schenck’s Island. \nThis event brings together world-class professional dance\, community celebration\, and local flavor for a free and unforgettable evening.\nThe festivities begin at 5:00 PM with a curated lineup of food trucks\, offering delicious\, diverse options for every craving. Food Trucks include\, Chef Jeff’s BBQ\, JJB Wood Fire Pizza Truck\, The Chamo\, Los Pablanos\, and Jim’s Ice Cream Truck! To enhance the community atmosphere\, all Wilton businesses were invited to host a FREE vendor table\, allowing attendees to explore local offerings and shopping while enjoying the festive environment. \nAt 5:30 PM\, the stage turns local with special community performances by talented young dancers from Norwalk Metropolitan Youth Ballet and a special kid’s pop up hip hop class from The Conservatory of Dance in Wilton—a proud showcase of Wilton’s youth and the strength of local arts education. \nThen\, at 6:30 PM\, the main event begins: a professional performance by the Fairfield County Dance Festival\, featuring dancers from East Coast Contemporary Ballet\, Thomas Ortiz Dance\, and Ballet Frontier. These companies bring breathtaking contemporary ballet to life in an outdoor setting that invites all ages and backgrounds to connect with the power of movement and music. \n“This is more than a show—it’s a cultural gift to our community\,” said WildBloom Skincare co-founder Alison Smith. “We’re proud to support East Coast Contemporary Ballet and help bring this kind of inspiring\, professional arts experience to Wilton\, blending culture\, community\, and celebration.” \nAttendees are encouraged to bring lawn chairs or picnic blankets\, come early for food and vendor shopping\, and stay for the artistry that transforms a summer night into something truly magical. \n📅 Event Details:\nDate: Thursday\, July 17\, 2025\nLocation: Schenck’s Island\nFood Trucks & Vendors: Start at 5:00 PM\nWilton Youth Dance Performances: 6:00 PM\nFairfield County Dance Festival Performance: 6:30 PM\nAdmission: FREE and open to the public \nABOUT THE FESTIVAL\nThe Fairfield County Dance Festival is an annual celebration of dance across towns in Fairfield County\, bringing together professional companies to make the performing arts more accessible and community-centered. Learn more at:\nhttps://fairfieldcountydancefestival.org \nABOUT EAST COAST CONTEMPORARY BALLET\nEast Coast Contemporary Ballet is a nonprofit\, professional dance company based in Fairfield County\, known for its original\, emotionally-driven choreography and dynamic ensemble of artists. It’s dedicated to sharing meaningful performances and fostering community engagement through dance. www.eccballet.org \nABOUT WILDBLOOM SKINCARE\nWildBloom Skincare is a Wilton-based beauty brand founded on sustainability\, purity\, and community. Committed to creating all-natural skincare with an emphasis on wellness and environmental responsibility\, WildBloom also proudly supports local arts\, youth development\, and women-owned business initiatives. Follow along @wildbloomskincare or visit www.wildbloomskincare.com
URL:https://wiltonchamber.com/event-detail/fairfield-county-dance-festival-comes-to-wilton-for-the-first-time/
LOCATION:Schenk’s Island\, 202 Old Ridgefield Rd #2\, Wilton\, CT\, 06897\, United States
CATEGORIES:Community Events
ATTACH;FMTTYPE=image/png:https://wiltonchamber.com/wp-content/uploads/2025/07/FFLD-COUNTY-DANCE-FESTIVAL-2.png
END:VEVENT
END:VCALENDAR