BEGIN:VCALENDAR
VERSION:2.0
PRODID:-//Wilton Chamber of Commerce - ECPv6.15.18//NONSGML v1.0//EN
CALSCALE:GREGORIAN
METHOD:PUBLISH
X-WR-CALNAME:Wilton Chamber of Commerce
X-ORIGINAL-URL:https://wiltonchamber.com
X-WR-CALDESC:Events for Wilton Chamber of Commerce
REFRESH-INTERVAL;VALUE=DURATION:PT1H
X-Robots-Tag:noindex
X-PUBLISHED-TTL:PT1H
BEGIN:VTIMEZONE
TZID:America/New_York
BEGIN:DAYLIGHT
TZOFFSETFROM:-0500
TZOFFSETTO:-0400
TZNAME:EDT
DTSTART:20250309T070000
END:DAYLIGHT
BEGIN:STANDARD
TZOFFSETFROM:-0400
TZOFFSETTO:-0500
TZNAME:EST
DTSTART:20251102T060000
END:STANDARD
BEGIN:DAYLIGHT
TZOFFSETFROM:-0500
TZOFFSETTO:-0400
TZNAME:EDT
DTSTART:20260308T070000
END:DAYLIGHT
BEGIN:STANDARD
TZOFFSETFROM:-0400
TZOFFSETTO:-0500
TZNAME:EST
DTSTART:20261101T060000
END:STANDARD
BEGIN:DAYLIGHT
TZOFFSETFROM:-0500
TZOFFSETTO:-0400
TZNAME:EDT
DTSTART:20270314T070000
END:DAYLIGHT
BEGIN:STANDARD
TZOFFSETFROM:-0400
TZOFFSETTO:-0500
TZNAME:EST
DTSTART:20271107T060000
END:STANDARD
END:VTIMEZONE
BEGIN:VEVENT
DTSTART;TZID=America/New_York:20260423T110000
DTEND;TZID=America/New_York:20260423T133000
DTSTAMP:20260422T204519
CREATED:20260323T164000Z
LAST-MODIFIED:20260323T170417Z
UID:10001506-1776942000-1776951000@wiltonchamber.com
SUMMARY:Wilton Woman’s Club 17th Annual Fashion Show Fundraiser
DESCRIPTION:Wilton Woman’s Club 17th Annual Fashion Show Fundraiser \nThe event starts with a silent auction\, wine pull\, and giving tree followed by the luncheon and fashion show with designs curated by\nThe Plumed Serpent Bridal and Evening Wear. \nThis year’s beneficiary is the Norwalk River Valley Trail (NRVT). Your support will help extend the trail and create a serene seating area in the North Wilton Loop. \nDon’t miss this always enjoyable event!
URL:https://wiltonchamber.com/event-detail/wilton-womans-club-17th-annual-fashion-show-fundraiser/
LOCATION:Rolling Hills Country Club\, 333 Hurlbutt Street\, Wilton\, CT\, 06897\, United States
CATEGORIES:Community Events
ATTACH;FMTTYPE=image/jpeg:https://wiltonchamber.com/wp-content/uploads/2026/03/WWC-Invite-2026-7-scaled.jpg
END:VEVENT
END:VCALENDAR