BEGIN:VCALENDAR
VERSION:2.0
PRODID:-//Wilton Chamber of Commerce - ECPv6.15.18//NONSGML v1.0//EN
CALSCALE:GREGORIAN
METHOD:PUBLISH
X-WR-CALNAME:Wilton Chamber of Commerce
X-ORIGINAL-URL:https://wiltonchamber.com
X-WR-CALDESC:Events for Wilton Chamber of Commerce
REFRESH-INTERVAL;VALUE=DURATION:PT1H
X-Robots-Tag:noindex
X-PUBLISHED-TTL:PT1H
BEGIN:VTIMEZONE
TZID:America/New_York
BEGIN:DAYLIGHT
TZOFFSETFROM:-0500
TZOFFSETTO:-0400
TZNAME:EDT
DTSTART:20230312T070000
END:DAYLIGHT
BEGIN:STANDARD
TZOFFSETFROM:-0400
TZOFFSETTO:-0500
TZNAME:EST
DTSTART:20231105T060000
END:STANDARD
BEGIN:DAYLIGHT
TZOFFSETFROM:-0500
TZOFFSETTO:-0400
TZNAME:EDT
DTSTART:20240310T070000
END:DAYLIGHT
BEGIN:STANDARD
TZOFFSETFROM:-0400
TZOFFSETTO:-0500
TZNAME:EST
DTSTART:20241103T060000
END:STANDARD
BEGIN:DAYLIGHT
TZOFFSETFROM:-0500
TZOFFSETTO:-0400
TZNAME:EDT
DTSTART:20250309T070000
END:DAYLIGHT
BEGIN:STANDARD
TZOFFSETFROM:-0400
TZOFFSETTO:-0500
TZNAME:EST
DTSTART:20251102T060000
END:STANDARD
BEGIN:DAYLIGHT
TZOFFSETFROM:-0500
TZOFFSETTO:-0400
TZNAME:EDT
DTSTART:20260308T070000
END:DAYLIGHT
BEGIN:STANDARD
TZOFFSETFROM:-0400
TZOFFSETTO:-0500
TZNAME:EST
DTSTART:20261101T060000
END:STANDARD
END:VTIMEZONE
BEGIN:VEVENT
DTSTART;TZID=America/New_York:20250305T180000
DTEND;TZID=America/New_York:20250305T190000
DTSTAMP:20260423T024406
CREATED:20250107T190619Z
LAST-MODIFIED:20250107T190619Z
UID:10000624-1741197600-1741201200@wiltonchamber.com
SUMMARY:CT Humane Society Animal Resource Center Info Session
DESCRIPTION:A fur-tastic animal resource center is coming to Fairfield County in 2025\, and you will want to be part of the pack! \nJoin an informal info session on Wednesday\, March 6th from 6:00 – 7:00 PM at the Ridgefield Library (472 Main Street\, Ridgefield\, CT) to get the inside scoop on this paws-itively heartwarming project. Get all the details on the public low-cost vet clinic\, pet food pantry\, and more programs changing local pets’ lives and the families who love them. Even sneak a peek at the building plans and design — think spacious play areas\, comfy napping nooks\, and outdoor playscapes where pets can run\, play\, and live their best lives. \nLearn about the CT Humane Society and volunteer opportunities\, or simply share a vision for a more humane community! Hand in paw with this animal resource center\, making a difference for pets in need. Mark your calendars and get ready to unleash your passion — this meet-up will be a total tail-wagger!\nThere is no cost to attend and you will not be solicited. This event is not sponsored by the Ridgefield Library. \nPLEASE RSVP to Kayleigh at kshettleworth@cthumane.org\, call 860-594-4502 ext. 6307\, or register online at https://cthumane.org/pets-need-you/campaign-events/ridgefield-library-info-session-rsvp/ \nCan’t make it? No worries! Contact Kayleigh at kshettleworth@cthumane.org or 860-594-4502 ext. 6307 to schedule another time to learn more about the project.
URL:https://wiltonchamber.com/event-detail/ct-humane-society-animal-resource-center-info-session-5/
LOCATION:Ridgefield Library\, 472 Main Street\, Ridgefield\, United States
CATEGORIES:Community Events
ATTACH;FMTTYPE=image/png:https://wiltonchamber.com/wp-content/uploads/2024/12/Ridgefield-Library-Mar.-2025-Session-Poster.png
ORGANIZER;CN="Connecticut Humane Society":MAILTO:kshettleworth@cthumane.org
END:VEVENT
BEGIN:VEVENT
DTSTART;TZID=America/New_York:20240905T180000
DTEND;TZID=America/New_York:20240905T190000
DTSTAMP:20260423T024406
CREATED:20240830T145630Z
LAST-MODIFIED:20240830T145630Z
UID:10000407-1725559200-1725562800@wiltonchamber.com
SUMMARY:CT Humane Society Animal Resource Center Info Session
DESCRIPTION:A fur-tastic animal resource center is coming to Fairfield County in 2025\, and you will want to be part of the pack! \nJoin an informal info session on Thursday\, September 5th from 6:00 – 7:00 PM at the Ridgefield Library (472 Main Street\, Ridgefield\, CT) to get the inside scoop on this paws-itively heartwarming project. Get all the details on the public low-cost vet clinic\, pet food pantry\, and more programs changing local pets’ lives and the families who love them. Even sneak a peek at the building plans and design — think spacious play areas\, comfy napping nooks\, and outdoor playscapes where pets can run\, play\, and live their best lives. \nLearn about the CT Humane Society and volunteer opportunities\, or simply share a vision for a more humane community! Hand in paw with this animal resource center\, making a difference for pets in need. Mark your calendars and get ready to unleash your passion — this meet-up will be a total tail-wagger! \nPlease RSVP to Kayleigh at kshettleworth@cthumane.org or 860-594-4502 ext. 6307. For more information about the project\, visit CThumane.org/Wilton. \nThere is no cost to attend and you will not be solicited. This event is not sponsored by the Ridgefield Library.
URL:https://wiltonchamber.com/event-detail/ct-humane-society-animal-resource-center-info-session-6/
LOCATION:Ridgefield Library\, 472 Main Street\, Ridgefield\, United States
CATEGORIES:Community Events
ATTACH;FMTTYPE=image/png:https://wiltonchamber.com/wp-content/uploads/2024/07/Ridgefield-Library-Social.png
ORGANIZER;CN="Connecticut Humane Society":MAILTO:kshettleworth@cthumane.org
END:VEVENT
END:VCALENDAR