BEGIN:VCALENDAR
VERSION:2.0
PRODID:-//Wilton Chamber of Commerce - ECPv6.15.18//NONSGML v1.0//EN
CALSCALE:GREGORIAN
METHOD:PUBLISH
X-WR-CALNAME:Wilton Chamber of Commerce
X-ORIGINAL-URL:https://wiltonchamber.com
X-WR-CALDESC:Events for Wilton Chamber of Commerce
REFRESH-INTERVAL;VALUE=DURATION:PT1H
X-Robots-Tag:noindex
X-PUBLISHED-TTL:PT1H
BEGIN:VTIMEZONE
TZID:America/New_York
BEGIN:DAYLIGHT
TZOFFSETFROM:-0500
TZOFFSETTO:-0400
TZNAME:EDT
DTSTART:20220313T070000
END:DAYLIGHT
BEGIN:STANDARD
TZOFFSETFROM:-0400
TZOFFSETTO:-0500
TZNAME:EST
DTSTART:20221106T060000
END:STANDARD
BEGIN:DAYLIGHT
TZOFFSETFROM:-0500
TZOFFSETTO:-0400
TZNAME:EDT
DTSTART:20230312T070000
END:DAYLIGHT
BEGIN:STANDARD
TZOFFSETFROM:-0400
TZOFFSETTO:-0500
TZNAME:EST
DTSTART:20231105T060000
END:STANDARD
BEGIN:DAYLIGHT
TZOFFSETFROM:-0500
TZOFFSETTO:-0400
TZNAME:EDT
DTSTART:20240310T070000
END:DAYLIGHT
BEGIN:STANDARD
TZOFFSETFROM:-0400
TZOFFSETTO:-0500
TZNAME:EST
DTSTART:20241103T060000
END:STANDARD
BEGIN:DAYLIGHT
TZOFFSETFROM:-0500
TZOFFSETTO:-0400
TZNAME:EDT
DTSTART:20250309T070000
END:DAYLIGHT
BEGIN:STANDARD
TZOFFSETFROM:-0400
TZOFFSETTO:-0500
TZNAME:EST
DTSTART:20251102T060000
END:STANDARD
END:VTIMEZONE
BEGIN:VEVENT
DTSTART;TZID=America/New_York:20240505T090000
DTEND;TZID=America/New_York:20240505T120000
DTSTAMP:20260423T043228
CREATED:20240320T164200Z
LAST-MODIFIED:20240320T164200Z
UID:10000363-1714899600-1714910400@wiltonchamber.com
SUMMARY:Circle of Care’s 5K Run/Walk
DESCRIPTION:Wilton based Circle of Care for families of children with cancer provides non-medical practical\, emotional and financial help for CT families in treatment since 2003. Proceeds from this event help provide critical support because we know kids need more than medicine to heal. With your help\, we can ensure no family has to face this journey alone. Join us for our 10th anniversary 5K Run/Walk and our after race tailgate that includes food and beverages\, DJ\, lawn games\, photo station and inspiration wall!
URL:https://wiltonchamber.com/event-detail/circle-of-cares-5k-run-walk-3/
LOCATION:Merwin Meadows\, 52 Lovers Lane\, Wilton\, 06897\, United States
CATEGORIES:5K Race,Community Events
ATTACH;FMTTYPE=image/png:https://wiltonchamber.com/wp-content/uploads/2024/03/5k-FLYER-2.png
ORGANIZER;CN="Circle of Care":MAILTO:lisa.williams@thecircleofcare.org
END:VEVENT
BEGIN:VEVENT
DTSTART;TZID=America/New_York:20230430T090000
DTEND;TZID=America/New_York:20230430T113000
DTSTAMP:20260423T043228
CREATED:20230419T153303Z
LAST-MODIFIED:20230419T153303Z
UID:10000154-1682845200-1682854200@wiltonchamber.com
SUMMARY:Circle of Care's 5K Run/Walk
DESCRIPTION:Join us for our 9th annual Care to Run/Walk and help support children in treatment for cancer in your community.
URL:https://wiltonchamber.com/event-detail/circle-of-cares-5k-run-walk-2/
LOCATION:Merwin Meadows\, 52 Lovers Lane\, Wilton\, 06897\, United States
CATEGORIES:5K Race,Community Events,Fundraiser
ATTACH;FMTTYPE=image/png:https://wiltonchamber.com/wp-content/uploads/2023/04/5K.png
ORGANIZER;CN="Circle of Care":MAILTO:lisa.williams@thecircleofcare.org
END:VEVENT
BEGIN:VEVENT
DTSTART;TZID=America/New_York:20230430T090000
DTEND;TZID=America/New_York:20230430T113000
DTSTAMP:20260423T043228
CREATED:20230323T163030Z
LAST-MODIFIED:20230405T172003Z
UID:10000129-1682845200-1682854200@wiltonchamber.com
SUMMARY:Circle of Care's 5K Run/Walk
DESCRIPTION:Wilton based Circle of Care for families of children with cancer provides non-medical practical\, emotional and financial help for CT families in treatment since 2003. Proceeds from this event help provide critical support because we know kids need more than medicine to heal. With your help\, we can ensure no family has to face this journey alone. Join us for this 5K Run/Walk and our after race tailgate that includes food and beverages\, DJ\, lawn games\, photo station and inspiration wall!
URL:https://wiltonchamber.com/event-detail/circle-of-cares-5k-run-walk/
LOCATION:Merwin Meadows\, 52 Lovers Lane\, Wilton\, 06897\, United States
CATEGORIES:Community Events
ATTACH;FMTTYPE=image/jpeg:https://wiltonchamber.com/wp-content/uploads/2023/03/CircleofCare5KRunWalk-copy.jpg
ORGANIZER;CN="Circle of Care":MAILTO:lisa.williams@thecircleofcare.org
END:VEVENT
END:VCALENDAR