BEGIN:VCALENDAR
VERSION:2.0
PRODID:-//Wilton Chamber of Commerce - ECPv6.15.18//NONSGML v1.0//EN
CALSCALE:GREGORIAN
METHOD:PUBLISH
X-ORIGINAL-URL:https://wiltonchamber.com
X-WR-CALDESC:Events for Wilton Chamber of Commerce
REFRESH-INTERVAL;VALUE=DURATION:PT1H
X-Robots-Tag:noindex
X-PUBLISHED-TTL:PT1H
BEGIN:VTIMEZONE
TZID:America/New_York
BEGIN:DAYLIGHT
TZOFFSETFROM:-0500
TZOFFSETTO:-0400
TZNAME:EDT
DTSTART:20240310T070000
END:DAYLIGHT
BEGIN:STANDARD
TZOFFSETFROM:-0400
TZOFFSETTO:-0500
TZNAME:EST
DTSTART:20241103T060000
END:STANDARD
BEGIN:DAYLIGHT
TZOFFSETFROM:-0500
TZOFFSETTO:-0400
TZNAME:EDT
DTSTART:20250309T070000
END:DAYLIGHT
BEGIN:STANDARD
TZOFFSETFROM:-0400
TZOFFSETTO:-0500
TZNAME:EST
DTSTART:20251102T060000
END:STANDARD
BEGIN:DAYLIGHT
TZOFFSETFROM:-0500
TZOFFSETTO:-0400
TZNAME:EDT
DTSTART:20260308T070000
END:DAYLIGHT
BEGIN:STANDARD
TZOFFSETFROM:-0400
TZOFFSETTO:-0500
TZNAME:EST
DTSTART:20261101T060000
END:STANDARD
BEGIN:DAYLIGHT
TZOFFSETFROM:-0500
TZOFFSETTO:-0400
TZNAME:EDT
DTSTART:20270314T070000
END:DAYLIGHT
BEGIN:STANDARD
TZOFFSETFROM:-0400
TZOFFSETTO:-0500
TZNAME:EST
DTSTART:20271107T060000
END:STANDARD
END:VTIMEZONE
BEGIN:VEVENT
DTSTART;TZID=America/New_York:20260321T130000
DTEND;TZID=America/New_York:20260321T170000
DTSTAMP:20260423T013738
CREATED:20260217T185830Z
LAST-MODIFIED:20260303T154500Z
UID:10001449-1774098000-1774112400@wiltonchamber.com
SUMMARY:Spring Carnival
DESCRIPTION:Join us for a fun-filled Spring Carnival on Saturday\, March 21\, 2026 from 1-5pm\, welcoming families and members of the Wilton community to celebrate the season together. This family-friendly event will feature games\, activities for children\, music\, and plenty of springtime fun for all ages. \nThe Spring Carnival is a wonderful opportunity to connect with the community\, enjoy festive activities\, and create lasting memories in a warm and welcoming environment. We invite everyone to stop by and celebrate the joy of spring with us.
URL:https://wiltonchamber.com/event-detail/spring-carnival/
LOCATION:Guidepost Montessori at Wilton\, 211 Danbury Road\, Wilton\, CT\, 06897\, United States
CATEGORIES:Community Events
ATTACH;FMTTYPE=image/jpeg:https://wiltonchamber.com/wp-content/uploads/2026/02/Guidepost-Montessori-Spring-Carnival-UPDATED.jpg
END:VEVENT
BEGIN:VEVENT
DTSTART;TZID=America/New_York:20260110T100000
DTEND;TZID=America/New_York:20260110T110000
DTSTAMP:20260423T013738
CREATED:20260107T191604Z
LAST-MODIFIED:20260107T191604Z
UID:10001394-1768039200-1768042800@wiltonchamber.com
SUMMARY:Open House Flower Arranging
DESCRIPTION:Join our Open House featuring a hands-on flower arranging activity! Families and children are invited to explore our classroom\, meet our team\, and enjoy a beautiful\, practical life inspired experience together. Children will have the opportunity to create their own floral arrangement while practicing care\, coordination\, and creativity. This event is a wonderful chance to connect with our community\, ask questions\, and experience the calm\, joyful environment we offer every day. We look forward to welcoming you and sharing a lovely morning together 🌼
URL:https://wiltonchamber.com/event-detail/open-house-flower-arranging/
LOCATION:Guidepost Montessori at Wilton\, 211 Danbury Road\, Wilton\, CT\, 06897\, United States
CATEGORIES:Community Events
ATTACH;FMTTYPE=image/jpeg:https://wiltonchamber.com/wp-content/uploads/2026/01/Copy-Wilton-Open-House-Flower-Arranging-1.jpg
END:VEVENT
BEGIN:VEVENT
DTSTART;TZID=America/New_York:20251206T080000
DTEND;TZID=America/New_York:20251206T133000
DTSTAMP:20260423T013738
CREATED:20251030T144101Z
LAST-MODIFIED:20251030T144101Z
UID:10000939-1765008000-1765027800@wiltonchamber.com
SUMMARY:Family Winter Picture Day
DESCRIPTION:Family Winter Holiday Picture Day \nGet ready to capture the magic of the season! ❄️📸 Join us on Friday\, December 6th\, from 8:00 a.m. to 1:30 p.m. for our Family Winter Holiday Picture Day\, hosted by the talented photographers from Spoiled Rotten Photography. \nThis special event is the perfect opportunity to create beautiful\, timeless portraits of your child and family—just in time for the holidays! Spoiled Rotten Photography is known for their warm\, professional approach and stunning seasonal sets that bring out every child’s natural smile. \nSpaces are limited\, so be sure to reserve your session early!\n✨ Date: Friday\, December 6th\n✨ Time: 8:00 a.m.–1:30 p.m.\n✨ Hosted by: Spoiled Rotten Photography \nBring your holiday cheer and let’s make memories that will last for years to come!
URL:https://wiltonchamber.com/event-detail/family-winter-picture-day/
LOCATION:Guidepost Montessori at Wilton\, 211 Danbury Road\, Wilton\, CT\, 06897\, United States
CATEGORIES:Community Events
ATTACH;FMTTYPE=image/png:https://wiltonchamber.com/wp-content/uploads/2025/10/Guidepost-Montessori-Picture-Day-.png
END:VEVENT
BEGIN:VEVENT
DTSTART;TZID=America/New_York:20251117T080000
DTEND;TZID=America/New_York:20251121T180000
DTSTAMP:20260423T013738
CREATED:20251031T155151Z
LAST-MODIFIED:20251031T155151Z
UID:10000943-1763366400-1763748000@wiltonchamber.com
SUMMARY:Scholastic book Fair
DESCRIPTION:Join us for our Scholastic Book Fair at Guidepost Montessori of Wilton! From November 17th through the 21st\, our campus will be filled with books for every age and interest—just in time to stock up for cozy winter reading or find the perfect holiday gift. Families\, friends\, and community members are all welcome to stop by anytime between 8:00 AM and 6:00 PM to browse and shop. \n📍 Location: Guidepost Montessori of Wilton\n📅 Dates: November 17th–21st\n⏰ Time: 8:00 AM – 6:00 PM\n📚 Open to the community!
URL:https://wiltonchamber.com/event-detail/scholastic-book-fair/
LOCATION:Guidepost Montessori at Wilton\, 211 Danbury Road\, Wilton\, CT\, 06897\, United States
CATEGORIES:Community Events
END:VEVENT
BEGIN:VEVENT
DTSTART;TZID=America/New_York:20251112T170000
DTEND;TZID=America/New_York:20251112T180000
DTSTAMP:20260423T013738
CREATED:20251030T164415Z
LAST-MODIFIED:20251030T164415Z
UID:10000940-1762966800-1762970400@wiltonchamber.com
SUMMARY:Styles and Smiles
DESCRIPTION:Event: Styles & Smiles \nDate: Tuesday\, November 12 \nTime: 5:00–6:00 PM \nHosted by: Ms. Melissa\, Infant Teacher \nJoin Guidepost Montessori at Wilton for our Styles & Smiles evening hosted by our wonderful Infant Teacher\, Ms. Melissa! This fun and relaxing event is all about celebrating confidence\, creativity\, and connection. Families will have the chance to enjoy a little self-care time while learning simple styling tips and tricks for both little ones and grown-ups. \nIt’s the perfect opportunity to unwind after a busy day\, share smiles with our community\, and spend time with Ms. Melissa outside of the classroom. Light refreshments will be provided — we can’t wait to see you there!
URL:https://wiltonchamber.com/event-detail/styles-and-smiles/
LOCATION:Guidepost Montessori at Wilton\, 211 Danbury Road\, Wilton\, CT\, 06897\, United States
CATEGORIES:Community Events
ATTACH;FMTTYPE=image/jpeg:https://wiltonchamber.com/wp-content/uploads/2025/10/Image-79.jpg
END:VEVENT
BEGIN:VEVENT
DTSTART;TZID=America/New_York:20251109T100000
DTEND;TZID=America/New_York:20251109T120000
DTSTAMP:20260423T013738
CREATED:20251030T165800Z
LAST-MODIFIED:20251030T165800Z
UID:10000941-1762682400-1762689600@wiltonchamber.com
SUMMARY:Story Time Open House
DESCRIPTION:Event: Story Time Open House\nDate: Sunday\, November 9\nTime: 10:00 AM – 12:00 PM\nHosted by: Our wonderful Guides (Teachers)\nJoin us for a cozy and engaging morning at our Story Time Open House! Families are invited to enjoy a series of delightful story readings hosted by our very own guides. Each story will bring imagination to life through expressive reading\, conversation\, and connection — perfect for toddlers and preschoolers alike.\nThis is a wonderful opportunity to experience the warmth of our classrooms\, meet our teaching team\, and see the joy that storytelling brings to our community. We look forward to welcoming you for a morning filled with laughter\, learning\, and the magic of stories!
URL:https://wiltonchamber.com/event-detail/story-time-open-house/
LOCATION:Guidepost Montessori at Wilton\, 211 Danbury Road\, Wilton\, CT\, 06897\, United States
CATEGORIES:Community Events
ATTACH;FMTTYPE=image/png:https://wiltonchamber.com/wp-content/uploads/2025/10/Copy-of-Story-Time-Meet-Up.png
END:VEVENT
BEGIN:VEVENT
DTSTART;TZID=America/New_York:20251028T170000
DTEND;TZID=America/New_York:20251028T183000
DTSTAMP:20260423T013738
CREATED:20250922T152535Z
LAST-MODIFIED:20250922T174142Z
UID:10000887-1761670800-1761676200@wiltonchamber.com
SUMMARY:Guidepost Montessori at Wilton - Trunk or Treat
DESCRIPTION:Join us for a fun and festive Trunk or Treat event where families can enjoy a safe and exciting way to celebrate Halloween! Local businesses and community members will decorate their trunks and hand out treats\, creating a lively atmosphere full of creativity\, costumes\, and community spirit. This family-friendly event is open to all and is the perfect opportunity to connect with neighbors\, support local businesses\, and make lasting memories together. Don’t miss out on the fun—bring your costumes\, your sweet tooth\, and your Halloween spirit! \nRegistration deadline is Oct. 1st for Wilton business and community partners. Please contact Ellie Rappoport at erappoport@guidepostmontessori.com to register for this event.
URL:https://wiltonchamber.com/event-detail/guidepost-montessori-at-wilton-trunk-or-treat/
LOCATION:Guidepost Montessori at Wilton\, 211 Danbury Road\, Wilton\, CT\, 06897\, United States
CATEGORIES:Community Events
ATTACH;FMTTYPE=image/jpeg:https://wiltonchamber.com/wp-content/uploads/2025/09/Guidepost-Montessori-Trunk-or-Treat-10.28.25.jpg
END:VEVENT
END:VCALENDAR