BEGIN:VCALENDAR
VERSION:2.0
PRODID:-//Wilton Chamber of Commerce - ECPv6.15.18//NONSGML v1.0//EN
CALSCALE:GREGORIAN
METHOD:PUBLISH
X-ORIGINAL-URL:https://wiltonchamber.com
X-WR-CALDESC:Events for Wilton Chamber of Commerce
REFRESH-INTERVAL;VALUE=DURATION:PT1H
X-Robots-Tag:noindex
X-PUBLISHED-TTL:PT1H
BEGIN:VTIMEZONE
TZID:America/New_York
BEGIN:DAYLIGHT
TZOFFSETFROM:-0500
TZOFFSETTO:-0400
TZNAME:EDT
DTSTART:20220313T070000
END:DAYLIGHT
BEGIN:STANDARD
TZOFFSETFROM:-0400
TZOFFSETTO:-0500
TZNAME:EST
DTSTART:20221106T060000
END:STANDARD
BEGIN:DAYLIGHT
TZOFFSETFROM:-0500
TZOFFSETTO:-0400
TZNAME:EDT
DTSTART:20230312T070000
END:DAYLIGHT
BEGIN:STANDARD
TZOFFSETFROM:-0400
TZOFFSETTO:-0500
TZNAME:EST
DTSTART:20231105T060000
END:STANDARD
BEGIN:DAYLIGHT
TZOFFSETFROM:-0500
TZOFFSETTO:-0400
TZNAME:EDT
DTSTART:20240310T070000
END:DAYLIGHT
BEGIN:STANDARD
TZOFFSETFROM:-0400
TZOFFSETTO:-0500
TZNAME:EST
DTSTART:20241103T060000
END:STANDARD
BEGIN:DAYLIGHT
TZOFFSETFROM:-0500
TZOFFSETTO:-0400
TZNAME:EDT
DTSTART:20250309T070000
END:DAYLIGHT
BEGIN:STANDARD
TZOFFSETFROM:-0400
TZOFFSETTO:-0500
TZNAME:EST
DTSTART:20251102T060000
END:STANDARD
BEGIN:DAYLIGHT
TZOFFSETFROM:-0500
TZOFFSETTO:-0400
TZNAME:EDT
DTSTART:20260308T070000
END:DAYLIGHT
BEGIN:STANDARD
TZOFFSETFROM:-0400
TZOFFSETTO:-0500
TZNAME:EST
DTSTART:20261101T060000
END:STANDARD
END:VTIMEZONE
BEGIN:VEVENT
DTSTART;TZID=America/New_York:20250517T090000
DTEND;TZID=America/New_York:20250517T120000
DTSTAMP:20260423T030921
CREATED:20250425T185910Z
LAST-MODIFIED:20250425T185910Z
UID:10000766-1747472400-1747483200@wiltonchamber.com
SUMMARY:Community Shred Day
DESCRIPTION:$20 suggested donation per bag/box in support of Wilton Go Green \n*or until truck is full
URL:https://wiltonchamber.com/event-detail/community-shred-day-3/
LOCATION:Fairfield County Bank – Wilton Branch\, 190 Old Ridgefield Road\, Wilton\, CT\, 06897\, United States
CATEGORIES:Community Events,Go Green Event
END:VEVENT
BEGIN:VEVENT
DTSTART;TZID=America/New_York:20240518T090000
DTEND;TZID=America/New_York:20240518T120000
DTSTAMP:20260423T030921
CREATED:20240410T165102Z
LAST-MODIFIED:20240410T165102Z
UID:10000377-1716022800-1716033600@wiltonchamber.com
SUMMARY:Community Shred Day
DESCRIPTION:Circle of Care and Wilton Go Green are co-hosting a community shred day! \nOnce tax season is over\, start gathering all of your sensitive documents and bring them down to our shredding event. A secure shred truck will be on site for the event. Attendees will park and bring their items over to the shred truck where you can also learn more about Circle of Care and Wilton Go Green as well as enter a raffle! \nVolunteers will be on hand for anyone who needs assistance. \nSuggested donation of $20 per bag/box to support the work of Circle of Care and Wilton Go Green. Limit of 5 boxes per guest. \nLocation: 190 Old Ridgefield Road \nFairfield County Bank parking lot \nShred truck generously hosted by Fairfield County Bank and sponsored by John Schiaroli of William Pitt Sotheby’s. \nCircle of Care is a non-profit organization dedicated to supporting childhood cancer patients and their families for their entire experience\, from day of diagnosis to wherever the journey leads. It vows to continue until no parent has to hear the words\, “your child has cancer.” To learn more about Circle of Care\, visit the organization’s website: thecircleofcare.org
URL:https://wiltonchamber.com/event-detail/community-shred-day-2/
LOCATION:Fairfield County Bank – Wilton Branch\, 190 Old Ridgefield Road\, Wilton\, CT\, 06897\, United States
CATEGORIES:Community Events
ATTACH;FMTTYPE=image/png:https://wiltonchamber.com/wp-content/uploads/2024/04/GMW-Ad-Shred-Day.png
END:VEVENT
BEGIN:VEVENT
DTSTART;TZID=America/New_York:20231214T173000
DTEND;TZID=America/New_York:20231214T190000
DTSTAMP:20260423T030921
CREATED:20231030T172604Z
LAST-MODIFIED:20231030T172604Z
UID:10000219-1702575000-1702580400@wiltonchamber.com
SUMMARY:Holiday Business After Hours
DESCRIPTION:Join us for a night of festivities\, drinks\, delicious hors d’oeuvres and connect with local businesses as we present our Holiday Business After Hours co-hosted by Fairfield County Bank and Gregory & Adams P.C. on Thursday\, December 14 from 5:30-7:00pm at Fairfield County Bank’s Wilton location – 190 Old Ridgefield Road Wilton\, CT 06897. \nRegister today and celebrate the season with us! \n	\n	\n			\n		\n						\n				\n				\n                \n			\n			\n						\n				Payment options\n				\n				  Submit and Pay with PayPal				 \n    			 				\n				\n			\n			\n							\n					Please enter the security code\n					\n						\n					\n					\n				\n				\n					Security Code (lowercase letters)\n					\n						\n						\n					\n					\n				\n						\n			\n						Submit and Pay with PayPal or Credit Card
URL:https://wiltonchamber.com/event-detail/holiday-business-after-hours/
LOCATION:Fairfield County Bank – Wilton Branch\, 190 Old Ridgefield Road\, Wilton\, CT\, 06897\, United States
CATEGORIES:BAH,Chamber Events
ATTACH;FMTTYPE=image/png:https://wiltonchamber.com/wp-content/uploads/2023/10/Holiday-2023-BAH-Final.png
ORGANIZER;CN="Wilton Chamber of Commerce":MAILTO:info@wiltonchamber.com
END:VEVENT
END:VCALENDAR