BEGIN:VCALENDAR
VERSION:2.0
PRODID:-//Wilton Chamber of Commerce - ECPv6.15.18//NONSGML v1.0//EN
CALSCALE:GREGORIAN
METHOD:PUBLISH
X-ORIGINAL-URL:https://wiltonchamber.com
X-WR-CALDESC:Events for Wilton Chamber of Commerce
REFRESH-INTERVAL;VALUE=DURATION:PT1H
X-Robots-Tag:noindex
X-PUBLISHED-TTL:PT1H
BEGIN:VTIMEZONE
TZID:America/New_York
BEGIN:DAYLIGHT
TZOFFSETFROM:-0500
TZOFFSETTO:-0400
TZNAME:EDT
DTSTART:20240310T070000
END:DAYLIGHT
BEGIN:STANDARD
TZOFFSETFROM:-0400
TZOFFSETTO:-0500
TZNAME:EST
DTSTART:20241103T060000
END:STANDARD
BEGIN:DAYLIGHT
TZOFFSETFROM:-0500
TZOFFSETTO:-0400
TZNAME:EDT
DTSTART:20250309T070000
END:DAYLIGHT
BEGIN:STANDARD
TZOFFSETFROM:-0400
TZOFFSETTO:-0500
TZNAME:EST
DTSTART:20251102T060000
END:STANDARD
BEGIN:DAYLIGHT
TZOFFSETFROM:-0500
TZOFFSETTO:-0400
TZNAME:EDT
DTSTART:20260308T070000
END:DAYLIGHT
BEGIN:STANDARD
TZOFFSETFROM:-0400
TZOFFSETTO:-0500
TZNAME:EST
DTSTART:20261101T060000
END:STANDARD
END:VTIMEZONE
BEGIN:VEVENT
DTSTART;TZID=America/New_York:20251204T133000
DTEND;TZID=America/New_York:20251204T143000
DTSTAMP:20260423T033458
CREATED:20251124T154406Z
LAST-MODIFIED:20251124T154406Z
UID:10000972-1764855000-1764858600@wiltonchamber.com
SUMMARY:Fraud Protection Workshop For Adults 60 And Older
DESCRIPTION:Fraud Protection Workshop for Adults 60+ \nScams are everywhere these days — don’t let them catch you off guard. Join us for a free\, one-hour workshop to learn how to recognize\, avoid\, and protect yourself from common frauds and scams. Free\, just show up and enjoy this insightful session packed with practical tips to help you stay safe. \nYou do not need to be a Danbury resident to attend. All are welcome — you just need to be 60+.
URL:https://wiltonchamber.com/event-detail/fraud-protection-workshop-for-adults-60-and-older/
LOCATION:Elmwood Hall Senior Center\, 10 Elmwood Place\, Danbury\,\, CT\, 06810\, United States
CATEGORIES:Community Events
ATTACH;FMTTYPE=image/jpeg:https://wiltonchamber.com/wp-content/uploads/2025/11/Habitat-12.4-fraud-workshop.jpg
END:VEVENT
END:VCALENDAR