BEGIN:VCALENDAR
VERSION:2.0
PRODID:-//Wilton Chamber of Commerce - ECPv6.15.18//NONSGML v1.0//EN
CALSCALE:GREGORIAN
METHOD:PUBLISH
X-ORIGINAL-URL:https://wiltonchamber.com
X-WR-CALDESC:Events for Wilton Chamber of Commerce
REFRESH-INTERVAL;VALUE=DURATION:PT1H
X-Robots-Tag:noindex
X-PUBLISHED-TTL:PT1H
BEGIN:VTIMEZONE
TZID:America/New_York
BEGIN:DAYLIGHT
TZOFFSETFROM:-0500
TZOFFSETTO:-0400
TZNAME:EDT
DTSTART:20220313T070000
END:DAYLIGHT
BEGIN:STANDARD
TZOFFSETFROM:-0400
TZOFFSETTO:-0500
TZNAME:EST
DTSTART:20221106T060000
END:STANDARD
BEGIN:DAYLIGHT
TZOFFSETFROM:-0500
TZOFFSETTO:-0400
TZNAME:EDT
DTSTART:20230312T070000
END:DAYLIGHT
BEGIN:STANDARD
TZOFFSETFROM:-0400
TZOFFSETTO:-0500
TZNAME:EST
DTSTART:20231105T060000
END:STANDARD
BEGIN:DAYLIGHT
TZOFFSETFROM:-0500
TZOFFSETTO:-0400
TZNAME:EDT
DTSTART:20240310T070000
END:DAYLIGHT
BEGIN:STANDARD
TZOFFSETFROM:-0400
TZOFFSETTO:-0500
TZNAME:EST
DTSTART:20241103T060000
END:STANDARD
BEGIN:DAYLIGHT
TZOFFSETFROM:-0500
TZOFFSETTO:-0400
TZNAME:EDT
DTSTART:20250309T070000
END:DAYLIGHT
BEGIN:STANDARD
TZOFFSETFROM:-0400
TZOFFSETTO:-0500
TZNAME:EST
DTSTART:20251102T060000
END:STANDARD
BEGIN:DAYLIGHT
TZOFFSETFROM:-0500
TZOFFSETTO:-0400
TZNAME:EDT
DTSTART:20260308T070000
END:DAYLIGHT
BEGIN:STANDARD
TZOFFSETFROM:-0400
TZOFFSETTO:-0500
TZNAME:EST
DTSTART:20261101T060000
END:STANDARD
END:VTIMEZONE
BEGIN:VEVENT
DTSTART;TZID=America/New_York:20250503T110000
DTEND;TZID=America/New_York:20250503T140000
DTSTAMP:20260423T062935
CREATED:20250321T190204Z
LAST-MODIFIED:20250425T190435Z
UID:10000737-1746270000-1746280800@wiltonchamber.com
SUMMARY:Dynamic Edge Wellness Fair  – Bringing Health & Wellness to Our Community!
DESCRIPTION:Dynamic Edge Wellness Fair – Bringing Health & Wellness to Our Community! \nDynamic Edge Physiotherapy is excited to host our Wellness Fair\, an event dedicated to promoting health\, vitality\, and overall well-being. This fair will bring together local businesses\, wellness experts\, and community members for a day filled with education\, engagement\, and fun. \nEvent Highlights:\n✅ Local wellness vendors showcasing products & services\n✅ Free giveaways and exclusive promotions\n✅ Live demonstrations and expert advice\n✅ Opportunities to connect with health-conscious individuals\n✅ Support and donate to a great local cause \nWe invite the community to explore a variety of wellness offerings—from fitness and nutrition to holistic therapies and self-care solutions. Whether you’re a business looking to share your expertise or an attendee eager to learn more about wellness\, this event is for you! \nFor vendor inquiries or more information\, please contact Patrick Buckley 203.978.3313. \nLet’s make wellness a priority together!
URL:https://wiltonchamber.com/event-detail/dynamic-edge-wellness-fair-bringing-health-wellness-to-our-community/
LOCATION:Dynamic Edge Wellness and Cryotherapy\, 396 Danbury Road\, Wilton\, CT\, 06897\, United States
CATEGORIES:Community Events,Health and Wellness
ATTACH;FMTTYPE=image/jpeg:https://wiltonchamber.com/wp-content/uploads/2025/03/Dynamic-Edge-wellness-fair-UPDATED.jpg
END:VEVENT
BEGIN:VEVENT
DTSTART;TZID=America/New_York:20230623T150000
DTEND;TZID=America/New_York:20230623T163000
DTSTAMP:20260423T062935
CREATED:20230608T193647Z
LAST-MODIFIED:20230608T193749Z
UID:10000178-1687532400-1687537800@wiltonchamber.com
SUMMARY:Ribbon Cutting - Dynamic Edge Wellness & Cryotherapy
DESCRIPTION:Dynamic Edge Wellness & Cryotherapy is thrilled to announce its grand opening in Wilton\, CT\, offering residents a state-of-the-art health and wellness experience. As a leading provider of innovative therapies and services\, Dynamic Edge Wellness & Cryotherapy aims to optimize well-being\, enhance recovery\, and promote overall vitality in our community. We are the first and only whole body cryotherapy facility in Wilton. With a team of highly trained professionals\, the facility combines advanced technology with personalized care to deliver exceptional results. \nDynamic Edge Wellness & Cryotherapy features a modern\, inviting atmosphere where clients can relax and focus on their well-being. The facility adheres to the highest industry standards\, ensuring a safe and comfortable experience for every individual. \nPlease join us for a ribbon cutting ceremony on Friday June 23rd at 3:00pm followed by a reception and facility tour to see first hand what this latest technology and first cryotherapy facility in Wilton can offer for you! For more details\, please view complete PRESS RELEASE.
URL:https://wiltonchamber.com/event-detail/ribbon-cutting-dynamic-edge-wellness-cryotherapy/
LOCATION:Dynamic Edge Wellness and Cryotherapy\, 396 Danbury Road\, Wilton\, CT\, 06897\, United States
CATEGORIES:Chamber Events,Community Events,Ribbon Cutting
ATTACH;FMTTYPE=image/png:https://wiltonchamber.com/wp-content/uploads/2023/06/Dynamic-Edge-Ribbon-Cutting.png
END:VEVENT
END:VCALENDAR