BEGIN:VCALENDAR
VERSION:2.0
PRODID:-//Wilton Chamber of Commerce - ECPv6.15.18//NONSGML v1.0//EN
CALSCALE:GREGORIAN
METHOD:PUBLISH
X-ORIGINAL-URL:https://wiltonchamber.com
X-WR-CALDESC:Events for Wilton Chamber of Commerce
REFRESH-INTERVAL;VALUE=DURATION:PT1H
X-Robots-Tag:noindex
X-PUBLISHED-TTL:PT1H
BEGIN:VTIMEZONE
TZID:America/New_York
BEGIN:DAYLIGHT
TZOFFSETFROM:-0500
TZOFFSETTO:-0400
TZNAME:EDT
DTSTART:20240310T070000
END:DAYLIGHT
BEGIN:STANDARD
TZOFFSETFROM:-0400
TZOFFSETTO:-0500
TZNAME:EST
DTSTART:20241103T060000
END:STANDARD
BEGIN:DAYLIGHT
TZOFFSETFROM:-0500
TZOFFSETTO:-0400
TZNAME:EDT
DTSTART:20250309T070000
END:DAYLIGHT
BEGIN:STANDARD
TZOFFSETFROM:-0400
TZOFFSETTO:-0500
TZNAME:EST
DTSTART:20251102T060000
END:STANDARD
BEGIN:DAYLIGHT
TZOFFSETFROM:-0500
TZOFFSETTO:-0400
TZNAME:EDT
DTSTART:20260308T070000
END:DAYLIGHT
BEGIN:STANDARD
TZOFFSETFROM:-0400
TZOFFSETTO:-0500
TZNAME:EST
DTSTART:20261101T060000
END:STANDARD
END:VTIMEZONE
BEGIN:VEVENT
DTSTART;TZID=America/New_York:20250830T120000
DTEND;TZID=America/New_York:20250830T140000
DTSTAMP:20260423T045944
CREATED:20250722T174750Z
LAST-MODIFIED:20250722T174750Z
UID:10000821-1756555200-1756562400@wiltonchamber.com
SUMMARY:CT Humane Society's Wilton Pet Resource Center Open House
DESCRIPTION:Discover the CT Humane Society’s new Wilton Pet Resource Center during its open house on Friday or Saturday\, August 29–30\, from 12–2 pm. With limited parking\, visitors are encouraged to carpool. Guided tours will depart every 20 minutes\, offering a first look at this vital community hub. In addition to adoption services\, the center features a low-cost public veterinary clinic\, a pet food pantry\, and humane education programs—all designed to help pets thrive at home. “We are thrilled to call Wilton home on this bucolic property and to serve both the pets and the people they love in Fairfield County\,” said Executive Director James Bias. For more details\, visit CThumane.org/Wilton.
URL:https://wiltonchamber.com/event-detail/ct-humane-societys-wilton-pet-resource-center-open-house/2025-08-30/
LOCATION:CT Humane Society\, 863 Danbury Road\, Wilton\, CT\, 06897\, United States
CATEGORIES:Community Events
ATTACH;FMTTYPE=image/jpeg:https://wiltonchamber.com/wp-content/uploads/2025/07/CT-Humane-Rendering.jpg
ORGANIZER;CN="Connecticut Humane Society":MAILTO:kshettleworth@cthumane.org
END:VEVENT
BEGIN:VEVENT
DTSTART;TZID=America/New_York:20250829T120000
DTEND;TZID=America/New_York:20250829T140000
DTSTAMP:20260423T045944
CREATED:20250722T174750Z
LAST-MODIFIED:20250722T174750Z
UID:10000820-1756468800-1756476000@wiltonchamber.com
SUMMARY:CT Humane Society's Wilton Pet Resource Center Open House
DESCRIPTION:Discover the CT Humane Society’s new Wilton Pet Resource Center during its open house on Friday or Saturday\, August 29–30\, from 12–2 pm. With limited parking\, visitors are encouraged to carpool. Guided tours will depart every 20 minutes\, offering a first look at this vital community hub. In addition to adoption services\, the center features a low-cost public veterinary clinic\, a pet food pantry\, and humane education programs—all designed to help pets thrive at home. “We are thrilled to call Wilton home on this bucolic property and to serve both the pets and the people they love in Fairfield County\,” said Executive Director James Bias. For more details\, visit CThumane.org/Wilton.
URL:https://wiltonchamber.com/event-detail/ct-humane-societys-wilton-pet-resource-center-open-house/2025-08-29/
LOCATION:CT Humane Society\, 863 Danbury Road\, Wilton\, CT\, 06897\, United States
CATEGORIES:Community Events
ATTACH;FMTTYPE=image/jpeg:https://wiltonchamber.com/wp-content/uploads/2025/07/CT-Humane-Rendering.jpg
ORGANIZER;CN="Connecticut Humane Society":MAILTO:kshettleworth@cthumane.org
END:VEVENT
END:VCALENDAR