BEGIN:VCALENDAR
VERSION:2.0
PRODID:-//Wilton Chamber of Commerce - ECPv6.15.18//NONSGML v1.0//EN
CALSCALE:GREGORIAN
METHOD:PUBLISH
X-WR-CALNAME:Wilton Chamber of Commerce
X-ORIGINAL-URL:https://wiltonchamber.com
X-WR-CALDESC:Events for Wilton Chamber of Commerce
REFRESH-INTERVAL;VALUE=DURATION:PT1H
X-Robots-Tag:noindex
X-PUBLISHED-TTL:PT1H
BEGIN:VTIMEZONE
TZID:America/New_York
BEGIN:DAYLIGHT
TZOFFSETFROM:-0500
TZOFFSETTO:-0400
TZNAME:EDT
DTSTART:20240310T070000
END:DAYLIGHT
BEGIN:STANDARD
TZOFFSETFROM:-0400
TZOFFSETTO:-0500
TZNAME:EST
DTSTART:20241103T060000
END:STANDARD
BEGIN:DAYLIGHT
TZOFFSETFROM:-0500
TZOFFSETTO:-0400
TZNAME:EDT
DTSTART:20250309T070000
END:DAYLIGHT
BEGIN:STANDARD
TZOFFSETFROM:-0400
TZOFFSETTO:-0500
TZNAME:EST
DTSTART:20251102T060000
END:STANDARD
BEGIN:DAYLIGHT
TZOFFSETFROM:-0500
TZOFFSETTO:-0400
TZNAME:EDT
DTSTART:20260308T070000
END:DAYLIGHT
BEGIN:STANDARD
TZOFFSETFROM:-0400
TZOFFSETTO:-0500
TZNAME:EST
DTSTART:20261101T060000
END:STANDARD
END:VTIMEZONE
BEGIN:VEVENT
DTSTART;TZID=America/New_York:20251106T150000
DTEND;TZID=America/New_York:20251106T180000
DTSTAMP:20260423T033402
CREATED:20251028T195643Z
LAST-MODIFIED:20251028T195643Z
UID:10000936-1762441200-1762452000@wiltonchamber.com
SUMMARY:CT Humane Society Pet Food and Supply Drive
DESCRIPTION:Help Fill Bowls and Hearts — and Take a Tour! \nSupport the new Pet Resource Center and kickstart its Pet Food Pantry by donating pet food or supplies. Each item provides for pets in need—and unlocks a free tour of the new facility. \nDonate. Tour. Make a difference. 🐾 \nFor the pets’ full Wish List\, or to make a monetary donation\, visit CThumane.org/WishList \nMost Needed Brands Include:\nFriskies\nFancy Feast\nBlue Buffalo\nPedigree\nPurina One dog and cat \nOther Items Needed:\nSoft Dog Treats\nCat & Dog Beds\nChurus (Cat Treats)\nSlow Feeders for Dogs\nTreat Puzzles for Dogs\nSmall Animal Enrichment Items\nFleece Blankets\nTowels \nFor the health and safety of pets\, CHS happily accepts new item donations but is unable to accept used goods. \nFood donations must be unopened and unexpired.
URL:https://wiltonchamber.com/event-detail/ct-humane-society-pet-food-and-supply-drive/
LOCATION:CT Humane Society Pet Resource Center\, 863 Danbury Road\, Wilton\, CT\, 06897\, United States
CATEGORIES:Community Events
ATTACH;FMTTYPE=image/png:https://wiltonchamber.com/wp-content/uploads/2025/10/Wilton-November-Pet-Food-Drive-Event-Postings.png
ORGANIZER;CN="Connecticut Humane Society":MAILTO:kshettleworth@cthumane.org
END:VEVENT
END:VCALENDAR