BEGIN:VCALENDAR
VERSION:2.0
PRODID:-//Wilton Chamber of Commerce - ECPv6.15.18//NONSGML v1.0//EN
CALSCALE:GREGORIAN
METHOD:PUBLISH
X-WR-CALNAME:Wilton Chamber of Commerce
X-ORIGINAL-URL:https://wiltonchamber.com
X-WR-CALDESC:Events for Wilton Chamber of Commerce
REFRESH-INTERVAL;VALUE=DURATION:PT1H
X-Robots-Tag:noindex
X-PUBLISHED-TTL:PT1H
BEGIN:VTIMEZONE
TZID:America/New_York
BEGIN:DAYLIGHT
TZOFFSETFROM:-0500
TZOFFSETTO:-0400
TZNAME:EDT
DTSTART:20250309T070000
END:DAYLIGHT
BEGIN:STANDARD
TZOFFSETFROM:-0400
TZOFFSETTO:-0500
TZNAME:EST
DTSTART:20251102T060000
END:STANDARD
BEGIN:DAYLIGHT
TZOFFSETFROM:-0500
TZOFFSETTO:-0400
TZNAME:EDT
DTSTART:20260308T070000
END:DAYLIGHT
BEGIN:STANDARD
TZOFFSETFROM:-0400
TZOFFSETTO:-0500
TZNAME:EST
DTSTART:20261101T060000
END:STANDARD
BEGIN:DAYLIGHT
TZOFFSETFROM:-0500
TZOFFSETTO:-0400
TZNAME:EDT
DTSTART:20270314T070000
END:DAYLIGHT
BEGIN:STANDARD
TZOFFSETFROM:-0400
TZOFFSETTO:-0500
TZNAME:EST
DTSTART:20271107T060000
END:STANDARD
END:VTIMEZONE
BEGIN:VEVENT
DTSTART;TZID=America/New_York:20260427T140000
DTEND;TZID=America/New_York:20260427T160000
DTSTAMP:20260422T221408
CREATED:20260420T153008Z
LAST-MODIFIED:20260420T153008Z
UID:10001530-1777298400-1777305600@wiltonchamber.com
SUMMARY:The ABC's of In-Home Care
DESCRIPTION:Visiting Angels and Waveny Lifecare Network will join Stay at Home in Wilton for an informative and easy-to-follow seminar designed to help you better understand in-home care options. We will walk through the ABC’ s of in-home care: A- Assessing your needs now and planning for the future. B-Choosing the best care solution for your unique situation. C-Understanding costs\, including Medicare and Medicaid coverage. This seminar will provide practical guidance to help you make confident\, informed decisions about care at home. RSVP to 203-762-2600 or events@stayathomeinwilton.org
URL:https://wiltonchamber.com/event-detail/the-abcs-of-in-home-care/
LOCATION:Commstock Community Center\, Senior Lounge\, 180 School Road\, Wilton\, CT\, 06897\, United States
CATEGORIES:Community Events,Health and Wellness
ATTACH;FMTTYPE=image/jpeg:https://wiltonchamber.com/wp-content/uploads/2026/04/Flyer-ABCs-of-In-Home-Care.jpg
ORGANIZER;CN="Stay at Home Wilton":MAILTO:events@stayathomeinwilton.org
END:VEVENT
END:VCALENDAR