BEGIN:VCALENDAR
VERSION:2.0
PRODID:-//Wilton Chamber of Commerce - ECPv6.15.18//NONSGML v1.0//EN
CALSCALE:GREGORIAN
METHOD:PUBLISH
X-WR-CALNAME:Wilton Chamber of Commerce
X-ORIGINAL-URL:https://wiltonchamber.com
X-WR-CALDESC:Events for Wilton Chamber of Commerce
REFRESH-INTERVAL;VALUE=DURATION:PT1H
X-Robots-Tag:noindex
X-PUBLISHED-TTL:PT1H
BEGIN:VTIMEZONE
TZID:America/New_York
BEGIN:DAYLIGHT
TZOFFSETFROM:-0500
TZOFFSETTO:-0400
TZNAME:EDT
DTSTART:20220313T070000
END:DAYLIGHT
BEGIN:STANDARD
TZOFFSETFROM:-0400
TZOFFSETTO:-0500
TZNAME:EST
DTSTART:20221106T060000
END:STANDARD
BEGIN:DAYLIGHT
TZOFFSETFROM:-0500
TZOFFSETTO:-0400
TZNAME:EDT
DTSTART:20230312T070000
END:DAYLIGHT
BEGIN:STANDARD
TZOFFSETFROM:-0400
TZOFFSETTO:-0500
TZNAME:EST
DTSTART:20231105T060000
END:STANDARD
BEGIN:DAYLIGHT
TZOFFSETFROM:-0500
TZOFFSETTO:-0400
TZNAME:EDT
DTSTART:20240310T070000
END:DAYLIGHT
BEGIN:STANDARD
TZOFFSETFROM:-0400
TZOFFSETTO:-0500
TZNAME:EST
DTSTART:20241103T060000
END:STANDARD
BEGIN:DAYLIGHT
TZOFFSETFROM:-0500
TZOFFSETTO:-0400
TZNAME:EDT
DTSTART:20250309T070000
END:DAYLIGHT
BEGIN:STANDARD
TZOFFSETFROM:-0400
TZOFFSETTO:-0500
TZNAME:EST
DTSTART:20251102T060000
END:STANDARD
BEGIN:DAYLIGHT
TZOFFSETFROM:-0500
TZOFFSETTO:-0400
TZNAME:EDT
DTSTART:20260308T070000
END:DAYLIGHT
BEGIN:STANDARD
TZOFFSETFROM:-0400
TZOFFSETTO:-0500
TZNAME:EST
DTSTART:20261101T060000
END:STANDARD
END:VTIMEZONE
BEGIN:VEVENT
DTSTART;VALUE=DATE:20251108
DTEND;VALUE=DATE:20251110
DTSTAMP:20260423T043414
CREATED:20251023T155650Z
LAST-MODIFIED:20251023T155650Z
UID:10000932-1762560000-1762732799@wiltonchamber.com
SUMMARY:Photo Session with Santa Bill
DESCRIPTION:CT Santa Society and the Cannon Grange invite you to have your\nPhoto Session with Santa Bill\nNovember 8 and 9\, 2025\n8:30am – 4:00 pm \n15 Min Sessions\nMin of 4 Images Delivered Digitally\nAll New Backdrops \nDogs & Cats Welcome\nAll Funds Collected are Donated to Local Charities\nThis event is sponsored by CT Santa Society \nTo Register click :https://www.signupgenius.com/go/10C0D4CABAC2AA4F8CE9-59046377-photo#/
URL:https://wiltonchamber.com/event-detail/photo-session-with-santa-bill/
LOCATION:Cannon Grange\, 25 Cannon Road\, Wilton\, CT\, 06897\, United States
CATEGORIES:Community Events,Fundraiser
ATTACH;FMTTYPE=image/png:https://wiltonchamber.com/wp-content/uploads/2025/10/2025-PHOTO-WITH-SANTA-with-scan-code.png
END:VEVENT
BEGIN:VEVENT
DTSTART;TZID=America/New_York:20251004T110000
DTEND;TZID=America/New_York:20251004T130000
DTSTAMP:20260423T043414
CREATED:20250915T181750Z
LAST-MODIFIED:20250915T181750Z
UID:10000875-1759575600-1759582800@wiltonchamber.com
SUMMARY:Halloween Costume Exchange
DESCRIPTION:Drop off clean\, complete costumes for ages 0-100 on the follow days:\nMonday\, 9/22 from 4:30pm-6:30pm Cannondale Train Station\nWednesday\, 9/24 from 12pm-5pm Wilton Farmers Market\nSaturday\, 9/27 from 9:00am-11:00am Cannondale Train Station\nWednesday\, 10/1 from 12pm-5pm Wilton Farmers Market
URL:https://wiltonchamber.com/event-detail/halloween-costume-exchange-3/
LOCATION:Cannon Grange\, 25 Cannon Road\, Wilton\, CT\, 06897\, United States
CATEGORIES:Community Events
ATTACH;FMTTYPE=image/png:https://wiltonchamber.com/wp-content/uploads/2025/09/2025-flyer-Costume-Exchange-Instagram-Post-1.png
END:VEVENT
BEGIN:VEVENT
DTSTART;TZID=America/New_York:20241201T090000
DTEND;TZID=America/New_York:20241201T123000
DTSTAMP:20260423T043414
CREATED:20241117T193316Z
LAST-MODIFIED:20241117T193316Z
UID:10000610-1733043600-1733056200@wiltonchamber.com
SUMMARY:Breakfast with Santa Bill At The Cannon Grange
DESCRIPTION:Enjoy a Pancake Breakfast with Santa Bill at the Historic Cannon Grange \n25 Cannon Road\, Wilton CT \nPhoto Opt with Santa and Elf Martin\, Face Painting & Music \n$12.00 pp – Under 2 Free \nPick a Time slot that fits your schedule\n9:00am-9:45 \n10:15am-11:00 \n11:30 am-12:15
URL:https://wiltonchamber.com/event-detail/breakfast-with-santa-bill-at-the-cannon-grange/
LOCATION:Cannon Grange\, 25 Cannon Road\, Wilton\, CT\, 06897\, United States
CATEGORIES:Community Events
ATTACH;FMTTYPE=image/png:https://wiltonchamber.com/wp-content/uploads/2024/11/Breakfast-With-Santa-Flyer-Instagram-Post.png
END:VEVENT
BEGIN:VEVENT
DTSTART;TZID=America/New_York:20241109T100000
DTEND;TZID=America/New_York:20241109T140000
DTSTAMP:20260423T043414
CREATED:20241016T185152Z
LAST-MODIFIED:20241016T185152Z
UID:10000433-1731146400-1731160800@wiltonchamber.com
SUMMARY:Repair Cafe
DESCRIPTION:Wilton Go Green and Cannon Grange have teamed up to host the Fall Repair Café! \nOur Repair Café is a gathering place for members of our community (volunteers) to not only try and repair a treasured item and give it a chance at a second life\, but also learn alongside our volunteer fixers. And if we can’t fix it\, we can direct you to someone who can or at least know we tried. Learn more and reserve your time slot with a fixer at: Repair Cafe
URL:https://wiltonchamber.com/event-detail/repair-cafe-4/
LOCATION:Cannon Grange\, 25 Cannon Road\, Wilton\, CT\, 06897\, United States
CATEGORIES:Community Events,Go Green Event
ATTACH;FMTTYPE=image/png:https://wiltonchamber.com/wp-content/uploads/2024/10/Go-Green-Repair-Cafe.png
END:VEVENT
BEGIN:VEVENT
DTSTART;TZID=America/New_York:20241005T140000
DTEND;TZID=America/New_York:20241005T160000
DTSTAMP:20260423T043414
CREATED:20240909T194624Z
LAST-MODIFIED:20240909T194624Z
UID:10000427-1728136800-1728144000@wiltonchamber.com
SUMMARY:Halloween Costume Exchange
DESCRIPTION:Come on down to the Cannon Grange and pick up a FREE costume for yourself or your child.\nSaturday\, October 5th\nCannon Grange\n2:00 – 3:00pm – Reserved for those who donated\n3:00 – 4:00pm – Open to anyone to pick a costume
URL:https://wiltonchamber.com/event-detail/halloween-costume-exchange-2/
LOCATION:Cannon Grange\, 25 Cannon Road\, Wilton\, CT\, 06897\, United States
CATEGORIES:Community Events,Go Green Event
ATTACH;FMTTYPE=image/png:https://wiltonchamber.com/wp-content/uploads/2024/09/2024-Halloween-Costume-Exchange-3.png
END:VEVENT
BEGIN:VEVENT
DTSTART;TZID=America/New_York:20231202T100000
DTEND;TZID=America/New_York:20231202T160000
DTSTAMP:20260423T043414
CREATED:20231113T165304Z
LAST-MODIFIED:20231113T165304Z
UID:10000260-1701511200-1701532800@wiltonchamber.com
SUMMARY:2023 Cannon Grange Holiday Market
DESCRIPTION:Cannon Grange 2023 Holiday Market\nSaturday December 2 from 10:00am – 4:00 pm\nLots of amazing artisans will be showcasing and selling their goods. We will have many wonderful raffle items and a silent auction!\n$2 Entry Free enters you into a raffle to win a decorated wreath!
URL:https://wiltonchamber.com/event-detail/2023-cannon-grange-holiday-market/
LOCATION:Cannon Grange\, 25 Cannon Road\, Wilton\, CT\, 06897\, United States
CATEGORIES:Community Events
ATTACH;FMTTYPE=image/png:https://wiltonchamber.com/wp-content/uploads/2023/11/ALL-ARTISANS-NO-MOVEMENT-AD.png
END:VEVENT
BEGIN:VEVENT
DTSTART;TZID=America/New_York:20230827T100000
DTEND;TZID=America/New_York:20230827T160000
DTSTAMP:20260423T043414
CREATED:20230807T185217Z
LAST-MODIFIED:20230807T185351Z
UID:10000182-1693130400-1693152000@wiltonchamber.com
SUMMARY:Cannon Grange's Agricultural Fair
DESCRIPTION:All are invited to join the Cannon Grange‘s Agricultural Fair on Sunday Aug. 27th from 10:00 am – 4:00pm. For complete event details\, scan QR code in image or see Agricultural Fair Exposition booklet: HERE. Activities include: \n\n\n \n\n\nContests- Win a Blue Ribbon\n\n\nCraft/Artisan Vendors \n\n\nMusic\n\n\nFood vendors \n\n\nNon-profits exhibitors\n\n\nPetting zoo\n\n\nFace painting \n\n\nPerformance by The Square Bear Dance Company 1-2pm
URL:https://wiltonchamber.com/event-detail/cannon-granges-agricultural-fair/
LOCATION:Cannon Grange\, 25 Cannon Road\, Wilton\, CT\, 06897\, United States
CATEGORIES:Agricultural Fair,Community Events
ATTACH;FMTTYPE=image/jpeg:https://wiltonchamber.com/wp-content/uploads/2023/08/Cannon-Grange-Fair-2023.jpeg
END:VEVENT
BEGIN:VEVENT
DTSTART;TZID=America/New_York:20230610T170000
DTEND;TZID=America/New_York:20230610T210000
DTSTAMP:20260423T043414
CREATED:20230524T160455Z
LAST-MODIFIED:20230524T160455Z
UID:10000174-1686416400-1686430800@wiltonchamber.com
SUMMARY:Cannon Grange Community Potluck
DESCRIPTION:All are invited to join the Cannon Grange Community Potluck on Saturday June 10th! For more details\, please visit: https://cannongrange.org/
URL:https://wiltonchamber.com/event-detail/cannon-grange-community-potluck/
LOCATION:Cannon Grange\, 25 Cannon Road\, Wilton\, CT\, 06897\, United States
CATEGORIES:Community Events
ATTACH;FMTTYPE=image/jpeg:https://wiltonchamber.com/wp-content/uploads/2023/05/Cannon-Grange-Potluck.jpeg
ORGANIZER;CN="The Cannon Grange":MAILTO:Query@cannongrange.org
END:VEVENT
END:VCALENDAR