BEGIN:VCALENDAR
VERSION:2.0
PRODID:-//Wilton Chamber of Commerce - ECPv6.15.18//NONSGML v1.0//EN
CALSCALE:GREGORIAN
METHOD:PUBLISH
X-ORIGINAL-URL:https://wiltonchamber.com
X-WR-CALDESC:Events for Wilton Chamber of Commerce
REFRESH-INTERVAL;VALUE=DURATION:PT1H
X-Robots-Tag:noindex
X-PUBLISHED-TTL:PT1H
BEGIN:VTIMEZONE
TZID:America/New_York
BEGIN:DAYLIGHT
TZOFFSETFROM:-0500
TZOFFSETTO:-0400
TZNAME:EDT
DTSTART:20220313T070000
END:DAYLIGHT
BEGIN:STANDARD
TZOFFSETFROM:-0400
TZOFFSETTO:-0500
TZNAME:EST
DTSTART:20221106T060000
END:STANDARD
BEGIN:DAYLIGHT
TZOFFSETFROM:-0500
TZOFFSETTO:-0400
TZNAME:EDT
DTSTART:20230312T070000
END:DAYLIGHT
BEGIN:STANDARD
TZOFFSETFROM:-0400
TZOFFSETTO:-0500
TZNAME:EST
DTSTART:20231105T060000
END:STANDARD
BEGIN:DAYLIGHT
TZOFFSETFROM:-0500
TZOFFSETTO:-0400
TZNAME:EDT
DTSTART:20240310T070000
END:DAYLIGHT
BEGIN:STANDARD
TZOFFSETFROM:-0400
TZOFFSETTO:-0500
TZNAME:EST
DTSTART:20241103T060000
END:STANDARD
BEGIN:DAYLIGHT
TZOFFSETFROM:-0500
TZOFFSETTO:-0400
TZNAME:EDT
DTSTART:20250309T070000
END:DAYLIGHT
BEGIN:STANDARD
TZOFFSETFROM:-0400
TZOFFSETTO:-0500
TZNAME:EST
DTSTART:20251102T060000
END:STANDARD
BEGIN:DAYLIGHT
TZOFFSETFROM:-0500
TZOFFSETTO:-0400
TZNAME:EDT
DTSTART:20260308T070000
END:DAYLIGHT
BEGIN:STANDARD
TZOFFSETFROM:-0400
TZOFFSETTO:-0500
TZNAME:EST
DTSTART:20261101T060000
END:STANDARD
BEGIN:DAYLIGHT
TZOFFSETFROM:-0500
TZOFFSETTO:-0400
TZNAME:EDT
DTSTART:20270314T070000
END:DAYLIGHT
BEGIN:STANDARD
TZOFFSETFROM:-0400
TZOFFSETTO:-0500
TZNAME:EST
DTSTART:20271107T060000
END:STANDARD
END:VTIMEZONE
BEGIN:VEVENT
DTSTART;TZID=America/New_York:20260328T173000
DTEND;TZID=America/New_York:20260328T203000
DTSTAMP:20260423T062623
CREATED:20260224T160623Z
LAST-MODIFIED:20260224T160623Z
UID:10001459-1774719000-1774729800@wiltonchamber.com
SUMMARY:Wild & Scenic Film Festival
DESCRIPTION:Regular: $25 l $20 Seniors & Students K-12\nHosted by community partners: Norwalk River Valley Trail\, Norwalk River Watershed Association\, Pollinator Pathway\, Trout Unlimited\, Wilton Go Green\, Wilton Land Trust\, and Woodcock Nature Center. Proceeds directly benefit their shared mission to foster sustainability\, conservation\, and a deeper connection to the environment. \nThis community fundraiser is an evening of inspiration\, education\, and entertainment
URL:https://wiltonchamber.com/event-detail/wild-scenic-film-festival-2/
LOCATION:wilton high school Little Theatre\, 395 Danbury Rd\, Wilton\, CT\, 06897\, United States
CATEGORIES:Community Events
ATTACH;FMTTYPE=image/png:https://wiltonchamber.com/wp-content/uploads/2026/02/1.png
END:VEVENT
BEGIN:VEVENT
DTSTART;TZID=America/New_York:20240427T120000
DTEND;TZID=America/New_York:20240427T200000
DTSTAMP:20260423T062623
CREATED:20240423T190700Z
LAST-MODIFIED:20240423T190700Z
UID:10000375-1714219200-1714248000@wiltonchamber.com
SUMMARY:Frothy Forage 2024
DESCRIPTION:A good hike should be savored…. and so should a great drink. Why not do both at the same time?\nBring the whole family for a one-of-a-kind hiking and tasting experience! At secret locations along the Woodcock trails we’ll delight your senses with all new craft brews and sweet sips for all ages plus animal encounters\, treats and treasure hunts\, live music and food for purchase from the Mobile Pie pizza truck. Even furry family members will enjoy some goodies along the trek courtesy of Ridgefield Pet.\nTrek\, taste and discover with us!\nTickets on sale NOW!
URL:https://wiltonchamber.com/event-detail/frothy-forage-2024-2/
LOCATION:Woodcock Nature Center\, 56 Deer Run Rd\, Wilton\, CT\, 06897\, United States
CATEGORIES:Community Events
ATTACH;FMTTYPE=image/jpeg:https://wiltonchamber.com/wp-content/uploads/2024/04/FF_2024_1080x1350_IG-1.jpg
ORGANIZER;CN="Woodcock Nature Center":MAILTO:kdonahoe@woodcocknaturecenter.org
END:VEVENT
BEGIN:VEVENT
DTSTART;TZID=America/New_York:20240427T080000
DTEND;TZID=America/New_York:20240427T170000
DTSTAMP:20260423T062623
CREATED:20240409T185728Z
LAST-MODIFIED:20240409T185728Z
UID:10000374-1714204800-1714237200@wiltonchamber.com
SUMMARY:Frothy Forage 2024
DESCRIPTION:A good hike should be savored…. and so should a great drink.\nWhy not do both at the same time?\nBring the whole family for a one-of-a-kind hiking and tasting experience! At secret locations along the Woodcock trails we’ll delight your senses with all new craft brews and sweet sips for all ages plus animal encounters\, treats and treasure hunts\, live music and food for purchase from the Mobile Pie pizza truck. Even furry family members will enjoy some goodies along the trek courtesy of Ridgefield Pet.\nTrek\, taste and discover with us!\nTickets on sale NOW!
URL:https://wiltonchamber.com/event-detail/frothy-forage-2024/
LOCATION:Woodcock Nature Center\, 56 Deer Run Rd\, Wilton\, CT\, 06897\, United States
CATEGORIES:Community Events
ATTACH;FMTTYPE=image/jpeg:https://wiltonchamber.com/wp-content/uploads/2024/04/FF_2024_1080x1350_IG-1.jpg
ORGANIZER;CN="Woodcock Nature Center":MAILTO:kdonahoe@woodcocknaturecenter.org
END:VEVENT
BEGIN:VEVENT
DTSTART;TZID=America/New_York:20230429T120000
DTEND;TZID=America/New_York:20230429T200000
DTSTAMP:20260423T062623
CREATED:20230330T180308Z
LAST-MODIFIED:20230405T172004Z
UID:10000138-1682769600-1682798400@wiltonchamber.com
SUMMARY:Frothy Forage 2022
DESCRIPTION:A good hike should be savored…. and so should a great beer. Why not do both at the same time? \nBring the whole family for a one-of-a-kind hiking and tasting experience! At secret locations along the Woodcock trails we’ll delight your senses with all new craft brews and sweet sips for all ages plus animal encounters\, treats and treasure hunts\, live music and food for purchase from the Redding Roadhouse food truck. Even furry family members will enjoy some goodies along the trek courtesy of Ridgefield Pet. \nTrek\, taste and discover with us!
URL:https://wiltonchamber.com/event-detail/frothy-forage-2022/
CATEGORIES:Community Events
ATTACH;FMTTYPE=image/jpeg:https://wiltonchamber.com/wp-content/uploads/2023/03/WNC_FF_small_art-2.jpg
ORGANIZER;CN="Woodcock Nature Center":MAILTO:kdonahoe@woodcocknaturecenter.org
END:VEVENT
END:VCALENDAR