BEGIN:VCALENDAR
VERSION:2.0
PRODID:-//Wilton Chamber of Commerce - ECPv6.15.18//NONSGML v1.0//EN
CALSCALE:GREGORIAN
METHOD:PUBLISH
X-WR-CALNAME:Wilton Chamber of Commerce
X-ORIGINAL-URL:https://wiltonchamber.com
X-WR-CALDESC:Events for Wilton Chamber of Commerce
REFRESH-INTERVAL;VALUE=DURATION:PT1H
X-Robots-Tag:noindex
X-PUBLISHED-TTL:PT1H
BEGIN:VTIMEZONE
TZID:America/New_York
BEGIN:DAYLIGHT
TZOFFSETFROM:-0500
TZOFFSETTO:-0400
TZNAME:EDT
DTSTART:20220313T070000
END:DAYLIGHT
BEGIN:STANDARD
TZOFFSETFROM:-0400
TZOFFSETTO:-0500
TZNAME:EST
DTSTART:20221106T060000
END:STANDARD
BEGIN:DAYLIGHT
TZOFFSETFROM:-0500
TZOFFSETTO:-0400
TZNAME:EDT
DTSTART:20230312T070000
END:DAYLIGHT
BEGIN:STANDARD
TZOFFSETFROM:-0400
TZOFFSETTO:-0500
TZNAME:EST
DTSTART:20231105T060000
END:STANDARD
BEGIN:DAYLIGHT
TZOFFSETFROM:-0500
TZOFFSETTO:-0400
TZNAME:EDT
DTSTART:20240310T070000
END:DAYLIGHT
BEGIN:STANDARD
TZOFFSETFROM:-0400
TZOFFSETTO:-0500
TZNAME:EST
DTSTART:20241103T060000
END:STANDARD
BEGIN:DAYLIGHT
TZOFFSETFROM:-0500
TZOFFSETTO:-0400
TZNAME:EDT
DTSTART:20250309T070000
END:DAYLIGHT
BEGIN:STANDARD
TZOFFSETFROM:-0400
TZOFFSETTO:-0500
TZNAME:EST
DTSTART:20251102T060000
END:STANDARD
BEGIN:DAYLIGHT
TZOFFSETFROM:-0500
TZOFFSETTO:-0400
TZNAME:EDT
DTSTART:20260308T070000
END:DAYLIGHT
BEGIN:STANDARD
TZOFFSETFROM:-0400
TZOFFSETTO:-0500
TZNAME:EST
DTSTART:20261101T060000
END:STANDARD
END:VTIMEZONE
BEGIN:VEVENT
DTSTART;VALUE=DATE:20251005
DTEND;VALUE=DATE:20251006
DTSTAMP:20260423T031626
CREATED:20250908T181210Z
LAST-MODIFIED:20250908T181210Z
UID:10000864-1759680000-1759685400@wiltonchamber.com
SUMMARY:“Thy Will Be Done” Interactive Theater at Wilton Historical Society
DESCRIPTION:The Wilton Historical Society is thrilled to be partnering with Escapism Productions for an upcoming immersive historical theatre experience! \nIn a quiet 17th-century Connecticut village gripped by faith and fear\, the minister’s pregnant wife begins to show signs of a terrible affliction. Tongues whisper of witchcraft. Shadows gather. And as suspicion spreads like fire\, seven townsfolk stand at the center of it all\, each with secrets\, each with something to lose. \nOne among them is the witch. \nWill you uncover the truth before it’s too late? \nThis immersive production is performed at\, and in proud partnership with\, the Wilton Historical Society\, bringing the haunting world of early colonial New England to life where centuries-old shadows linger\, and the past refuses to stay buried. This experience allows guests to explore the Society’s historic Sloan-Raymond-Fitch House\, interacting directly with the characters to uncover secrets\, expose evidence\, and influence the ending. \nPerformance Dates and Times\nFriday\, October 3\, 7-8:30 PM\nSaturday\, October 4 8-9:30 PM\nSunday\, October 5 4-5:30 PM \n$50 – “Thy Will Be Done” Member Ticket\n$60 – “Thy Will Be Done” Non-Member Ticket \nTickets available here: https://wiltonhistorical.org/events/event/thy-will-be-done-interactive-theater-performance/
URL:https://wiltonchamber.com/event-detail/thy-will-be-done-interactive-theater-at-wilton-historical-society/2025-10-05/
LOCATION:Wilton Historical Society\, 224 Danbury Road\, Wilton\, CT\, 06897\, United States
CATEGORIES:Community Events
ATTACH;FMTTYPE=image/jpeg:https://wiltonchamber.com/wp-content/uploads/2025/09/twbd-logo-1000x500-1.jpg
ORGANIZER;CN="Wilton Historical Society":MAILTO:nfoster@wiltonhistorical.org
END:VEVENT
BEGIN:VEVENT
DTSTART;VALUE=DATE:20251004
DTEND;VALUE=DATE:20251005
DTSTAMP:20260423T031626
CREATED:20250908T181210Z
LAST-MODIFIED:20250908T181210Z
UID:10000863-1759608000-1759613400@wiltonchamber.com
SUMMARY:“Thy Will Be Done” Interactive Theater at Wilton Historical Society
DESCRIPTION:The Wilton Historical Society is thrilled to be partnering with Escapism Productions for an upcoming immersive historical theatre experience! \nIn a quiet 17th-century Connecticut village gripped by faith and fear\, the minister’s pregnant wife begins to show signs of a terrible affliction. Tongues whisper of witchcraft. Shadows gather. And as suspicion spreads like fire\, seven townsfolk stand at the center of it all\, each with secrets\, each with something to lose. \nOne among them is the witch. \nWill you uncover the truth before it’s too late? \nThis immersive production is performed at\, and in proud partnership with\, the Wilton Historical Society\, bringing the haunting world of early colonial New England to life where centuries-old shadows linger\, and the past refuses to stay buried. This experience allows guests to explore the Society’s historic Sloan-Raymond-Fitch House\, interacting directly with the characters to uncover secrets\, expose evidence\, and influence the ending. \nPerformance Dates and Times\nFriday\, October 3\, 7-8:30 PM\nSaturday\, October 4 8-9:30 PM\nSunday\, October 5 4-5:30 PM \n$50 – “Thy Will Be Done” Member Ticket\n$60 – “Thy Will Be Done” Non-Member Ticket \nTickets available here: https://wiltonhistorical.org/events/event/thy-will-be-done-interactive-theater-performance/
URL:https://wiltonchamber.com/event-detail/thy-will-be-done-interactive-theater-at-wilton-historical-society/2025-10-04/
LOCATION:Wilton Historical Society\, 224 Danbury Road\, Wilton\, CT\, 06897\, United States
CATEGORIES:Community Events
ATTACH;FMTTYPE=image/jpeg:https://wiltonchamber.com/wp-content/uploads/2025/09/twbd-logo-1000x500-1.jpg
ORGANIZER;CN="Wilton Historical Society":MAILTO:nfoster@wiltonhistorical.org
END:VEVENT
BEGIN:VEVENT
DTSTART;TZID=America/New_York:20251004T180000
DTEND;TZID=America/New_York:20251004T200000
DTSTAMP:20260423T031626
CREATED:20250908T181043Z
LAST-MODIFIED:20250908T181043Z
UID:10000860-1759600800-1759608000@wiltonchamber.com
SUMMARY:Colonial Tavern Night at Wilton Historical Society
DESCRIPTION:COLONIAL TAVERN NIGHT RETURNS IN 2025! \nColonial Tavern Night returns to the Wilton Historical Society this October. Join us for an evening of great food\, drinks\, games\, and trivia! \nTaverns and inns were an integral part of 18th century Wilton\, serving as restaurants\, bars\, rest stops for weary travelers\, and community centers. These businesses were so vital that for a time\, Connecticut colonial law actually required several towns to have at least one tavern open. On October 4th\, from 6:00 pm to 8:00 pm\, the Wilton Historical Society will party like it’s 1779 by hosting its own one night only tavern at the museum! \nAttendees can participate in that evening’s history pub trivia contest! \nTicket includes open bar with food courtesy of Jeff’s BBQ. This event is for adults 21+. \nNon-Members $80 per person\, WHS Members $65 per person. \nTickets available here: https://wiltonhistorical.org/events/event/colonial-tavern-night-2025/ \nBe sure to bundle your tickets with the immersive theater experience Thy Will Be Done in partnership with Escapism Productions. \nClick here for more information: https://wiltonhistorical.org/events/event/thy-will-be-done-interactive-theater-performance/
URL:https://wiltonchamber.com/event-detail/colonial-tavern-night-at-wilton-historical-society/
LOCATION:Wilton Historical Society\, 224 Danbury Road\, Wilton\, CT\, 06897\, United States
CATEGORIES:Community Events
ATTACH;FMTTYPE=image/png:https://wiltonchamber.com/wp-content/uploads/2025/09/Tavern-Night-Logo-Icon-300x400-1.png
ORGANIZER;CN="Wilton Historical Society":MAILTO:nfoster@wiltonhistorical.org
END:VEVENT
BEGIN:VEVENT
DTSTART;VALUE=DATE:20251003
DTEND;VALUE=DATE:20251004
DTSTAMP:20260423T031626
CREATED:20250908T181210Z
LAST-MODIFIED:20250908T181210Z
UID:10000862-1759518000-1759523400@wiltonchamber.com
SUMMARY:“Thy Will Be Done” Interactive Theater at Wilton Historical Society
DESCRIPTION:The Wilton Historical Society is thrilled to be partnering with Escapism Productions for an upcoming immersive historical theatre experience! \nIn a quiet 17th-century Connecticut village gripped by faith and fear\, the minister’s pregnant wife begins to show signs of a terrible affliction. Tongues whisper of witchcraft. Shadows gather. And as suspicion spreads like fire\, seven townsfolk stand at the center of it all\, each with secrets\, each with something to lose. \nOne among them is the witch. \nWill you uncover the truth before it’s too late? \nThis immersive production is performed at\, and in proud partnership with\, the Wilton Historical Society\, bringing the haunting world of early colonial New England to life where centuries-old shadows linger\, and the past refuses to stay buried. This experience allows guests to explore the Society’s historic Sloan-Raymond-Fitch House\, interacting directly with the characters to uncover secrets\, expose evidence\, and influence the ending. \nPerformance Dates and Times\nFriday\, October 3\, 7-8:30 PM\nSaturday\, October 4 8-9:30 PM\nSunday\, October 5 4-5:30 PM \n$50 – “Thy Will Be Done” Member Ticket\n$60 – “Thy Will Be Done” Non-Member Ticket \nTickets available here: https://wiltonhistorical.org/events/event/thy-will-be-done-interactive-theater-performance/
URL:https://wiltonchamber.com/event-detail/thy-will-be-done-interactive-theater-at-wilton-historical-society/2025-10-03/2/
LOCATION:Wilton Historical Society\, 224 Danbury Road\, Wilton\, CT\, 06897\, United States
CATEGORIES:Community Events
ATTACH;FMTTYPE=image/jpeg:https://wiltonchamber.com/wp-content/uploads/2025/09/twbd-logo-1000x500-1.jpg
ORGANIZER;CN="Wilton Historical Society":MAILTO:nfoster@wiltonhistorical.org
END:VEVENT
BEGIN:VEVENT
DTSTART;VALUE=DATE:20251003
DTEND;VALUE=DATE:20251006
DTSTAMP:20260423T031626
CREATED:20250908T181210Z
LAST-MODIFIED:20250908T181210Z
UID:10000861-1759449600-1759708799@wiltonchamber.com
SUMMARY:“Thy Will Be Done” Interactive Theater at Wilton Historical Society
DESCRIPTION:The Wilton Historical Society is thrilled to be partnering with Escapism Productions for an upcoming immersive historical theatre experience! \nIn a quiet 17th-century Connecticut village gripped by faith and fear\, the minister’s pregnant wife begins to show signs of a terrible affliction. Tongues whisper of witchcraft. Shadows gather. And as suspicion spreads like fire\, seven townsfolk stand at the center of it all\, each with secrets\, each with something to lose. \nOne among them is the witch. \nWill you uncover the truth before it’s too late? \nThis immersive production is performed at\, and in proud partnership with\, the Wilton Historical Society\, bringing the haunting world of early colonial New England to life where centuries-old shadows linger\, and the past refuses to stay buried. This experience allows guests to explore the Society’s historic Sloan-Raymond-Fitch House\, interacting directly with the characters to uncover secrets\, expose evidence\, and influence the ending. \nPerformance Dates and Times\nFriday\, October 3\, 7-8:30 PM\nSaturday\, October 4 8-9:30 PM\nSunday\, October 5 4-5:30 PM \n$50 – “Thy Will Be Done” Member Ticket\n$60 – “Thy Will Be Done” Non-Member Ticket \nTickets available here: https://wiltonhistorical.org/events/event/thy-will-be-done-interactive-theater-performance/
URL:https://wiltonchamber.com/event-detail/thy-will-be-done-interactive-theater-at-wilton-historical-society/2025-10-03/1/
LOCATION:Wilton Historical Society\, 224 Danbury Road\, Wilton\, CT\, 06897\, United States
CATEGORIES:Community Events
ATTACH;FMTTYPE=image/jpeg:https://wiltonchamber.com/wp-content/uploads/2025/09/twbd-logo-1000x500-1.jpg
ORGANIZER;CN="Wilton Historical Society":MAILTO:nfoster@wiltonhistorical.org
END:VEVENT
BEGIN:VEVENT
DTSTART;TZID=America/New_York:20240511T130000
DTEND;TZID=America/New_York:20240511T150000
DTSTAMP:20260423T031626
CREATED:20240404T173041Z
LAST-MODIFIED:20240404T173041Z
UID:10000367-1715432400-1715439600@wiltonchamber.com
SUMMARY:Victorian Tea Service
DESCRIPTION:Embrace the spring season and join the Wilton Historical Society for an afternoon filled with delicious teas\, delectable bites\, gorgeous flowers and memories created with loved ones! \nThe classic Afternoon Tea is a tradition born around 1840 when members of the British aristocracy felt the need for a delicate snack – accompanied by delicious tea – to fill the long gap between the lunch and dinner menus. Afternoon tea became a staple and symbol of both the Victorian period and the wealth of the British Empire. As the popularity of the service grew\, certain utensils\, menus\, and etiquette developed along with it. \nThe Wilton Historical Society is very excited to be able to present our very own Victorian Tea Service on May 11th\, 2024 from 1pm to 3pm. Guests will be seated in a beautifully decorated tent in the courtyard of the Society’s campus\, with all the classically magnificent details expected from a 19th century tea service. Delicious teas and bites catered by A Dash of Salt will be accompanied by a presentation on the History of Tea from an expert from Bigelow Tea. \nThis event is generously sponsored by Wildbloom Skincare and Bigelow Tea. \nFlowers and arrangement generously donated by Wild Roses and Blooms. \nTickets are $60 per person for Wilton Historical Society Members; $75 per person for Non-Members. Registration Required. Please visit www.wiltonhistorical.org or email info@wiltonhistorical.org to reserve your spot today! \nPlease Note: This is a seated event\, if you would like to be seated with another party\, please specify in the notes section below.
URL:https://wiltonchamber.com/event-detail/victorian-tea-service/
LOCATION:Wilton Historical Society\, 224 Danbury Road\, Wilton\, CT\, 06897\, United States
CATEGORIES:Community Events
ATTACH;FMTTYPE=image/png:https://wiltonchamber.com/wp-content/uploads/2024/04/Victorian-Tea-Logo.png
ORGANIZER;CN="Wilton Historical Society":MAILTO:nfoster@wiltonhistorical.org
END:VEVENT
BEGIN:VEVENT
DTSTART;TZID=America/New_York:20231124T100000
DTEND;TZID=America/New_York:20240115T160000
DTSTAMP:20260423T031626
CREATED:20231102T182105Z
LAST-MODIFIED:20231102T182329Z
UID:10000222-1700820000-1705334400@wiltonchamber.com
SUMMARY:The Great Trains Holiday Show
DESCRIPTION:Model trains\, holiday cheer\, and family fun returns with one of Wilton’s favorite winter traditions\, the Great Trains Holiday Show! Explore the Wilton Historical Society’s 18th and 19th century historic buildings – charmingly decorated for the holiday season – to find multiple layouts of model trains that wind their way through miniature snowy landscapes\, vibrant towns\, and mountain tunnels\, as well as some unexpected characters! The interactive displays and model holiday village are perfect holiday fun for all ages. Whether a model train builder or collector\, young wannabe train conductors\, or a family looking for a delightful seasonal experience\, the Great Trains Holiday Show has something for everyone. \nThe Great Holiday Train Show will run November 24th\, 2023 through January 15th\, 2024. Wilton Historical Hours during this event are Wednesdays–Saturdays\, 10:00 – 4:00; and Sundays\, 12:00 – 4:00. Admission is free for members of Wilton Historical; $5 per non-member child and $10 for non-member adults. \nSpecial holiday programming occurs on select Saturdays in December\, including a singalong with Music on the Hill on December 2nd and a visit from Santa Claus on December 9th! While you are visiting the Train Show\, don’t miss shopping at the Betts Store Museum Shop for holiday treats and treasures! \nVisit the website to learn more about this event and view the full schedule for special holiday programs.
URL:https://wiltonchamber.com/event-detail/the-great-trains-holiday-show/
LOCATION:Wilton Historical Society\, 224 Danbury Road\, Wilton\, CT\, 06897\, United States
CATEGORIES:Community Events
ATTACH;FMTTYPE=image/jpeg:https://wiltonchamber.com/wp-content/uploads/2023/11/Great-Trains-Holiday-Show-logo-1.jpg
ORGANIZER;CN="Wilton Historical Society":MAILTO:nfoster@wiltonhistorical.org
END:VEVENT
BEGIN:VEVENT
DTSTART;TZID=America/New_York:20231109T173000
DTEND;TZID=America/New_York:20231109T183000
DTSTAMP:20260423T031626
CREATED:20231002T154729Z
LAST-MODIFIED:20231002T154729Z
UID:10000210-1699551000-1699554600@wiltonchamber.com
SUMMARY:Learn American Sign Language
DESCRIPTION:American Sign Language (ASL) is a Connecticut invention. Created by faculty and founders of the American School for the Deaf in Hartford during the early 19th century\, it was inspired by several other sign languages developed in both Europe and America. Today\, ASL is used by hundreds of thousands of people across the United States to communicate. \nJoin the Wilton Historical Society in exploring ASL through a four part series that will offer an introduction to learning the language as well as its history. Classes will be held on four consecutive Thursday evenings from 5:30 to 6:30 – October 19th\, October 26th\, November 2nd\, and November 9th. \nRegistration is required and is for all four classes. Admission for the full course is $45 for Wilton Historical Society Members\, $60 for Non-Members. \nPlease register by visiting wiltonhistorical.org or by emailing info@wiltonhistorical.org
URL:https://wiltonchamber.com/event-detail/learn-american-sign-language/2023-11-09/
LOCATION:Wilton Historical Society\, 224 Danbury Road\, Wilton\, CT\, 06897\, United States
CATEGORIES:Community Events
ATTACH;FMTTYPE=image/png:https://wiltonchamber.com/wp-content/uploads/2023/09/ASL-image.png
ORGANIZER;CN="Wilton Historical Society":MAILTO:nfoster@wiltonhistorical.org
END:VEVENT
BEGIN:VEVENT
DTSTART;TZID=America/New_York:20231102T173000
DTEND;TZID=America/New_York:20231102T183000
DTSTAMP:20260423T031626
CREATED:20231002T154729Z
LAST-MODIFIED:20231002T154729Z
UID:10000209-1698946200-1698949800@wiltonchamber.com
SUMMARY:Learn American Sign Language
DESCRIPTION:American Sign Language (ASL) is a Connecticut invention. Created by faculty and founders of the American School for the Deaf in Hartford during the early 19th century\, it was inspired by several other sign languages developed in both Europe and America. Today\, ASL is used by hundreds of thousands of people across the United States to communicate. \nJoin the Wilton Historical Society in exploring ASL through a four part series that will offer an introduction to learning the language as well as its history. Classes will be held on four consecutive Thursday evenings from 5:30 to 6:30 – October 19th\, October 26th\, November 2nd\, and November 9th. \nRegistration is required and is for all four classes. Admission for the full course is $45 for Wilton Historical Society Members\, $60 for Non-Members. \nPlease register by visiting wiltonhistorical.org or by emailing info@wiltonhistorical.org
URL:https://wiltonchamber.com/event-detail/learn-american-sign-language/2023-11-02/
LOCATION:Wilton Historical Society\, 224 Danbury Road\, Wilton\, CT\, 06897\, United States
CATEGORIES:Community Events
ATTACH;FMTTYPE=image/png:https://wiltonchamber.com/wp-content/uploads/2023/09/ASL-image.png
ORGANIZER;CN="Wilton Historical Society":MAILTO:nfoster@wiltonhistorical.org
END:VEVENT
BEGIN:VEVENT
DTSTART;TZID=America/New_York:20231026T173000
DTEND;TZID=America/New_York:20231026T183000
DTSTAMP:20260423T031626
CREATED:20231002T154729Z
LAST-MODIFIED:20231002T154729Z
UID:10000208-1698341400-1698345000@wiltonchamber.com
SUMMARY:Learn American Sign Language
DESCRIPTION:American Sign Language (ASL) is a Connecticut invention. Created by faculty and founders of the American School for the Deaf in Hartford during the early 19th century\, it was inspired by several other sign languages developed in both Europe and America. Today\, ASL is used by hundreds of thousands of people across the United States to communicate. \nJoin the Wilton Historical Society in exploring ASL through a four part series that will offer an introduction to learning the language as well as its history. Classes will be held on four consecutive Thursday evenings from 5:30 to 6:30 – October 19th\, October 26th\, November 2nd\, and November 9th. \nRegistration is required and is for all four classes. Admission for the full course is $45 for Wilton Historical Society Members\, $60 for Non-Members. \nPlease register by visiting wiltonhistorical.org or by emailing info@wiltonhistorical.org
URL:https://wiltonchamber.com/event-detail/learn-american-sign-language/2023-10-26/
LOCATION:Wilton Historical Society\, 224 Danbury Road\, Wilton\, CT\, 06897\, United States
CATEGORIES:Community Events
ATTACH;FMTTYPE=image/png:https://wiltonchamber.com/wp-content/uploads/2023/09/ASL-image.png
ORGANIZER;CN="Wilton Historical Society":MAILTO:nfoster@wiltonhistorical.org
END:VEVENT
BEGIN:VEVENT
DTSTART;TZID=America/New_York:20231019T173000
DTEND;TZID=America/New_York:20231019T183000
DTSTAMP:20260423T031626
CREATED:20231002T154729Z
LAST-MODIFIED:20231002T154729Z
UID:10000207-1697736600-1697740200@wiltonchamber.com
SUMMARY:Learn American Sign Language
DESCRIPTION:American Sign Language (ASL) is a Connecticut invention. Created by faculty and founders of the American School for the Deaf in Hartford during the early 19th century\, it was inspired by several other sign languages developed in both Europe and America. Today\, ASL is used by hundreds of thousands of people across the United States to communicate. \nJoin the Wilton Historical Society in exploring ASL through a four part series that will offer an introduction to learning the language as well as its history. Classes will be held on four consecutive Thursday evenings from 5:30 to 6:30 – October 19th\, October 26th\, November 2nd\, and November 9th. \nRegistration is required and is for all four classes. Admission for the full course is $45 for Wilton Historical Society Members\, $60 for Non-Members. \nPlease register by visiting wiltonhistorical.org or by emailing info@wiltonhistorical.org
URL:https://wiltonchamber.com/event-detail/learn-american-sign-language/2023-10-19/
LOCATION:Wilton Historical Society\, 224 Danbury Road\, Wilton\, CT\, 06897\, United States
CATEGORIES:Community Events
ATTACH;FMTTYPE=image/png:https://wiltonchamber.com/wp-content/uploads/2023/09/ASL-image.png
ORGANIZER;CN="Wilton Historical Society":MAILTO:nfoster@wiltonhistorical.org
END:VEVENT
BEGIN:VEVENT
DTSTART;TZID=America/New_York:20231014T140000
DTEND;TZID=America/New_York:20231014T160000
DTSTAMP:20260423T031626
CREATED:20230919T210004Z
LAST-MODIFIED:20230919T210147Z
UID:10000199-1697292000-1697299200@wiltonchamber.com
SUMMARY:The 3rd Annual Great Wilton Pumpkin Fest
DESCRIPTION:The 3rd Annual Great Wilton Pumpkin Fest is set to take place on Saturday\, October 14th from 2pm to 4pm. It’s fun for all ages with all things pumpkin! Play fall themed lawn games\, join expert reenactors as they cook over an open hearth\, weave and spin flax\, or hammer away in the blacksmith’s forge\, enjoy complimentary cider and donuts\, and much more! \nVisitors can also pick up their very own pumpkin to bring home! Browse the pumpkin patch of the Wilton Kiwanis club on the Society’s front lawn and purchase the perfect one. Then head over to the pumpkin decorating station and put your creativity on display. Kiwanis will also have small gourds and mums on sale to help fill out your personal harvest display. \nStart the season with a day of Fall fun for all ages! More information to come. Visit the website to pre-purchase tickets.
URL:https://wiltonchamber.com/event-detail/the-3rd-annual-great-wilton-pumpkin-fest/
LOCATION:Wilton Historical Society\, 224 Danbury Road\, Wilton\, CT\, 06897\, United States
CATEGORIES:Community Events
ATTACH;FMTTYPE=image/png:https://wiltonchamber.com/wp-content/uploads/2023/09/Pumpkin-Fest-2023-Logo.png
ORGANIZER;CN="Wilton Historical Society":MAILTO:nfoster@wiltonhistorical.org
END:VEVENT
BEGIN:VEVENT
DTSTART;TZID=America/New_York:20230928T173000
DTEND;TZID=America/New_York:20230928T190000
DTSTAMP:20260423T031626
CREATED:20230915T185159Z
LAST-MODIFIED:20230915T185159Z
UID:10000196-1695922200-1695927600@wiltonchamber.com
SUMMARY:Back to School Trivia and Bingo Night
DESCRIPTION:Join the Wilton Historical Society on Thursday\, September 28th from 5:30 to 7pm for a “Back to School” event you won’t want to miss! Gather your friends and family Test your knowledge of American history with our historical trivia and be “in it to win it”! With sweet treats\, school supply goodies and lots of fun\, the Wilton Historical Society will be kicking off the school year with a bang! \nFamilies will participate in 4 rounds of historical trivia and in between each round will play one game of bingo. Winners of both bingo and trivia will receive prizes like free school supplies or tickets to the Wilton Historical Society’s much anticipated Great Trains Holiday Show. Each participating group will also receive a participation prize! \nThis event is generously supported by DIG USA. Their after school and camp programs include soccer\, chess\, arts and crafts\, nerf capture the flag\, flag football\, Rubik’s cubes and much more! \nAdmission to the Back to School Trivia Night is free for all members of the Wilton Historical Society and $5 per person for all non-members. To register\, please visit the website or email info@wiltonhistorical.org.
URL:https://wiltonchamber.com/event-detail/back-to-school-trivia-and-bingo-night/
LOCATION:Wilton Historical Society\, 224 Danbury Road\, Wilton\, CT\, 06897\, United States
CATEGORIES:Community Events
ATTACH;FMTTYPE=image/png:https://wiltonchamber.com/wp-content/uploads/2023/09/Back-to-School-Trivia-Logo.png
ORGANIZER;CN="Wilton Historical Society":MAILTO:nfoster@wiltonhistorical.org
END:VEVENT
END:VCALENDAR