BEGIN:VCALENDAR
VERSION:2.0
PRODID:-//Wilton Chamber of Commerce - ECPv6.15.18//NONSGML v1.0//EN
CALSCALE:GREGORIAN
METHOD:PUBLISH
X-ORIGINAL-URL:https://wiltonchamber.com
X-WR-CALDESC:Events for Wilton Chamber of Commerce
REFRESH-INTERVAL;VALUE=DURATION:PT1H
X-Robots-Tag:noindex
X-PUBLISHED-TTL:PT1H
BEGIN:VTIMEZONE
TZID:America/New_York
BEGIN:DAYLIGHT
TZOFFSETFROM:-0500
TZOFFSETTO:-0400
TZNAME:EDT
DTSTART:20200308T070000
END:DAYLIGHT
BEGIN:STANDARD
TZOFFSETFROM:-0400
TZOFFSETTO:-0500
TZNAME:EST
DTSTART:20201101T060000
END:STANDARD
BEGIN:DAYLIGHT
TZOFFSETFROM:-0500
TZOFFSETTO:-0400
TZNAME:EDT
DTSTART:20210314T070000
END:DAYLIGHT
BEGIN:STANDARD
TZOFFSETFROM:-0400
TZOFFSETTO:-0500
TZNAME:EST
DTSTART:20211107T060000
END:STANDARD
BEGIN:DAYLIGHT
TZOFFSETFROM:-0500
TZOFFSETTO:-0400
TZNAME:EDT
DTSTART:20220313T070000
END:DAYLIGHT
BEGIN:STANDARD
TZOFFSETFROM:-0400
TZOFFSETTO:-0500
TZNAME:EST
DTSTART:20221106T060000
END:STANDARD
BEGIN:DAYLIGHT
TZOFFSETFROM:-0500
TZOFFSETTO:-0400
TZNAME:EDT
DTSTART:20230312T070000
END:DAYLIGHT
BEGIN:STANDARD
TZOFFSETFROM:-0400
TZOFFSETTO:-0500
TZNAME:EST
DTSTART:20231105T060000
END:STANDARD
BEGIN:DAYLIGHT
TZOFFSETFROM:-0500
TZOFFSETTO:-0400
TZNAME:EDT
DTSTART:20240310T070000
END:DAYLIGHT
BEGIN:STANDARD
TZOFFSETFROM:-0400
TZOFFSETTO:-0500
TZNAME:EST
DTSTART:20241103T060000
END:STANDARD
END:VTIMEZONE
BEGIN:VEVENT
DTSTART;TZID=America/New_York:20230125T173000
DTEND;TZID=America/New_York:20230125T193000
DTSTAMP:20260423T030121
CREATED:20221220T203927Z
LAST-MODIFIED:20230405T172019Z
UID:10000059-1674667800-1674675000@wiltonchamber.com
SUMMARY:Business After Hours at MoCA Westport
DESCRIPTION:Please join us for a unique tri-Chamber networking event at MoCA Westport on Wednesday January 25\, 2023 – 5:30-7:30 pm. Connect with fellow members of the Greater Norwalk Chamber and Westport-Weston Chamber of Commerce\, enjoy drinks and light bites\, and take advantage of the opportunity to explore MoCA’s current exhibition. \nMoCA Westport is conveniently located at the intersection of Westport\, Norwalk and Wilton at 19 Newtown Turnpike Westport\, CT 06880 and is a destination for contemporary visual arts exhibitions\, music performances\, and comprehensive arts education. \n	\n	\n			\n		\n						\n				\n				\n                \n			\n			\n						\n				Payment options\n				\n				  Submit and Pay with PayPal				 \n    			 				\n				\n			\n			\n							\n					Please enter the security code\n					\n						\n					\n					\n				\n				\n					Security Code (lowercase letters)\n					\n						\n						\n					\n					\n				\n						\n			\n						Submit and Pay with PayPal
URL:https://wiltonchamber.com/event-detail/business-after-hours-at-moca-westport/
LOCATION:WP Router Placeholder Page
CATEGORIES:BAH
ATTACH;FMTTYPE=image/png:https://wiltonchamber.com/wp-content/uploads/2023/01/MoCA-BAH-1-732x1024-1.png
END:VEVENT
BEGIN:VEVENT
DTSTART;TZID=America/New_York:20221101T080000
DTEND;TZID=America/New_York:20221130T210000
DTSTAMP:20260423T030121
CREATED:20221013T190417Z
LAST-MODIFIED:20231106T161413Z
UID:10000083-1667289600-1669842000@wiltonchamber.com
SUMMARY:Shop Wilton
DESCRIPTION:The Wilton Chamber of Commerce has teamed up with Kimco Realty to support our local businesses\, retailers\, and merchants for the return of “Shop Wilton” in November. Pick up your frequent shopper card at participating stores or at the Chamber office then SHOP\, SUPPORT\, and WIN prizes! \nGuests will be able to visit merchants with their shopper card and every $25 purchase earns them a stamp (ex: a $75 purchase is equivalent to 3 stamps). After accumulating three stamps\, the shopper can submit their completed postcard to any participating store or at the Chamber office and be entered to win prize items and gift cards from our local businesses! Winners will be announced on Dec. 1st at our Holiday Stroll celebration. \nRestaurants and retailers interested in participating please contact us at info@wiltonchamber.com \nMake sure to shop and support our local businesses! Participating merchants are: \n\nAlana Strock & Company (located at Sola Salon Studios)\nAncona’s Wines and Liquors\nB Chic\nClassically Cate\nCT Fitness Lab\nHappy Hands Art and Pottery\nJill Lynn & Co.\nKumon\nOpen House Gift Shop\nThe Painted Cookie\nSalon Citrine (located at Sola Salon Studios)\nScoops\nSignature Style\nSnappy Gator\nSoBol Wilton\nSweet Pierre’s\nWild Child\nYour CBD Store Wilton\n\n*This event is proudly presented by Wilton River Park Shopping Center which is owned and operated by Kimco Realty. The shopping center features twenty acres of premier office and retail properties. Situated in a park-like setting amidst a sculpture garden and mature plantings\, the Park offers a rare opportunity to work\, shop and play in one of the most beautiful towns in Fairfield County – Wilton\, Connecticut!!
URL:https://wiltonchamber.com/event-detail/shop-wilton-2022-2/
LOCATION:Wilton
CATEGORIES:Shop Wilton
ATTACH;FMTTYPE=image/jpeg:https://wiltonchamber.com/wp-content/uploads/2023/01/Kimco-Postcard-front-1024x795-1.jpg
END:VEVENT
BEGIN:VEVENT
DTSTART;TZID=America/New_York:20211014T173000
DTEND;TZID=America/New_York:20211014T190000
DTSTAMP:20260423T030121
CREATED:20210928T143039Z
LAST-MODIFIED:20230405T172040Z
UID:10000095-1634232600-1634238000@wiltonchamber.com
SUMMARY:Business After Hours at MoCA
DESCRIPTION:Join us on Thursday Oct. 14th for the return of our in person Business After Hours networking events! Together with the Westport-Weston Chamber of Commerce\, we invite you to an evening of delicious hors d’oeuvres\, great drinks\, wonderful company and a beautiful outdoor setting at the Museum of Contemporary Art (MoCA) Westport. \nEnjoy this wonderful event and reconnect and connect with many local businesses in our area! \n	\n	\n			\n		\n						\n				\n				\n                \n			\n			\n						\n				Payment options\n				\n				  Submit and Pay with PayPal				 \n    			 				\n				\n			\n			\n							\n					Please enter the security code\n					\n						\n					\n					\n				\n				\n					Security Code (lowercase letters)\n					\n						\n						\n					\n					\n				\n						\n			\n						Submit and Pay with PayPal
URL:https://wiltonchamber.com/event-detail/business-after-hours-at-moca/
LOCATION:WP Router Placeholder Page
CATEGORIES:BAH
ATTACH;FMTTYPE=image/jpeg:https://wiltonchamber.com/wp-content/uploads/2021/09/MoCA-BAH-10.14-663x1024-1.jpg
END:VEVENT
END:VCALENDAR