BEGIN:VCALENDAR
VERSION:2.0
PRODID:-//Wilton Chamber of Commerce - ECPv6.15.18//NONSGML v1.0//EN
CALSCALE:GREGORIAN
METHOD:PUBLISH
X-WR-CALNAME:Wilton Chamber of Commerce
X-ORIGINAL-URL:https://wiltonchamber.com
X-WR-CALDESC:Events for Wilton Chamber of Commerce
REFRESH-INTERVAL;VALUE=DURATION:PT1H
X-Robots-Tag:noindex
X-PUBLISHED-TTL:PT1H
BEGIN:VTIMEZONE
TZID:America/New_York
BEGIN:DAYLIGHT
TZOFFSETFROM:-0500
TZOFFSETTO:-0400
TZNAME:EDT
DTSTART:20190310T070000
END:DAYLIGHT
BEGIN:STANDARD
TZOFFSETFROM:-0400
TZOFFSETTO:-0500
TZNAME:EST
DTSTART:20191103T060000
END:STANDARD
BEGIN:DAYLIGHT
TZOFFSETFROM:-0500
TZOFFSETTO:-0400
TZNAME:EDT
DTSTART:20200308T070000
END:DAYLIGHT
BEGIN:STANDARD
TZOFFSETFROM:-0400
TZOFFSETTO:-0500
TZNAME:EST
DTSTART:20201101T060000
END:STANDARD
BEGIN:DAYLIGHT
TZOFFSETFROM:-0500
TZOFFSETTO:-0400
TZNAME:EDT
DTSTART:20210314T070000
END:DAYLIGHT
BEGIN:STANDARD
TZOFFSETFROM:-0400
TZOFFSETTO:-0500
TZNAME:EST
DTSTART:20211107T060000
END:STANDARD
END:VTIMEZONE
BEGIN:VEVENT
DTSTART;TZID=America/New_York:20201016T080000
DTEND;TZID=America/New_York:20201102T170000
DTSTAMP:20260423T050047
CREATED:20200918T140430Z
LAST-MODIFIED:20230405T172052Z
UID:10000101-1602835200-1604336400@wiltonchamber.com
SUMMARY:Scarecrow Fest 2020
DESCRIPTION:The Chamber of Commerce along with the town of Wilton\, The Wilton Historical Society\, Department of Public Works and Parks and Recreation proudly announces the return of our annual Scarecrow Fest! \nEvery year we decorate Wilton Center with one of a kind scarecrows designed by our local organizations\, businesses and families! The scarecrows really add to the fall festive spirit in town and help makes the village come alive! The event runs from October 16- November 2\, 2020. Download participation form here: scarecrow entry 2020 \nPayments can be mailed along with form to Wilton Chamber of Commerce\, 86 Old Ridgefield Road Wilton\, CT 06897. Please make payment payable to Wilton Chamber of Commerce and note “scarecrow fest 2020” on check. \nDeadline for submission is OCTOBER 1st\, 2020 and limited to 50 participants! For any questions or inquires contact us at 203-762-0567 or info@wiltonchamber.com
URL:https://wiltonchamber.com/event-detail/scarecrow-fest-2020-2/
LOCATION:little-pub-logo-1
CATEGORIES:Halloween Events
ATTACH;FMTTYPE=:
END:VEVENT
END:VCALENDAR