BEGIN:VCALENDAR
VERSION:2.0
PRODID:-//Wilton Chamber of Commerce - ECPv6.15.18//NONSGML v1.0//EN
CALSCALE:GREGORIAN
METHOD:PUBLISH
X-WR-CALNAME:Wilton Chamber of Commerce
X-ORIGINAL-URL:https://wiltonchamber.com
X-WR-CALDESC:Events for Wilton Chamber of Commerce
REFRESH-INTERVAL;VALUE=DURATION:PT1H
X-Robots-Tag:noindex
X-PUBLISHED-TTL:PT1H
BEGIN:VTIMEZONE
TZID:America/New_York
BEGIN:DAYLIGHT
TZOFFSETFROM:-0500
TZOFFSETTO:-0400
TZNAME:EDT
DTSTART:20230312T070000
END:DAYLIGHT
BEGIN:STANDARD
TZOFFSETFROM:-0400
TZOFFSETTO:-0500
TZNAME:EST
DTSTART:20231105T060000
END:STANDARD
BEGIN:DAYLIGHT
TZOFFSETFROM:-0500
TZOFFSETTO:-0400
TZNAME:EDT
DTSTART:20240310T070000
END:DAYLIGHT
BEGIN:STANDARD
TZOFFSETFROM:-0400
TZOFFSETTO:-0500
TZNAME:EST
DTSTART:20241103T060000
END:STANDARD
BEGIN:DAYLIGHT
TZOFFSETFROM:-0500
TZOFFSETTO:-0400
TZNAME:EDT
DTSTART:20250309T070000
END:DAYLIGHT
BEGIN:STANDARD
TZOFFSETFROM:-0400
TZOFFSETTO:-0500
TZNAME:EST
DTSTART:20251102T060000
END:STANDARD
END:VTIMEZONE
BEGIN:VEVENT
DTSTART;TZID=America/New_York:20240612T180000
DTEND;TZID=America/New_York:20240612T200000
DTSTAMP:20260423T043227
CREATED:20240521T185011Z
LAST-MODIFIED:20240521T185011Z
UID:10000389-1718215200-1718222400@wiltonchamber.com
SUMMARY:Simple Steps to a Well-Run Business - A 3-part SCORE Seminar at Wilton Library
DESCRIPTION:Owning and operating a small business is often called a “labor of love.” At times it can be overwhelming or frustrating\, but it can also be incredibly rewarding. Undoubtedly\, it’s full of challenges – but with the help of SCORE mentors as well as your peers\, you can navigate any obstacle that comes your way. \nTake a little time from “working in” your business to strategize or “work on” your business. This special series of three in-person workshops will help you focus on the most important aspects of success. The intended participants for these 3 workshops are growing and established business owners. \nJoin SCORE Mentors as well as your fellow small business owners in this series of three educational sessions\, which will help you focus on the key success factors in your business. \nImportant strategies we will focus on include:\n•Operate: Understand your numbers and your people;\n•Navigate: Prioritizing planning and strategic thinking;\n•Communicate: Develop and refine your “Core Values” and effectively communicate them to others. \nRegister Now! \nMay 30: Simple Steps to a Well-Run Business – Operate\nhttps://www.score.org/fairfieldcounty/event/may-30-simple-steps-a-well-run-business-operate \nJune 5: Simple Steps to a Well-Run Business – Navigate\nhttps://www.score.org/fairfieldcounty/event/jun-5-simple-steps-a-well-run-business-navigate \nJune 12: Simple Steps to a Well-Run Business – Communicate\nhttps://www.score.org/fairfieldcounty/event/jun-12-simple-steps-a-well-run-business-communicate
URL:https://wiltonchamber.com/event-detail/simple-steps-to-a-well-run-business-a-3-part-score-seminar-at-wilton-library/2024-06-12/
LOCATION:Wilton Library\, 137 Old Ridgefield Rd\, Wilton\, Connecticut\, 06897\, United States
CATEGORIES:Community Events
ATTACH;FMTTYPE=image/png:https://wiltonchamber.com/wp-content/uploads/2024/05/Score-Workshop-Wilton-Library-2024-Phil.png
ORGANIZER;CN="SCORE - Fairfield County Chapter":MAILTO:richard.kelsey@scorevolunteer.org
END:VEVENT
BEGIN:VEVENT
DTSTART;TZID=America/New_York:20240605T180000
DTEND;TZID=America/New_York:20240605T200000
DTSTAMP:20260423T043227
CREATED:20240521T185011Z
LAST-MODIFIED:20240521T185011Z
UID:10000388-1717610400-1717617600@wiltonchamber.com
SUMMARY:Simple Steps to a Well-Run Business - A 3-part SCORE Seminar at Wilton Library
DESCRIPTION:Owning and operating a small business is often called a “labor of love.” At times it can be overwhelming or frustrating\, but it can also be incredibly rewarding. Undoubtedly\, it’s full of challenges – but with the help of SCORE mentors as well as your peers\, you can navigate any obstacle that comes your way. \nTake a little time from “working in” your business to strategize or “work on” your business. This special series of three in-person workshops will help you focus on the most important aspects of success. The intended participants for these 3 workshops are growing and established business owners. \nJoin SCORE Mentors as well as your fellow small business owners in this series of three educational sessions\, which will help you focus on the key success factors in your business. \nImportant strategies we will focus on include:\n•Operate: Understand your numbers and your people;\n•Navigate: Prioritizing planning and strategic thinking;\n•Communicate: Develop and refine your “Core Values” and effectively communicate them to others. \nRegister Now! \nMay 30: Simple Steps to a Well-Run Business – Operate\nhttps://www.score.org/fairfieldcounty/event/may-30-simple-steps-a-well-run-business-operate \nJune 5: Simple Steps to a Well-Run Business – Navigate\nhttps://www.score.org/fairfieldcounty/event/jun-5-simple-steps-a-well-run-business-navigate \nJune 12: Simple Steps to a Well-Run Business – Communicate\nhttps://www.score.org/fairfieldcounty/event/jun-12-simple-steps-a-well-run-business-communicate
URL:https://wiltonchamber.com/event-detail/simple-steps-to-a-well-run-business-a-3-part-score-seminar-at-wilton-library/2024-06-05/
LOCATION:Wilton Library\, 137 Old Ridgefield Rd\, Wilton\, Connecticut\, 06897\, United States
CATEGORIES:Community Events
ATTACH;FMTTYPE=image/png:https://wiltonchamber.com/wp-content/uploads/2024/05/Score-Workshop-Wilton-Library-2024-Phil.png
ORGANIZER;CN="SCORE - Fairfield County Chapter":MAILTO:richard.kelsey@scorevolunteer.org
END:VEVENT
BEGIN:VEVENT
DTSTART;TZID=America/New_York:20240530T180000
DTEND;TZID=America/New_York:20240530T200000
DTSTAMP:20260423T043227
CREATED:20240521T185011Z
LAST-MODIFIED:20240521T185011Z
UID:10000387-1717092000-1717099200@wiltonchamber.com
SUMMARY:Simple Steps to a Well-Run Business - A 3-part SCORE Seminar at Wilton Library
DESCRIPTION:Owning and operating a small business is often called a “labor of love.” At times it can be overwhelming or frustrating\, but it can also be incredibly rewarding. Undoubtedly\, it’s full of challenges – but with the help of SCORE mentors as well as your peers\, you can navigate any obstacle that comes your way. \nTake a little time from “working in” your business to strategize or “work on” your business. This special series of three in-person workshops will help you focus on the most important aspects of success. The intended participants for these 3 workshops are growing and established business owners. \nJoin SCORE Mentors as well as your fellow small business owners in this series of three educational sessions\, which will help you focus on the key success factors in your business. \nImportant strategies we will focus on include:\n•Operate: Understand your numbers and your people;\n•Navigate: Prioritizing planning and strategic thinking;\n•Communicate: Develop and refine your “Core Values” and effectively communicate them to others. \nRegister Now! \nMay 30: Simple Steps to a Well-Run Business – Operate\nhttps://www.score.org/fairfieldcounty/event/may-30-simple-steps-a-well-run-business-operate \nJune 5: Simple Steps to a Well-Run Business – Navigate\nhttps://www.score.org/fairfieldcounty/event/jun-5-simple-steps-a-well-run-business-navigate \nJune 12: Simple Steps to a Well-Run Business – Communicate\nhttps://www.score.org/fairfieldcounty/event/jun-12-simple-steps-a-well-run-business-communicate
URL:https://wiltonchamber.com/event-detail/simple-steps-to-a-well-run-business-a-3-part-score-seminar-at-wilton-library/2024-05-30/
LOCATION:Wilton Library\, 137 Old Ridgefield Rd\, Wilton\, Connecticut\, 06897\, United States
CATEGORIES:Community Events
ATTACH;FMTTYPE=image/png:https://wiltonchamber.com/wp-content/uploads/2024/05/Score-Workshop-Wilton-Library-2024-Phil.png
ORGANIZER;CN="SCORE - Fairfield County Chapter":MAILTO:richard.kelsey@scorevolunteer.org
END:VEVENT
END:VCALENDAR