BEGIN:VCALENDAR
VERSION:2.0
PRODID:-//Wilton Chamber of Commerce - ECPv6.15.18//NONSGML v1.0//EN
CALSCALE:GREGORIAN
METHOD:PUBLISH
X-ORIGINAL-URL:https://wiltonchamber.com
X-WR-CALDESC:Events for Wilton Chamber of Commerce
REFRESH-INTERVAL;VALUE=DURATION:PT1H
X-Robots-Tag:noindex
X-PUBLISHED-TTL:PT1H
BEGIN:VTIMEZONE
TZID:America/New_York
BEGIN:DAYLIGHT
TZOFFSETFROM:-0500
TZOFFSETTO:-0400
TZNAME:EDT
DTSTART:20230312T070000
END:DAYLIGHT
BEGIN:STANDARD
TZOFFSETFROM:-0400
TZOFFSETTO:-0500
TZNAME:EST
DTSTART:20231105T060000
END:STANDARD
BEGIN:DAYLIGHT
TZOFFSETFROM:-0500
TZOFFSETTO:-0400
TZNAME:EDT
DTSTART:20240310T070000
END:DAYLIGHT
BEGIN:STANDARD
TZOFFSETFROM:-0400
TZOFFSETTO:-0500
TZNAME:EST
DTSTART:20241103T060000
END:STANDARD
BEGIN:DAYLIGHT
TZOFFSETFROM:-0500
TZOFFSETTO:-0400
TZNAME:EDT
DTSTART:20250309T070000
END:DAYLIGHT
BEGIN:STANDARD
TZOFFSETFROM:-0400
TZOFFSETTO:-0500
TZNAME:EST
DTSTART:20251102T060000
END:STANDARD
END:VTIMEZONE
BEGIN:VEVENT
DTSTART;TZID=America/New_York:20241003T173000
DTEND;TZID=America/New_York:20241003T193000
DTSTAMP:20260423T043954
CREATED:20240909T161304Z
LAST-MODIFIED:20240923T163729Z
UID:10000424-1727976600-1727983800@wiltonchamber.com
SUMMARY:Business After Hours - Wilton Playshop - POSTPONED
DESCRIPTION:EVENT UPDATE: This event is being postponed due to logistical issues. A new date will be announced soon. All guests that registered will be given a refund or credit for this event. \n\nIn collaboration with the Wilton and Ridgefield Chambers of Commerce\, all are invited to join us for a fantastic evening of networking and entertainment hosted by the Wilton Playshop on Thursday\, Oct. 3rd from 5:30-7:30pm. Since 1937\, the mission of The Wilton Playshop has been to further the performing arts by providing quality live theatre to the greater Wilton area\, and by doing so\, provide an educational and growing experience for all involved. \nMeet the group of volunteers behind this great organization\, enjoy lite bites and refreshments\, and connect with local business leaders from our community and neighboring towns. This event is open for all but registration is required. Register below: \n 
URL:https://wiltonchamber.com/event-detail/business-after-hours-wilton-playshop/
LOCATION:Wilton Playshop\, 15 Lovers Lane\, Wilton\, CT\, 06897\, United States
CATEGORIES:BAH,Chamber Events
ATTACH;FMTTYPE=image/jpeg:https://wiltonchamber.com/wp-content/uploads/2024/09/Playshop-BAH-revised.jpg
ORGANIZER;CN="Wilton Chamber of Commerce":MAILTO:info@wiltonchamber.com
END:VEVENT
BEGIN:VEVENT
DTSTART;TZID=America/New_York:20240905T173000
DTEND;TZID=America/New_York:20240905T193000
DTSTAMP:20260423T043954
CREATED:20240729T160052Z
LAST-MODIFIED:20240729T160052Z
UID:10000406-1725557400-1725564600@wiltonchamber.com
SUMMARY:Joint Chamber Networking Event at Circle of Care
DESCRIPTION:Join us for a joint collaboration between the Wilton and Ridgefield Chambers of Commerce for an evening of networking hosted by Chamber member Circle of Care on Thursday\, September 5th from 5:30-7:30 pm. Engage with business leaders from our neighboring communities and find out more about Circle of Care and the wonderful work that they do to support children with cancer and their families. \nThis event is open for all – registration is required. Register below: \n	\n	\n			\n		\n						\n				\n				\n                \n			\n			\n						\n				Payment options\n				\n				  Submit and Pay with PayPal or credit card				 \n    			 				\n				\n			\n			\n							\n					Please enter the security code\n					\n						\n					\n					\n				\n				\n					Security Code (lowercase letters)\n					\n						\n						\n					\n					\n				\n						\n			\n						Submit and Pay with PayPal or Credit Card
URL:https://wiltonchamber.com/event-detail/joint-chamber-networking-event-at-circle-of-care/
LOCATION:Circle of Care\, 144 Danbury Road\, Wilton\, CT\, 06897\, United States
CATEGORIES:BAH,Chamber Events
ATTACH;FMTTYPE=image/jpeg:https://wiltonchamber.com/wp-content/uploads/2024/07/Circle-of-Care-Networking-Graphic-9.5.jpg
ORGANIZER;CN="Wilton Chamber of Commerce":MAILTO:info@wiltonchamber.com
END:VEVENT
BEGIN:VEVENT
DTSTART;TZID=America/New_York:20240620T173000
DTEND;TZID=America/New_York:20240620T193000
DTSTAMP:20260423T043954
CREATED:20240405T155751Z
LAST-MODIFIED:20240405T155751Z
UID:10000368-1718904600-1718911800@wiltonchamber.com
SUMMARY:Tri-Chamber Networking Event at Grace Farms
DESCRIPTION:The Chambers of Commerce of New Canaan\, Ridgefield and Wilton and the Grace Farms Foundation invite you to join us on Thursday\, June 20th from 5:30 – 7:30 p.m. for cocktails & conversation. \nGrace Farms – 365 Lukes Wood Road\, New Canaan\, CT 06840 \nCome to meet business leaders from the neighboring communities\, tour the beautiful grounds and learn about Grace Farms Foundation. Lite Bites and refreshments will be served. The event is free but registration is required. \nRegister here: Grace Farms Business Networking 2024
URL:https://wiltonchamber.com/event-detail/tri-chamber-networking-event-at-grace-farms/
LOCATION:Grace Farms\, 365 Lukes Wood Road\, New Canaan\, 06840\, United States
CATEGORIES:BAH
ATTACH;FMTTYPE=image/png:https://wiltonchamber.com/wp-content/uploads/2024/04/2024-Grace-Farm-BAH-Instagram-.png
ORGANIZER;CN="Wilton Chamber of Commerce":MAILTO:info@wiltonchamber.com
END:VEVENT
END:VCALENDAR