BEGIN:VCALENDAR
VERSION:2.0
PRODID:-//Wilton Chamber of Commerce - ECPv6.15.18//NONSGML v1.0//EN
CALSCALE:GREGORIAN
METHOD:PUBLISH
X-ORIGINAL-URL:https://wiltonchamber.com
X-WR-CALDESC:Events for Wilton Chamber of Commerce
REFRESH-INTERVAL;VALUE=DURATION:PT1H
X-Robots-Tag:noindex
X-PUBLISHED-TTL:PT1H
BEGIN:VTIMEZONE
TZID:America/New_York
BEGIN:DAYLIGHT
TZOFFSETFROM:-0500
TZOFFSETTO:-0400
TZNAME:EDT
DTSTART:20250309T070000
END:DAYLIGHT
BEGIN:STANDARD
TZOFFSETFROM:-0400
TZOFFSETTO:-0500
TZNAME:EST
DTSTART:20251102T060000
END:STANDARD
BEGIN:DAYLIGHT
TZOFFSETFROM:-0500
TZOFFSETTO:-0400
TZNAME:EDT
DTSTART:20260308T070000
END:DAYLIGHT
BEGIN:STANDARD
TZOFFSETFROM:-0400
TZOFFSETTO:-0500
TZNAME:EST
DTSTART:20261101T060000
END:STANDARD
BEGIN:DAYLIGHT
TZOFFSETFROM:-0500
TZOFFSETTO:-0400
TZNAME:EDT
DTSTART:20270314T070000
END:DAYLIGHT
BEGIN:STANDARD
TZOFFSETFROM:-0400
TZOFFSETTO:-0500
TZNAME:EST
DTSTART:20271107T060000
END:STANDARD
END:VTIMEZONE
BEGIN:VEVENT
DTSTART;TZID=America/New_York:20260606T083000
DTEND;TZID=America/New_York:20260606T193000
DTSTAMP:20260424T213020
CREATED:20260424T184207Z
LAST-MODIFIED:20260424T184207Z
UID:10001534-1780734600-1780774200@wiltonchamber.com
SUMMARY:Rhoswyn Wellness and Yoga 1st Anniversary Celebration and Ribbon Cutting
DESCRIPTION:Rhoswyn Wellness and Yoga\, which opened in 2025 featuring Wilton’s first and only hot yoga offering\, will celebrate its first anniversary on Saturday\, June 6th at its Danbury Road studio. The day will include a series of free classes and studio tours\, highlighted by a ribbon cutting conducted by the Wilton Chamber of Commerce. \nMarried co-owners Anna Louise Williams and Jerry Griffin will welcome members\, interested residents and fellow business owners to the two-floor studio throughout the day. \nThey will offer special discounts to those who sign up for introductory offers or memberships on site\, present members with appreciation gifts and conduct a raffle prize draw. \nThe daylong celebration will spotlight the breadth of Rhoswyn’s offerings\, beginning with a non-heated Flow class at 8:30 a.m.\, followed by the studio’s popular Family class at 10:30. \nA Hot Flow follows at 12:30 p.m.\, after which the studio will open at 2:30 p.m. for walk-throughs and light refreshments leading up to the ribbon cutting at 3 p.m. The day finishes with a Gentle Flow at 3:30 p.m. and a relaxing Sound Bath at 6:30 p.m. led by Williams\, the studio’s lead instructor.
URL:https://wiltonchamber.com/event-detail/rhoswyn-wellness-ribbon-cutting/
LOCATION:Rhoswyn Wellness and Yoga\, 196 Danbury Road\, Wilton\, CT\, 06897\, United States
CATEGORIES:Community Events,Ribbon Cutting
ATTACH;FMTTYPE=image/png:https://wiltonchamber.com/wp-content/uploads/2026/04/Rhoswyn-Anniversary-3-e1777056119949.png
END:VEVENT
END:VCALENDAR