BEGIN:VCALENDAR
VERSION:2.0
PRODID:-//Wilton Chamber of Commerce - ECPv6.15.18//NONSGML v1.0//EN
CALSCALE:GREGORIAN
METHOD:PUBLISH
X-ORIGINAL-URL:https://wiltonchamber.com
X-WR-CALDESC:Events for Wilton Chamber of Commerce
REFRESH-INTERVAL;VALUE=DURATION:PT1H
X-Robots-Tag:noindex
X-PUBLISHED-TTL:PT1H
BEGIN:VTIMEZONE
TZID:America/New_York
BEGIN:DAYLIGHT
TZOFFSETFROM:-0500
TZOFFSETTO:-0400
TZNAME:EDT
DTSTART:20220313T070000
END:DAYLIGHT
BEGIN:STANDARD
TZOFFSETFROM:-0400
TZOFFSETTO:-0500
TZNAME:EST
DTSTART:20221106T060000
END:STANDARD
BEGIN:DAYLIGHT
TZOFFSETFROM:-0500
TZOFFSETTO:-0400
TZNAME:EDT
DTSTART:20230312T070000
END:DAYLIGHT
BEGIN:STANDARD
TZOFFSETFROM:-0400
TZOFFSETTO:-0500
TZNAME:EST
DTSTART:20231105T060000
END:STANDARD
BEGIN:DAYLIGHT
TZOFFSETFROM:-0500
TZOFFSETTO:-0400
TZNAME:EDT
DTSTART:20240310T070000
END:DAYLIGHT
BEGIN:STANDARD
TZOFFSETFROM:-0400
TZOFFSETTO:-0500
TZNAME:EST
DTSTART:20241103T060000
END:STANDARD
END:VTIMEZONE
BEGIN:VEVENT
DTSTART;TZID=America/New_York:20230608T173000
DTEND;TZID=America/New_York:20230608T193000
DTSTAMP:20260423T042921
CREATED:20230427T183159Z
LAST-MODIFIED:20230524T155409Z
UID:10000159-1686245400-1686252600@wiltonchamber.com
SUMMARY:Joint Chamber Business After Hours : Grace Farms
DESCRIPTION:The Chambers of Commerce of New Canaan\, Ridgefield and Wilton and the Grace Farms Foundation invite you to join us on Thursday\, June 8th from 5:30 – 7:30 p.m. for cocktails & conversation. \nGrace Farms – 365 Lukes Wood Road\, New Canaan\, CT 06840 \nOn Thursday June 8th Grace Farms will open its doors to Chamber of Commerce Members from New Canaan\, Ridgefield and Wilton for an after hours networking event. Come to meet business leaders from the neighboring communities\, tour the beautiful grounds and learn about Grace Farms Foundation. Lite Bites and refreshments will be served. \nThe event is free but please register ahead of time using the link here: JOINT CHAMBER NETWORKING at GRACE FARMS
URL:https://wiltonchamber.com/event-detail/joint-chamber-business-after-hours-grace-farms/
LOCATION:Grace Farms\, 365 Lukes Wood Road\, New Canaan\, 06840\, United States
CATEGORIES:BAH
ATTACH;FMTTYPE=image/png:https://wiltonchamber.com/wp-content/uploads/2023/05/FINAL-revised-Grace-Farm-BAH-.png
ORGANIZER;CN="Wilton Chamber of Commerce":MAILTO:info@wiltonchamber.com
END:VEVENT
END:VCALENDAR