BEGIN:VCALENDAR
VERSION:2.0
PRODID:-//Wilton Chamber of Commerce - ECPv6.15.18//NONSGML v1.0//EN
CALSCALE:GREGORIAN
METHOD:PUBLISH
X-WR-CALNAME:Wilton Chamber of Commerce
X-ORIGINAL-URL:https://wiltonchamber.com
X-WR-CALDESC:Events for Wilton Chamber of Commerce
REFRESH-INTERVAL;VALUE=DURATION:PT1H
X-Robots-Tag:noindex
X-PUBLISHED-TTL:PT1H
BEGIN:VTIMEZONE
TZID:America/New_York
BEGIN:DAYLIGHT
TZOFFSETFROM:-0500
TZOFFSETTO:-0400
TZNAME:EDT
DTSTART:20230312T070000
END:DAYLIGHT
BEGIN:STANDARD
TZOFFSETFROM:-0400
TZOFFSETTO:-0500
TZNAME:EST
DTSTART:20231105T060000
END:STANDARD
BEGIN:DAYLIGHT
TZOFFSETFROM:-0500
TZOFFSETTO:-0400
TZNAME:EDT
DTSTART:20240310T070000
END:DAYLIGHT
BEGIN:STANDARD
TZOFFSETFROM:-0400
TZOFFSETTO:-0500
TZNAME:EST
DTSTART:20241103T060000
END:STANDARD
BEGIN:DAYLIGHT
TZOFFSETFROM:-0500
TZOFFSETTO:-0400
TZNAME:EDT
DTSTART:20250309T070000
END:DAYLIGHT
BEGIN:STANDARD
TZOFFSETFROM:-0400
TZOFFSETTO:-0500
TZNAME:EST
DTSTART:20251102T060000
END:STANDARD
BEGIN:DAYLIGHT
TZOFFSETFROM:-0500
TZOFFSETTO:-0400
TZNAME:EDT
DTSTART:20260308T070000
END:DAYLIGHT
BEGIN:STANDARD
TZOFFSETFROM:-0400
TZOFFSETTO:-0500
TZNAME:EST
DTSTART:20261101T060000
END:STANDARD
END:VTIMEZONE
BEGIN:VEVENT
DTSTART;TZID=America/New_York:20250505T090000
DTEND;TZID=America/New_York:20250505T110000
DTSTAMP:20260424T140843
CREATED:20250128T174150Z
LAST-MODIFIED:20250128T183914Z
UID:10000639-1746435600-1746442800@wiltonchamber.com
SUMMARY:Spring Minks to Sinks Tag Sale
DESCRIPTION:The beloved Minks to Sinks Tag Sale is back to bring incredible deals and a strong sense of community to Wilton! This spring\, the event runs from Saturday\, May 3\, to Monday\, May 5\, at 395 Danbury Road (corner of School Road and Route 7 – just look for the BIG white tent). \nMinks to Sinks is a long-standing tradition\, held twice a year\, that brings the community together for a great cause. Whether you’re looking to declutter\, shop\, or support a meaningful mission\, this is the event for you. With hundreds of thousands of items donated each year\, this sale is a treasure trove of bargains\, offering everything from household goods and clothing to furniture and unique finds. The event wouldn’t be possible without the dedication of nearly 200 volunteers\, who ensure everything runs smoothly. Don’t miss out on this epic tag sale – we can’t wait to see you there! \nAll proceeds from the tag sale benefit the Family & Children’s Agency\, supporting critical human services that help individuals and families thrive. \nSale Dates\nSaturday\, May 3 | 9 AM – 5 PM\nSunday\, May 4 | 12 PM – 4 PM\nBargain Day – Everything is half off!\nMonday\, May 5 | 9 AM – 11 AM\nBargain Day – Fill a bag for $10! \nConsigning & Donating\nTuesday\, April 29 | 10 AM – 2 PM\nWednesday\, April 30 | 10 AM – 2 PM & 4 PM – 6 PM\nThursday\, May 1 | 10 AM – 2 PM (Donations only)
URL:https://wiltonchamber.com/event-detail/spring-minks-to-sinks-tag-sale/2025-05-05/
LOCATION:395 Danbury Road on the corner of School Road and Route 7\, 395 Danbury Road\, Wilton\, CT\, 06897\, United States
CATEGORIES:Community Events,Fundraiser
ATTACH;FMTTYPE=image/jpeg:https://wiltonchamber.com/wp-content/uploads/2025/01/Instagram_Minks-to-Sinks-Spring-Sale-FamilyandChildrensAgency-v2-scaled.jpg
ORGANIZER;CN="Minks to Sinks":MAILTO:lperry@fcagency.org
END:VEVENT
BEGIN:VEVENT
DTSTART;TZID=America/New_York:20250504T120000
DTEND;TZID=America/New_York:20250504T160000
DTSTAMP:20260424T140843
CREATED:20250128T174150Z
LAST-MODIFIED:20250128T183914Z
UID:10000638-1746360000-1746374400@wiltonchamber.com
SUMMARY:Spring Minks to Sinks Tag Sale
DESCRIPTION:The beloved Minks to Sinks Tag Sale is back to bring incredible deals and a strong sense of community to Wilton! This spring\, the event runs from Saturday\, May 3\, to Monday\, May 5\, at 395 Danbury Road (corner of School Road and Route 7 – just look for the BIG white tent). \nMinks to Sinks is a long-standing tradition\, held twice a year\, that brings the community together for a great cause. Whether you’re looking to declutter\, shop\, or support a meaningful mission\, this is the event for you. With hundreds of thousands of items donated each year\, this sale is a treasure trove of bargains\, offering everything from household goods and clothing to furniture and unique finds. The event wouldn’t be possible without the dedication of nearly 200 volunteers\, who ensure everything runs smoothly. Don’t miss out on this epic tag sale – we can’t wait to see you there! \nAll proceeds from the tag sale benefit the Family & Children’s Agency\, supporting critical human services that help individuals and families thrive. \nSale Dates\nSaturday\, May 3 | 9 AM – 5 PM\nSunday\, May 4 | 12 PM – 4 PM\nBargain Day – Everything is half off!\nMonday\, May 5 | 9 AM – 11 AM\nBargain Day – Fill a bag for $10! \nConsigning & Donating\nTuesday\, April 29 | 10 AM – 2 PM\nWednesday\, April 30 | 10 AM – 2 PM & 4 PM – 6 PM\nThursday\, May 1 | 10 AM – 2 PM (Donations only)
URL:https://wiltonchamber.com/event-detail/spring-minks-to-sinks-tag-sale/2025-05-04/
LOCATION:395 Danbury Road on the corner of School Road and Route 7\, 395 Danbury Road\, Wilton\, CT\, 06897\, United States
CATEGORIES:Community Events,Fundraiser
ATTACH;FMTTYPE=image/jpeg:https://wiltonchamber.com/wp-content/uploads/2025/01/Instagram_Minks-to-Sinks-Spring-Sale-FamilyandChildrensAgency-v2-scaled.jpg
ORGANIZER;CN="Minks to Sinks":MAILTO:lperry@fcagency.org
END:VEVENT
BEGIN:VEVENT
DTSTART;TZID=America/New_York:20250503T090000
DTEND;TZID=America/New_York:20250503T170000
DTSTAMP:20260424T140843
CREATED:20250128T174150Z
LAST-MODIFIED:20250128T183914Z
UID:10000637-1746262800-1746291600@wiltonchamber.com
SUMMARY:Spring Minks to Sinks Tag Sale
DESCRIPTION:The beloved Minks to Sinks Tag Sale is back to bring incredible deals and a strong sense of community to Wilton! This spring\, the event runs from Saturday\, May 3\, to Monday\, May 5\, at 395 Danbury Road (corner of School Road and Route 7 – just look for the BIG white tent). \nMinks to Sinks is a long-standing tradition\, held twice a year\, that brings the community together for a great cause. Whether you’re looking to declutter\, shop\, or support a meaningful mission\, this is the event for you. With hundreds of thousands of items donated each year\, this sale is a treasure trove of bargains\, offering everything from household goods and clothing to furniture and unique finds. The event wouldn’t be possible without the dedication of nearly 200 volunteers\, who ensure everything runs smoothly. Don’t miss out on this epic tag sale – we can’t wait to see you there! \nAll proceeds from the tag sale benefit the Family & Children’s Agency\, supporting critical human services that help individuals and families thrive. \nSale Dates\nSaturday\, May 3 | 9 AM – 5 PM\nSunday\, May 4 | 12 PM – 4 PM\nBargain Day – Everything is half off!\nMonday\, May 5 | 9 AM – 11 AM\nBargain Day – Fill a bag for $10! \nConsigning & Donating\nTuesday\, April 29 | 10 AM – 2 PM\nWednesday\, April 30 | 10 AM – 2 PM & 4 PM – 6 PM\nThursday\, May 1 | 10 AM – 2 PM (Donations only)
URL:https://wiltonchamber.com/event-detail/spring-minks-to-sinks-tag-sale/2025-05-03/
LOCATION:395 Danbury Road on the corner of School Road and Route 7\, 395 Danbury Road\, Wilton\, CT\, 06897\, United States
CATEGORIES:Community Events,Fundraiser
ATTACH;FMTTYPE=image/jpeg:https://wiltonchamber.com/wp-content/uploads/2025/01/Instagram_Minks-to-Sinks-Spring-Sale-FamilyandChildrensAgency-v2-scaled.jpg
ORGANIZER;CN="Minks to Sinks":MAILTO:lperry@fcagency.org
END:VEVENT
BEGIN:VEVENT
DTSTART;VALUE=DATE:20241001
DTEND;VALUE=DATE:20241008
DTSTAMP:20260424T140843
CREATED:20241001T170120Z
LAST-MODIFIED:20241001T170120Z
UID:10000428-1727740800-1728345599@wiltonchamber.com
SUMMARY:Minks to Sinks
DESCRIPTION:Get ready to shop ‘til you drop at Wilton’s biggest treasure hunt! From vintage finds to designer steals\, we’ve got it all—clothing\, home goods\, accessories\, and more. Best part? Every purchase supports Family & Children’s Agency’s work in our community. \nDonations and consignments accepted October 1-3\, and come back to shop October 5-7! \nJust load up your car\, pull up to the tents at Wilton High School during donation hours\, and volunteers will direct you and help you unload. We appreciate your tax-deductible contributions! All proceeds support FCA. \nMore info\, including a list of accepted items\, at: Minks to Sinks \nDonations/Consignments:\nOctober 1: 10-2\nOctober 2: 10-2 & 4-6\nOctober 3: 10-2 (donations only) \nSale:\nOctober 5: 9-5\nOctober 6: 12-4\nOctober 7: 9-11
URL:https://wiltonchamber.com/event-detail/minks-to-sinks/
LOCATION:Minks to Sinks\, 395 Danbury Rd\, Wilton\, CT\, United States
CATEGORIES:Community Events
ATTACH;FMTTYPE=image/jpeg:https://wiltonchamber.com/wp-content/uploads/2024/10/Facebook_Minks-to-Sinks-Fall-Sale-FamilyandChildrensAgency.jpg
ORGANIZER;CN="Minks to Sinks":MAILTO:lperry@fcagency.org
END:VEVENT
END:VCALENDAR