BEGIN:VCALENDAR
VERSION:2.0
PRODID:-//Wilton Chamber of Commerce - ECPv6.15.18//NONSGML v1.0//EN
CALSCALE:GREGORIAN
METHOD:PUBLISH
X-ORIGINAL-URL:https://wiltonchamber.com
X-WR-CALDESC:Events for Wilton Chamber of Commerce
REFRESH-INTERVAL;VALUE=DURATION:PT1H
X-Robots-Tag:noindex
X-PUBLISHED-TTL:PT1H
BEGIN:VTIMEZONE
TZID:America/New_York
BEGIN:DAYLIGHT
TZOFFSETFROM:-0500
TZOFFSETTO:-0400
TZNAME:EDT
DTSTART:20230312T070000
END:DAYLIGHT
BEGIN:STANDARD
TZOFFSETFROM:-0400
TZOFFSETTO:-0500
TZNAME:EST
DTSTART:20231105T060000
END:STANDARD
BEGIN:DAYLIGHT
TZOFFSETFROM:-0500
TZOFFSETTO:-0400
TZNAME:EDT
DTSTART:20240310T070000
END:DAYLIGHT
BEGIN:STANDARD
TZOFFSETFROM:-0400
TZOFFSETTO:-0500
TZNAME:EST
DTSTART:20241103T060000
END:STANDARD
BEGIN:DAYLIGHT
TZOFFSETFROM:-0500
TZOFFSETTO:-0400
TZNAME:EDT
DTSTART:20250309T070000
END:DAYLIGHT
BEGIN:STANDARD
TZOFFSETFROM:-0400
TZOFFSETTO:-0500
TZNAME:EST
DTSTART:20251102T060000
END:STANDARD
BEGIN:DAYLIGHT
TZOFFSETFROM:-0500
TZOFFSETTO:-0400
TZNAME:EDT
DTSTART:20260308T070000
END:DAYLIGHT
BEGIN:STANDARD
TZOFFSETFROM:-0400
TZOFFSETTO:-0500
TZNAME:EST
DTSTART:20261101T060000
END:STANDARD
END:VTIMEZONE
BEGIN:VEVENT
DTSTART;TZID=America/New_York:20250612T120000
DTEND;TZID=America/New_York:20250612T133000
DTSTAMP:20260423T031028
CREATED:20250528T175023Z
LAST-MODIFIED:20250528T175023Z
UID:10000785-1749729600-1749735000@wiltonchamber.com
SUMMARY:League of Women Voters Wilton - Closing Lunch
DESCRIPTION:Please join the League of Women Voters Wilton at Simply Delicious (1 Danbury Road) on Thursday June 12\, 2025 – 12:00 pm for our Closing Lunch & Informal Conversation regarding this years legislative cycle. \nAsk questions of Wilton’s State Senator Ceci Maher and House Representative Savet Constantine \n$35.00 per person – Pay by Venmo (see QR Code on ad) Please RSVP by June 9 to: wiltonlwv@gmail.com
URL:https://wiltonchamber.com/event-detail/league-of-women-voters-wilton-closing-lunch/
LOCATION:Simple Delicious\, 1 Danbury Road\, Wilton\, CT\, 06897\, United States
CATEGORIES:Community Events
ATTACH;FMTTYPE=image/png:https://wiltonchamber.com/wp-content/uploads/2025/05/Legis.-Dialog-LWVW-email-rsvp.png
END:VEVENT
BEGIN:VEVENT
DTSTART;TZID=America/New_York:20250225T090000
DTEND;TZID=America/New_York:20250225T100000
DTSTAMP:20260423T031028
CREATED:20250220T165802Z
LAST-MODIFIED:20250220T170634Z
UID:10000655-1740474000-1740477600@wiltonchamber.com
SUMMARY:Coffee and Conversation with League of Women Voters - Wilton
DESCRIPTION:Please join the League of Women Voters – Wilton for our Monthly Coffee & Conversation Event with – Wilton’s Board of Finance Chairman\, Matt Raimondi. \nTuesday February 25 at 9:00 AM\nOrem’s Diner\, 167 Danbury Road Wilton \nThis is a causal event where you can ask Matt your questions about the town’s finance and the upcoming budget season. Your Coffee is On Us!
URL:https://wiltonchamber.com/event-detail/coffee-and-conversation-with-league-of-women-voters-wilton/
LOCATION:Orem’s Diner\, 167 Danbury Road\, Wilton\, 06897\, United States
CATEGORIES:Community Events
ATTACH;FMTTYPE=image/png:https://wiltonchamber.com/wp-content/uploads/2025/02/LWVW-COFFEE-FEB-2025-.png
END:VEVENT
BEGIN:VEVENT
DTSTART;TZID=America/New_York:20250201T103000
DTEND;TZID=America/New_York:20250201T120000
DTSTAMP:20260423T031028
CREATED:20250116T191527Z
LAST-MODIFIED:20250116T191527Z
UID:10000630-1738405800-1738411200@wiltonchamber.com
SUMMARY:Wilton League of Women Voters Legislative Dialogue
DESCRIPTION:Please join us as Wilton Library and the Wilton League of Women Voters present a Legislative Dialogue between Wilton constituents and our elected state legislators. State Senator Ceci Maher (District 26) and State Representative Savet Constantine (District 42) both plan to attend to hear from Wilton residents about priority issues facing the town and state\, as well as to talk about their respective committee work and their priorities for the upcoming legislative cycle. \nThis event\, which is free and open to the public\, will be held in person in the Brubeck Room at Wilton Library. Because this is a dialogue\, constituents are invited to pose questions during the live event. \nPlease register online at the Wilton Library events page\, so that we can plan seating and refreshments.
URL:https://wiltonchamber.com/event-detail/wilton-league-of-women-voters-legislative-dialogue/
LOCATION:Wilton Library\, 137 Old Ridgefield Rd\, Wilton\, Connecticut\, 06897\, United States
CATEGORIES:Community Events
ATTACH;FMTTYPE=image/png:https://wiltonchamber.com/wp-content/uploads/2025/01/Legis.-Dialog-LWVW-1.png
END:VEVENT
BEGIN:VEVENT
DTSTART;TZID=America/New_York:20241120T083000
DTEND;TZID=America/New_York:20241120T093000
DTSTAMP:20260423T031028
CREATED:20241117T193642Z
LAST-MODIFIED:20241117T193642Z
UID:10000608-1732091400-1732095000@wiltonchamber.com
SUMMARY:A Cup of Coffee and A Conversation - Wilton League of Women Voters
DESCRIPTION:The League of Women Voters Wilton is again hosting our monthly community event on \nWednesday November 20 – 8:30 am at Orem’s Dinner\nPlease join us for \nA Cup of Coffee & A Conversation\nThis month Steve Pierce\, Director of Wilton Parks & Recreation will be there to talk about\nour facilities and answer any questions you may have about how Parks & Rec works.\nNo RSVP required. Show Up and have a cup of coffee on us!
URL:https://wiltonchamber.com/event-detail/a-cup-of-coffee-and-a-conversation-wilton-league-of-women-voters/
LOCATION:Orem’s Diner\, 167 Danbury Road\, Wilton\, 06897\, United States
CATEGORIES:Community Events
ATTACH;FMTTYPE=image/jpeg:https://wiltonchamber.com/wp-content/uploads/2024/11/LWVW-Nov-20th-Coffee.jpg
END:VEVENT
BEGIN:VEVENT
DTSTART;TZID=America/New_York:20240913T123000
DTEND;TZID=America/New_York:20240913T150000
DTSTAMP:20260423T031028
CREATED:20240905T192639Z
LAST-MODIFIED:20240905T192639Z
UID:10000423-1726230600-1726239600@wiltonchamber.com
SUMMARY:League of Women Voters of Wilton - Annual Opening Lunch
DESCRIPTION:Join the League of Women Voters of Wilton for their Annual Opening Lunch at Marly’s Restaurant on Friday September 13\, 2024 at 12:30pm. Please RSVP by Sept. 11 – email: wiltonlwv@gmail.com
URL:https://wiltonchamber.com/event-detail/league-of-women-voters-of-wilton-annual-opening-lunch/
LOCATION:Marly’s Bar and Bistro\, 101 Old Ridgefield Road\, Wilton\, CT\, 06897\, United States
CATEGORIES:Community Events
ATTACH;FMTTYPE=image/png:https://wiltonchamber.com/wp-content/uploads/2024/09/LWV-Opening-Lunch.png
END:VEVENT
END:VCALENDAR