BEGIN:VCALENDAR
VERSION:2.0
PRODID:-//Wilton Chamber of Commerce - ECPv6.15.18//NONSGML v1.0//EN
CALSCALE:GREGORIAN
METHOD:PUBLISH
X-ORIGINAL-URL:https://wiltonchamber.com
X-WR-CALDESC:Events for Wilton Chamber of Commerce
REFRESH-INTERVAL;VALUE=DURATION:PT1H
X-Robots-Tag:noindex
X-PUBLISHED-TTL:PT1H
BEGIN:VTIMEZONE
TZID:America/New_York
BEGIN:DAYLIGHT
TZOFFSETFROM:-0500
TZOFFSETTO:-0400
TZNAME:EDT
DTSTART:20240310T070000
END:DAYLIGHT
BEGIN:STANDARD
TZOFFSETFROM:-0400
TZOFFSETTO:-0500
TZNAME:EST
DTSTART:20241103T060000
END:STANDARD
BEGIN:DAYLIGHT
TZOFFSETFROM:-0500
TZOFFSETTO:-0400
TZNAME:EDT
DTSTART:20250309T070000
END:DAYLIGHT
BEGIN:STANDARD
TZOFFSETFROM:-0400
TZOFFSETTO:-0500
TZNAME:EST
DTSTART:20251102T060000
END:STANDARD
BEGIN:DAYLIGHT
TZOFFSETFROM:-0500
TZOFFSETTO:-0400
TZNAME:EDT
DTSTART:20260308T070000
END:DAYLIGHT
BEGIN:STANDARD
TZOFFSETFROM:-0400
TZOFFSETTO:-0500
TZNAME:EST
DTSTART:20261101T060000
END:STANDARD
END:VTIMEZONE
BEGIN:VEVENT
DTSTART;VALUE=DATE:20250701
DTEND;VALUE=DATE:20250801
DTSTAMP:20260423T033340
CREATED:20250627T134010Z
LAST-MODIFIED:20250627T134010Z
UID:10000797-1751328000-1754006399@wiltonchamber.com
SUMMARY:Kaia Yoga Wilton Offers Free Community Classes in July
DESCRIPTION:Kaia Yoga Wilton Offers Free Community Classes in July \nAs part of our commitment to giving back\, Kaia Yoga Wilton is offering select free yoga classes throughout July. All are welcome to join — just check the schedule to see which classes are free. \nNew students\, please arrive 15 minutes early to create an account.\nCome move\, breathe\, and connect with us this summer! \nFind a class: https://www.kaiayoga.com/wilton-ct
URL:https://wiltonchamber.com/event-detail/kaia-yoga-wilton-offers-free-community-classes-in-july/
LOCATION:Kaia Yoga Wilton\, 80 Old Ridgefield Rd\, Wilton\, CT\, 06879\, United States
CATEGORIES:Community Events
ATTACH;FMTTYPE=image/png:https://wiltonchamber.com/wp-content/uploads/2025/06/6.png
ORGANIZER;CN="Kaia Yoga":MAILTO:wilton@kaiayoga.com
END:VEVENT
BEGIN:VEVENT
DTSTART;TZID=America/New_York:20250209T190000
DTEND;TZID=America/New_York:20250209T203000
DTSTAMP:20260423T033340
CREATED:20250124T201123Z
LAST-MODIFIED:20250124T201211Z
UID:10000633-1739127600-1739133000@wiltonchamber.com
SUMMARY:Kaia Yoga - Inner Glow: Yoga for Love and Healing
DESCRIPTION:Community Offering led by Suzanne Wadyka is a heart-centered class designed to help you reconnect with yourself\, cultivate self-love\, and foster inner healing. Through gentle breathwork\, soulful movement\, restorative poses\, and guided meditation\, you’ll release tension\, open your heart\, and rediscover your inner light.\nThis nurturing experience weaves themes of self-care\, gratitude\, and self-worth into every moment\, leaving you feeling grounded\, radiant\, and deeply renewed. Suitable for all levels\, this free class is a meaningful way to prioritize yourself and embrace the power of love and healing from within. \nAfter class\, stay and enjoy hot cocoa on us! Take a moment to relax\, connect\, and chat with others in our warm and welcoming community. \nCost: Free
URL:https://wiltonchamber.com/event-detail/kaia-yoga-inner-glow-yoga-for-love-and-healing/
LOCATION:Kaia Yoga Wilton\, 80 Old Ridgefield Rd\, Wilton\, CT\, 06879\, United States
CATEGORIES:Community Events
ATTACH;FMTTYPE=image/png:https://wiltonchamber.com/wp-content/uploads/2025/01/Feb-9-Community-event.png
ORGANIZER;CN="Kaia Yoga":MAILTO:wilton@kaiayoga.com
END:VEVENT
END:VCALENDAR