BEGIN:VCALENDAR
VERSION:2.0
PRODID:-//Wilton Chamber of Commerce - ECPv6.15.18//NONSGML v1.0//EN
CALSCALE:GREGORIAN
METHOD:PUBLISH
X-ORIGINAL-URL:https://wiltonchamber.com
X-WR-CALDESC:Events for Wilton Chamber of Commerce
REFRESH-INTERVAL;VALUE=DURATION:PT1H
X-Robots-Tag:noindex
X-PUBLISHED-TTL:PT1H
BEGIN:VTIMEZONE
TZID:America/New_York
BEGIN:DAYLIGHT
TZOFFSETFROM:-0500
TZOFFSETTO:-0400
TZNAME:EDT
DTSTART:20250309T070000
END:DAYLIGHT
BEGIN:STANDARD
TZOFFSETFROM:-0400
TZOFFSETTO:-0500
TZNAME:EST
DTSTART:20251102T060000
END:STANDARD
BEGIN:DAYLIGHT
TZOFFSETFROM:-0500
TZOFFSETTO:-0400
TZNAME:EDT
DTSTART:20260308T070000
END:DAYLIGHT
BEGIN:STANDARD
TZOFFSETFROM:-0400
TZOFFSETTO:-0500
TZNAME:EST
DTSTART:20261101T060000
END:STANDARD
BEGIN:DAYLIGHT
TZOFFSETFROM:-0500
TZOFFSETTO:-0400
TZNAME:EDT
DTSTART:20270314T070000
END:DAYLIGHT
BEGIN:STANDARD
TZOFFSETFROM:-0400
TZOFFSETTO:-0500
TZNAME:EST
DTSTART:20271107T060000
END:STANDARD
END:VTIMEZONE
BEGIN:VEVENT
DTSTART;TZID=America/New_York:20260428T173000
DTEND;TZID=America/New_York:20260428T183000
DTSTAMP:20260423T012040
CREATED:20260304T172401Z
LAST-MODIFIED:20260304T172511Z
UID:10001465-1777397400-1777401000@wiltonchamber.com
SUMMARY:FREE Energy Savings Workshop
DESCRIPTION:Understanding your energy bills and finding ways to save money shouldn’t feel overwhelming and we’re here to help. \nJoin Housatonic Habitat for Humanity\, along with Eversource and local weatherization contractor representatives\, to learn how to: \n• Understand your energy bill\n• Explore programs available to help\n• Discover ways to save money and energy\n• Learn how to live more sustainably \n𝗘𝘃𝗲𝗻𝘁 𝗗𝗲𝘁𝗮𝗶𝗹𝘀\nDate: Tuesday\, April 28\, 2026\nTime: 5:30-6:30 PM\nLocation: Danbury Public Library – Farioly Program Room\n70 Main Street\, Danbury\, CT \nIn-person seating is limited and available on a first-come\, first-served basis. Virtual attendance also available \n𝗥𝗲𝗴𝗶𝘀𝘁𝗿𝗮𝘁𝗶𝗼𝗻\nThis event is free. That’s right\, completely free. We simply ask that you register to reserve your in-person seat or so we have your information to send you the virtual link. \nLearn more about our programs and how we support homeowners at www.housatonichabitat.org.
URL:https://wiltonchamber.com/event-detail/free-energy-savings-workshop/
LOCATION:Danbury Public Library\, 170 Main Street\, Danbury\, CT\, United States
CATEGORIES:Community Events
ATTACH;FMTTYPE=image/png:https://wiltonchamber.com/wp-content/uploads/2026/03/Habitat-4.28.26.png
END:VEVENT
END:VCALENDAR