BEGIN:VCALENDAR
VERSION:2.0
PRODID:-//Wilton Chamber of Commerce - ECPv6.15.18//NONSGML v1.0//EN
CALSCALE:GREGORIAN
METHOD:PUBLISH
X-WR-CALNAME:Wilton Chamber of Commerce
X-ORIGINAL-URL:https://wiltonchamber.com
X-WR-CALDESC:Events for Wilton Chamber of Commerce
REFRESH-INTERVAL;VALUE=DURATION:PT1H
X-Robots-Tag:noindex
X-PUBLISHED-TTL:PT1H
BEGIN:VTIMEZONE
TZID:America/New_York
BEGIN:DAYLIGHT
TZOFFSETFROM:-0500
TZOFFSETTO:-0400
TZNAME:EDT
DTSTART:20220313T070000
END:DAYLIGHT
BEGIN:STANDARD
TZOFFSETFROM:-0400
TZOFFSETTO:-0500
TZNAME:EST
DTSTART:20221106T060000
END:STANDARD
BEGIN:DAYLIGHT
TZOFFSETFROM:-0500
TZOFFSETTO:-0400
TZNAME:EDT
DTSTART:20230312T070000
END:DAYLIGHT
BEGIN:STANDARD
TZOFFSETFROM:-0400
TZOFFSETTO:-0500
TZNAME:EST
DTSTART:20231105T060000
END:STANDARD
BEGIN:DAYLIGHT
TZOFFSETFROM:-0500
TZOFFSETTO:-0400
TZNAME:EDT
DTSTART:20240310T070000
END:DAYLIGHT
BEGIN:STANDARD
TZOFFSETFROM:-0400
TZOFFSETTO:-0500
TZNAME:EST
DTSTART:20241103T060000
END:STANDARD
BEGIN:DAYLIGHT
TZOFFSETFROM:-0500
TZOFFSETTO:-0400
TZNAME:EDT
DTSTART:20250309T070000
END:DAYLIGHT
BEGIN:STANDARD
TZOFFSETFROM:-0400
TZOFFSETTO:-0500
TZNAME:EST
DTSTART:20251102T060000
END:STANDARD
BEGIN:DAYLIGHT
TZOFFSETFROM:-0500
TZOFFSETTO:-0400
TZNAME:EDT
DTSTART:20260308T070000
END:DAYLIGHT
BEGIN:STANDARD
TZOFFSETFROM:-0400
TZOFFSETTO:-0500
TZNAME:EST
DTSTART:20261101T060000
END:STANDARD
BEGIN:DAYLIGHT
TZOFFSETFROM:-0500
TZOFFSETTO:-0400
TZNAME:EDT
DTSTART:20270314T070000
END:DAYLIGHT
BEGIN:STANDARD
TZOFFSETFROM:-0400
TZOFFSETTO:-0500
TZNAME:EST
DTSTART:20271107T060000
END:STANDARD
END:VTIMEZONE
BEGIN:VEVENT
DTSTART;TZID=America/New_York:20260401T173000
DTEND;TZID=America/New_York:20260401T183000
DTSTAMP:20260423T013637
CREATED:20260323T143650Z
LAST-MODIFIED:20260323T143650Z
UID:10001503-1775064600-1775068200@wiltonchamber.com
SUMMARY:Habitat For Humanity Free Homebuyer Workshop
DESCRIPTION:Ready to take the first toward home ownership? \nJoin Housatonic Habitat For Humanity for a free Homebuyer Workshop\ndesigned to turn your goals into a plan. Whether you are first starting out\nor getting serious about buying\, this session will give you the tools and\nconfidence to move forward. \nLearn how to boost your credit\, prepare for a mortgage\, explore available\nHabitat homes\, and discover how we support first-time homeowners every\nstep of the way. \nJoin us Wednesday April 1st at 5:30pm at the Danbury ReStore or attend virtually\nfrom the comfort of your home. \nTake the step toward affordable homeownership today.\nhttps://app.giveffect.com/campaigns/44550-free-habitat-homeowner-workshop-april-1-2026
URL:https://wiltonchamber.com/event-detail/habitat-for-humanity-free-homebuyer-workshop/
LOCATION:Housatonic Habitat for Humanity\, 51 Austin Street\, Danbury\, CT\, 06810\, United States
CATEGORIES:Community Events
ATTACH;FMTTYPE=image/jpeg:https://wiltonchamber.com/wp-content/uploads/2026/03/Homebuyer-Workshop_4.1.26-scaled.jpg
END:VEVENT
BEGIN:VEVENT
DTSTART;TZID=America/New_York:20260226T160000
DTEND;TZID=America/New_York:20260226T180000
DTSTAMP:20260423T013637
CREATED:20260107T032311Z
LAST-MODIFIED:20260107T032311Z
UID:10001385-1772121600-1772128800@wiltonchamber.com
SUMMARY:Happy Hour For Habitat
DESCRIPTION:Our community-favorite event is back! Join us for an inspiring evening at our venue sponsor\, The Reserve\, alongside our proud co-host sponsor\, SHRM Western Connecticut. Come network with local professionals\, enjoy great food and drinks\, and help raise funds to support safe\, affordable housing in the Greater Danbury area. \n📅 Thursday\, February 26\, 2026\n⏰ 4:00–6:00 PM\n📍 The Reserve\, 128 Federal Rd\, Danbury\, CT\n🎟️ Tickets: $30 \n𝗪𝗛𝗔𝗧’𝗦 𝗜𝗡𝗖𝗟𝗨𝗗𝗘𝗗\n✨ Networking Opportunities\n✨ Complimentary Drink Ticket (House Beer\, Wine\, or Signature Cocktail)\n✨ Appetizers\n✨ Raffle (Tickets Sold at Event) \n𝗪𝗔𝗡𝗧 𝗧𝗢 𝗦𝗨𝗣𝗣𝗢𝗥𝗧 𝗧𝗛𝗘 𝗘𝗩𝗘𝗡𝗧?\n🎁 Donate a Raffle Item\nYour business will be recognized next to your raffle item.\nEmail: Cindy@HousatonicHabitat.org \n💼 Explore Sponsorship Opportunities\nAffordable packages available\, just clean the “Sponsorship” button on this page. \n𝗠𝗢𝗥𝗘 𝗧𝗛𝗔𝗡 𝗔 𝗡𝗘𝗧𝗪𝗢𝗥𝗞𝗜𝗡𝗚 𝗘𝗩𝗘𝗡𝗧\nYour participation helps fund affordable homeownership\, free financial literacy programs\, and critical home repairs for low-income seniors and veterans in our community. \n🎟️ Get your tickets now or become a sponsor to make an even greater impact! \nWe look forward to seeing you there! \nLink to buy tickets:\nhttps://app.giveffect.com/campaigns/43050-happy-hour-for-habitat-feb-26-2026
URL:https://wiltonchamber.com/event-detail/happy-hour-for-habitat/
LOCATION:The Reserve\, 128 Federal Road\, Danbury\, CT\, United States
CATEGORIES:Community Events,Fundraiser
ATTACH;FMTTYPE=image/jpeg:https://wiltonchamber.com/wp-content/uploads/2026/01/Happy-Hour-For-Habitat.jpg
END:VEVENT
BEGIN:VEVENT
DTSTART;TZID=America/New_York:20251204T133000
DTEND;TZID=America/New_York:20251204T143000
DTSTAMP:20260423T013637
CREATED:20251124T154406Z
LAST-MODIFIED:20251124T154406Z
UID:10000972-1764855000-1764858600@wiltonchamber.com
SUMMARY:Fraud Protection Workshop For Adults 60 And Older
DESCRIPTION:Fraud Protection Workshop for Adults 60+ \nScams are everywhere these days — don’t let them catch you off guard. Join us for a free\, one-hour workshop to learn how to recognize\, avoid\, and protect yourself from common frauds and scams. Free\, just show up and enjoy this insightful session packed with practical tips to help you stay safe. \nYou do not need to be a Danbury resident to attend. All are welcome — you just need to be 60+.
URL:https://wiltonchamber.com/event-detail/fraud-protection-workshop-for-adults-60-and-older/
LOCATION:Elmwood Hall Senior Center\, 10 Elmwood Place\, Danbury\,\, CT\, 06810\, United States
CATEGORIES:Community Events
ATTACH;FMTTYPE=image/jpeg:https://wiltonchamber.com/wp-content/uploads/2025/11/Habitat-12.4-fraud-workshop.jpg
END:VEVENT
BEGIN:VEVENT
DTSTART;TZID=America/New_York:20250116T193000
DTEND;TZID=America/New_York:20250116T213000
DTSTAMP:20260423T013637
CREATED:20241122T164552Z
LAST-MODIFIED:20241122T164737Z
UID:10000615-1737055800-1737063000@wiltonchamber.com
SUMMARY:Housatonic Habitat Charity Comedy Show with Adam Ferrara
DESCRIPTION:Join us for an evening of laughter and goodwill at our Charity Comedy Show featuring the hilarious Adam Ferrara! All proceeds from ticket sales will directly benefit Housatonic Habitat for Humanity\, supporting our mission to build affordable housing\, provide financial literacy programs\, and offer free home repairs to seniors and veterans in need within our local community. \nHousatonic Habitat for Humanity is an independent affiliate of Habitat for Humanity International\, relying solely on local support to sustain our operations. Every dollar raised stays right here\, helping hardworking families achieve homeownership\, empowering individuals through financial education\, and ensuring that our elderly and veterans live in safe\, comfortable homes. \nYour ticket not only guarantees an evening of side-splitting entertainment but also contributes to a meaningful cause that transforms lives and strengthens our community. Come laugh with us and make a difference one joke at a time! \nAbout Adam: \n“Adam Ferrara\, actor/comedian who Entertainment Weekly dubbed “Hilarious\,” is an internationally touring headliner\, two-time nominee for best male stand-up by the American Comedy Awards\, has three Comedy Central Specials\, and has hosted the critically acclaimed BBC sensation\, Top Gear US\, has a unique ability and superb gift of comedy and improv\, guaranteed to bring you non stop fun and laughter. A great night of true entertainment! \nFerrara proudly played Chief Needles Nelson on the Emmy® nominated FX drama Rescue Me with Denis Leary\, and Frank Verelli on Showtime’s hit series Nurse Jackie opposite Emmy® Award winner Edie Falco. He also co-starred alongside Kevin James in the hit movie Paul Blart: Mall Cop and Definitely\, Maybe with Ryan Reynolds. \nSome of Ferrara’s TV credits include ABC’s upcoming TV series Deception\, CBS’s The Good Fight\, NBC’s Law & Order\, ABC’s Ugly Betty\, CBS’s The King Of Queens\, as well as a series regular on the critically acclaimed ABC show\, The Job\, with Denis Leary.”
URL:https://wiltonchamber.com/event-detail/housatonic-habitat-charity-comedy-show-with-adam-ferrara/
LOCATION:Ridgefield Playhouse\, 80 E Ridge Road\, Ridgefield\, CT\, 06877\, United States
CATEGORIES:Community Events,Fundraiser
ATTACH;FMTTYPE=image/png:https://wiltonchamber.com/wp-content/uploads/2024/11/Charity-Comedy-Show_2025-Flyer.png
END:VEVENT
BEGIN:VEVENT
DTSTART;TZID=America/New_York:20241010T183000
DTEND;TZID=America/New_York:20241010T213000
DTSTAMP:20260423T013637
CREATED:20240711T155618Z
LAST-MODIFIED:20240711T155618Z
UID:10000404-1728585000-1728595800@wiltonchamber.com
SUMMARY:Blueprints & Denim Dreams - A Night of Fundraising
DESCRIPTION:Join us for an unforgettable evening of philanthropy and community support at Blueprints & Denim Dreams – A Night of Fundraising for Housatonic Habitat for Humanity. As the stars align for a worthy cause\, we invite you to immerse yourself in an atmosphere of hope\, compassion\, and the power of giving back. \nIndulge in a seated dinner\, engage in lively bidding at our live and silent auctions\, sip on crafted cocktails\, dress to impress in your finest denim attire\, and be prepared for a magical night where homeownership dreams take center stage. \nAt Housatonic Habitat for Humanity\, we believe in more than just building homes; we build futures. Proceeds will support our noble endeavor to fulfill homeownership dreams\, ensuring that families have a place to call their own while also building equity and fostering financial stability for the future. Yet\, our mission extends beyond bricks and mortar. We are dedicated to enhancing the lives of seniors and veterans\, offering free home repairs that enable them to age gracefully and securely in the comfort of their homes. \nWe depend entirely on local support to maintain our operations as an independent affiliate of Habitat for Humanity International. We are entirely self-funded and dedicated to ensuring that all proceeds remain within our local community. So\, let the theme of dreams guide you as you navigate through the night. Feel the pulse of excitement as you bid on exclusive items in our auctions\, knowing that every contribution propels us closer to our shared vision. \nAmidst a magical tapestry of denim and dreams\, let’s unite to celebrate the enchanting potential of our community. \nReserve your tickets\, become a sponsor\, or donate auction items today and be a part of something truly transformative.
URL:https://wiltonchamber.com/event-detail/blueprints-denim-dreams-a-night-of-fundraising/
LOCATION:Silver Spring Country Club\, 439 Silver Spring Rd\, Ridgefield\, CT\, 06877\, United States
CATEGORIES:Community Events,Fundraiser
ATTACH;FMTTYPE=image/jpeg:https://wiltonchamber.com/wp-content/uploads/2024/07/HHFH-ANF-Invite_2024.jpg
END:VEVENT
BEGIN:VEVENT
DTSTART;TZID=America/New_York:20231004T183000
DTEND;TZID=America/New_York:20231004T213000
DTSTAMP:20260423T013637
CREATED:20230823T162631Z
LAST-MODIFIED:20230823T163446Z
UID:10000184-1696444200-1696455000@wiltonchamber.com
SUMMARY:2nd Annual Blueprints & Blue Jeans Fall Fundraiser
DESCRIPTION:Housatonic Habitat for Humanity is hosting its 2nd annual “Blueprints & Blue Jeans” fall fundraiser October 4th from 6:30 to 9:30 at the Ridgefield Playhouse in Ridgefield\, CT. Tickets are on sale now. Proceeds from the celebratory event will be used throughout the year to fund numerous community projects throughout Western Connecticut. The event is hosted by comedian Christine O’Leary with entertainment by guest auctioneer Max Tucci and music by local musician Jim Endee. The evening will feature food and cocktails by Hayfields Market\, a wine pull\, a bourbon tasting\, both live and silent auctions\, offering a remarkable array of exclusive items and experiences up for bid. The attire is “Connecticut country casual.” The fundraiser will celebrate 31 years of building homes\, communities\, and hope in the Western Connecticut region. By attending this event\, guests will play a vital role in helping local families achieve the dream of homeownership\, fostering stability\, and empowering their communities.
URL:https://wiltonchamber.com/event-detail/2nd-annual-blueprints-blue-jeans-fall-fundraiser/
LOCATION:Ridgefield Playhouse\, 80 E Ridge Road\, Ridgefield\, CT\, 06877\, United States
CATEGORIES:Community Events,Fundraiser
ATTACH;FMTTYPE=image/png:https://wiltonchamber.com/wp-content/uploads/2023/08/Event-Flyer-2.png
END:VEVENT
END:VCALENDAR