BEGIN:VCALENDAR
VERSION:2.0
PRODID:-//Wilton Chamber of Commerce - ECPv6.15.18//NONSGML v1.0//EN
CALSCALE:GREGORIAN
METHOD:PUBLISH
X-ORIGINAL-URL:https://wiltonchamber.com
X-WR-CALDESC:Events for Wilton Chamber of Commerce
REFRESH-INTERVAL;VALUE=DURATION:PT1H
X-Robots-Tag:noindex
X-PUBLISHED-TTL:PT1H
BEGIN:VTIMEZONE
TZID:America/New_York
BEGIN:DAYLIGHT
TZOFFSETFROM:-0500
TZOFFSETTO:-0400
TZNAME:EDT
DTSTART:20230312T070000
END:DAYLIGHT
BEGIN:STANDARD
TZOFFSETFROM:-0400
TZOFFSETTO:-0500
TZNAME:EST
DTSTART:20231105T060000
END:STANDARD
BEGIN:DAYLIGHT
TZOFFSETFROM:-0500
TZOFFSETTO:-0400
TZNAME:EDT
DTSTART:20240310T070000
END:DAYLIGHT
BEGIN:STANDARD
TZOFFSETFROM:-0400
TZOFFSETTO:-0500
TZNAME:EST
DTSTART:20241103T060000
END:STANDARD
BEGIN:DAYLIGHT
TZOFFSETFROM:-0500
TZOFFSETTO:-0400
TZNAME:EDT
DTSTART:20250309T070000
END:DAYLIGHT
BEGIN:STANDARD
TZOFFSETFROM:-0400
TZOFFSETTO:-0500
TZNAME:EST
DTSTART:20251102T060000
END:STANDARD
END:VTIMEZONE
BEGIN:VEVENT
DTSTART;TZID=America/New_York:20240601T113000
DTEND;TZID=America/New_York:20240630T200000
DTSTAMP:20260423T061851
CREATED:20240528T184658Z
LAST-MODIFIED:20240528T184658Z
UID:10000392-1717241400-1719777600@wiltonchamber.com
SUMMARY:Lemonade Days with Wilton Auto and Tire and Heibeck's Stand!
DESCRIPTION:Wilton Auto and Tire Center has teamed up with local favorite\, Heibeck’s Stand\, for a month-long fundraiser benefiting Alex’s Lemonade Stand Foundation (ALSF). \nHere’s how you can participate and make a difference: \nIndulge in a sweet treat: Enjoy Heibeck’s limited-edition lemon short cake ice cream\, created in honor of ALSF.\nDonate at checkout: Simply add a donation to your bill at Heibeck’s\, any purchase counts!\nGet your car serviced: Visit Wilton Auto between June 1st-30th for a free lemonade and a chance to win a free oil change when you donate to ALSF! \nAlex’s Lemonade Stand Foundation was founded by Alexandra “Alex” Scott\, a brave young girl who battled childhood cancer herself. At just four years old\, Alex set up a lemonade stand in her front yard with a simple yet powerful mission: to raise money to find cures for all children with cancer. Since then\, ALSF has become a national movement\, raising over $250 million and funding critical research projects to fight this devastating disease. \nBeat Childhood Cancer This June! Visit Wilton Auto and Tire and Heibeck’s Stand to enjoy delicious treats and support a worthy cause. Every scoop\, service\, and donation brings us closer to a cure.
URL:https://wiltonchamber.com/event-detail/lemonade-days-with-wilton-auto-and-tire-and-heibecks-stand/
LOCATION:Heibeck’s Stand\, 951 Danbury Rd.\, Wilton\, CT\, 06897\, United States
CATEGORIES:Community Events,Fundraiser
ATTACH;FMTTYPE=image/png:https://wiltonchamber.com/wp-content/uploads/2024/05/lemonade-days-in-wilton-24.png
ORGANIZER;CN="Wilton Auto and Tire Center":MAILTO:mikel@wiltonautoandtire.com
END:VEVENT
END:VCALENDAR