BEGIN:VCALENDAR
VERSION:2.0
PRODID:-//Wilton Chamber of Commerce - ECPv6.15.18//NONSGML v1.0//EN
CALSCALE:GREGORIAN
METHOD:PUBLISH
X-ORIGINAL-URL:https://wiltonchamber.com
X-WR-CALDESC:Events for Wilton Chamber of Commerce
REFRESH-INTERVAL;VALUE=DURATION:PT1H
X-Robots-Tag:noindex
X-PUBLISHED-TTL:PT1H
BEGIN:VTIMEZONE
TZID:America/New_York
BEGIN:DAYLIGHT
TZOFFSETFROM:-0500
TZOFFSETTO:-0400
TZNAME:EDT
DTSTART:20240310T070000
END:DAYLIGHT
BEGIN:STANDARD
TZOFFSETFROM:-0400
TZOFFSETTO:-0500
TZNAME:EST
DTSTART:20241103T060000
END:STANDARD
BEGIN:DAYLIGHT
TZOFFSETFROM:-0500
TZOFFSETTO:-0400
TZNAME:EDT
DTSTART:20250309T070000
END:DAYLIGHT
BEGIN:STANDARD
TZOFFSETFROM:-0400
TZOFFSETTO:-0500
TZNAME:EST
DTSTART:20251102T060000
END:STANDARD
BEGIN:DAYLIGHT
TZOFFSETFROM:-0500
TZOFFSETTO:-0400
TZNAME:EDT
DTSTART:20260308T070000
END:DAYLIGHT
BEGIN:STANDARD
TZOFFSETFROM:-0400
TZOFFSETTO:-0500
TZNAME:EST
DTSTART:20261101T060000
END:STANDARD
END:VTIMEZONE
BEGIN:VEVENT
DTSTART;VALUE=DATE:20251005
DTEND;VALUE=DATE:20251006
DTSTAMP:20260423T030803
CREATED:20250908T181210Z
LAST-MODIFIED:20250908T181210Z
UID:10000864-1759680000-1759685400@wiltonchamber.com
SUMMARY:“Thy Will Be Done” Interactive Theater at Wilton Historical Society
DESCRIPTION:The Wilton Historical Society is thrilled to be partnering with Escapism Productions for an upcoming immersive historical theatre experience! \nIn a quiet 17th-century Connecticut village gripped by faith and fear\, the minister’s pregnant wife begins to show signs of a terrible affliction. Tongues whisper of witchcraft. Shadows gather. And as suspicion spreads like fire\, seven townsfolk stand at the center of it all\, each with secrets\, each with something to lose. \nOne among them is the witch. \nWill you uncover the truth before it’s too late? \nThis immersive production is performed at\, and in proud partnership with\, the Wilton Historical Society\, bringing the haunting world of early colonial New England to life where centuries-old shadows linger\, and the past refuses to stay buried. This experience allows guests to explore the Society’s historic Sloan-Raymond-Fitch House\, interacting directly with the characters to uncover secrets\, expose evidence\, and influence the ending. \nPerformance Dates and Times\nFriday\, October 3\, 7-8:30 PM\nSaturday\, October 4 8-9:30 PM\nSunday\, October 5 4-5:30 PM \n$50 – “Thy Will Be Done” Member Ticket\n$60 – “Thy Will Be Done” Non-Member Ticket \nTickets available here: https://wiltonhistorical.org/events/event/thy-will-be-done-interactive-theater-performance/
URL:https://wiltonchamber.com/event-detail/thy-will-be-done-interactive-theater-at-wilton-historical-society/2025-10-05/
LOCATION:Wilton Historical Society\, 224 Danbury Road\, Wilton\, CT\, 06897\, United States
CATEGORIES:Community Events
ATTACH;FMTTYPE=image/jpeg:https://wiltonchamber.com/wp-content/uploads/2025/09/twbd-logo-1000x500-1.jpg
ORGANIZER;CN="Wilton Historical Society":MAILTO:nfoster@wiltonhistorical.org
END:VEVENT
BEGIN:VEVENT
DTSTART;VALUE=DATE:20251004
DTEND;VALUE=DATE:20251005
DTSTAMP:20260423T030803
CREATED:20250908T181210Z
LAST-MODIFIED:20250908T181210Z
UID:10000863-1759608000-1759613400@wiltonchamber.com
SUMMARY:“Thy Will Be Done” Interactive Theater at Wilton Historical Society
DESCRIPTION:The Wilton Historical Society is thrilled to be partnering with Escapism Productions for an upcoming immersive historical theatre experience! \nIn a quiet 17th-century Connecticut village gripped by faith and fear\, the minister’s pregnant wife begins to show signs of a terrible affliction. Tongues whisper of witchcraft. Shadows gather. And as suspicion spreads like fire\, seven townsfolk stand at the center of it all\, each with secrets\, each with something to lose. \nOne among them is the witch. \nWill you uncover the truth before it’s too late? \nThis immersive production is performed at\, and in proud partnership with\, the Wilton Historical Society\, bringing the haunting world of early colonial New England to life where centuries-old shadows linger\, and the past refuses to stay buried. This experience allows guests to explore the Society’s historic Sloan-Raymond-Fitch House\, interacting directly with the characters to uncover secrets\, expose evidence\, and influence the ending. \nPerformance Dates and Times\nFriday\, October 3\, 7-8:30 PM\nSaturday\, October 4 8-9:30 PM\nSunday\, October 5 4-5:30 PM \n$50 – “Thy Will Be Done” Member Ticket\n$60 – “Thy Will Be Done” Non-Member Ticket \nTickets available here: https://wiltonhistorical.org/events/event/thy-will-be-done-interactive-theater-performance/
URL:https://wiltonchamber.com/event-detail/thy-will-be-done-interactive-theater-at-wilton-historical-society/2025-10-04/
LOCATION:Wilton Historical Society\, 224 Danbury Road\, Wilton\, CT\, 06897\, United States
CATEGORIES:Community Events
ATTACH;FMTTYPE=image/jpeg:https://wiltonchamber.com/wp-content/uploads/2025/09/twbd-logo-1000x500-1.jpg
ORGANIZER;CN="Wilton Historical Society":MAILTO:nfoster@wiltonhistorical.org
END:VEVENT
BEGIN:VEVENT
DTSTART;VALUE=DATE:20251003
DTEND;VALUE=DATE:20251004
DTSTAMP:20260423T030803
CREATED:20250908T181210Z
LAST-MODIFIED:20250908T181210Z
UID:10000862-1759518000-1759523400@wiltonchamber.com
SUMMARY:“Thy Will Be Done” Interactive Theater at Wilton Historical Society
DESCRIPTION:The Wilton Historical Society is thrilled to be partnering with Escapism Productions for an upcoming immersive historical theatre experience! \nIn a quiet 17th-century Connecticut village gripped by faith and fear\, the minister’s pregnant wife begins to show signs of a terrible affliction. Tongues whisper of witchcraft. Shadows gather. And as suspicion spreads like fire\, seven townsfolk stand at the center of it all\, each with secrets\, each with something to lose. \nOne among them is the witch. \nWill you uncover the truth before it’s too late? \nThis immersive production is performed at\, and in proud partnership with\, the Wilton Historical Society\, bringing the haunting world of early colonial New England to life where centuries-old shadows linger\, and the past refuses to stay buried. This experience allows guests to explore the Society’s historic Sloan-Raymond-Fitch House\, interacting directly with the characters to uncover secrets\, expose evidence\, and influence the ending. \nPerformance Dates and Times\nFriday\, October 3\, 7-8:30 PM\nSaturday\, October 4 8-9:30 PM\nSunday\, October 5 4-5:30 PM \n$50 – “Thy Will Be Done” Member Ticket\n$60 – “Thy Will Be Done” Non-Member Ticket \nTickets available here: https://wiltonhistorical.org/events/event/thy-will-be-done-interactive-theater-performance/
URL:https://wiltonchamber.com/event-detail/thy-will-be-done-interactive-theater-at-wilton-historical-society/2025-10-03/2/
LOCATION:Wilton Historical Society\, 224 Danbury Road\, Wilton\, CT\, 06897\, United States
CATEGORIES:Community Events
ATTACH;FMTTYPE=image/jpeg:https://wiltonchamber.com/wp-content/uploads/2025/09/twbd-logo-1000x500-1.jpg
ORGANIZER;CN="Wilton Historical Society":MAILTO:nfoster@wiltonhistorical.org
END:VEVENT
BEGIN:VEVENT
DTSTART;VALUE=DATE:20251003
DTEND;VALUE=DATE:20251006
DTSTAMP:20260423T030803
CREATED:20250908T181210Z
LAST-MODIFIED:20250908T181210Z
UID:10000861-1759449600-1759708799@wiltonchamber.com
SUMMARY:“Thy Will Be Done” Interactive Theater at Wilton Historical Society
DESCRIPTION:The Wilton Historical Society is thrilled to be partnering with Escapism Productions for an upcoming immersive historical theatre experience! \nIn a quiet 17th-century Connecticut village gripped by faith and fear\, the minister’s pregnant wife begins to show signs of a terrible affliction. Tongues whisper of witchcraft. Shadows gather. And as suspicion spreads like fire\, seven townsfolk stand at the center of it all\, each with secrets\, each with something to lose. \nOne among them is the witch. \nWill you uncover the truth before it’s too late? \nThis immersive production is performed at\, and in proud partnership with\, the Wilton Historical Society\, bringing the haunting world of early colonial New England to life where centuries-old shadows linger\, and the past refuses to stay buried. This experience allows guests to explore the Society’s historic Sloan-Raymond-Fitch House\, interacting directly with the characters to uncover secrets\, expose evidence\, and influence the ending. \nPerformance Dates and Times\nFriday\, October 3\, 7-8:30 PM\nSaturday\, October 4 8-9:30 PM\nSunday\, October 5 4-5:30 PM \n$50 – “Thy Will Be Done” Member Ticket\n$60 – “Thy Will Be Done” Non-Member Ticket \nTickets available here: https://wiltonhistorical.org/events/event/thy-will-be-done-interactive-theater-performance/
URL:https://wiltonchamber.com/event-detail/thy-will-be-done-interactive-theater-at-wilton-historical-society/2025-10-03/1/
LOCATION:Wilton Historical Society\, 224 Danbury Road\, Wilton\, CT\, 06897\, United States
CATEGORIES:Community Events
ATTACH;FMTTYPE=image/jpeg:https://wiltonchamber.com/wp-content/uploads/2025/09/twbd-logo-1000x500-1.jpg
ORGANIZER;CN="Wilton Historical Society":MAILTO:nfoster@wiltonhistorical.org
END:VEVENT
END:VCALENDAR