BEGIN:VCALENDAR
VERSION:2.0
PRODID:-//Wilton Chamber of Commerce - ECPv6.15.18//NONSGML v1.0//EN
CALSCALE:GREGORIAN
METHOD:PUBLISH
X-ORIGINAL-URL:https://wiltonchamber.com
X-WR-CALDESC:Events for Wilton Chamber of Commerce
REFRESH-INTERVAL;VALUE=DURATION:PT1H
X-Robots-Tag:noindex
X-PUBLISHED-TTL:PT1H
BEGIN:VTIMEZONE
TZID:America/New_York
BEGIN:DAYLIGHT
TZOFFSETFROM:-0500
TZOFFSETTO:-0400
TZNAME:EDT
DTSTART:20240310T070000
END:DAYLIGHT
BEGIN:STANDARD
TZOFFSETFROM:-0400
TZOFFSETTO:-0500
TZNAME:EST
DTSTART:20241103T060000
END:STANDARD
BEGIN:DAYLIGHT
TZOFFSETFROM:-0500
TZOFFSETTO:-0400
TZNAME:EDT
DTSTART:20250309T070000
END:DAYLIGHT
BEGIN:STANDARD
TZOFFSETFROM:-0400
TZOFFSETTO:-0500
TZNAME:EST
DTSTART:20251102T060000
END:STANDARD
BEGIN:DAYLIGHT
TZOFFSETFROM:-0500
TZOFFSETTO:-0400
TZNAME:EDT
DTSTART:20260308T070000
END:DAYLIGHT
BEGIN:STANDARD
TZOFFSETFROM:-0400
TZOFFSETTO:-0500
TZNAME:EST
DTSTART:20261101T060000
END:STANDARD
END:VTIMEZONE
BEGIN:VEVENT
DTSTART;TZID=America/New_York:20251209T050000
DTEND;TZID=America/New_York:20251209T190000
DTSTAMP:20260423T013448
CREATED:20251124T183747Z
LAST-MODIFIED:20251124T183747Z
UID:10000975-1765256400-1765306800@wiltonchamber.com
SUMMARY:Wilton Connects Networking Event
DESCRIPTION:Wilton Connects Networking hosted by Chamber members\, Round Rock Advisors  and Amplify Consulting Services invites you to join them for an evening of connections and conversations with your fellow business owners and professionals in Wilton\, CT and the surrounding area. \nThis event is free but registration is required. Register here: Wilton Connects Networking Event
URL:https://wiltonchamber.com/event-detail/wilton-connects-networking-event-3/
LOCATION:Sly Bandit Brewery\, 4 Danbury Road\, Wilton\, CT\, 06897\, United States
CATEGORIES:Community Events,Networking Event
ATTACH;FMTTYPE=image/png:https://wiltonchamber.com/wp-content/uploads/2025/11/Wilton-Connects-12.9.png
END:VEVENT
BEGIN:VEVENT
DTSTART;TZID=America/New_York:20251028T163000
DTEND;TZID=America/New_York:20251028T183000
DTSTAMP:20260423T013448
CREATED:20251013T180654Z
LAST-MODIFIED:20251013T181134Z
UID:10000909-1761669000-1761676200@wiltonchamber.com
SUMMARY:Wilton Connects Networking Event
DESCRIPTION:With the success of the inaugural Wilton Connects Networking event last month\, Chamber members Round Rock Advisors  and Amplify Consulting Services invites you to join them for an evening of connections and conversations with your fellow business owners and professionals in Wilton\, CT and the surrounding area. \nThis event is free but registration is required. Register here: Wilton Connects Networking Event
URL:https://wiltonchamber.com/event-detail/wilton-connects-networking-event-2/
LOCATION:Sly Bandit Brewery\, 4 Danbury Road\, Wilton\, CT\, 06897\, United States
CATEGORIES:Community Events,Networking Event
ATTACH;FMTTYPE=image/jpeg:https://wiltonchamber.com/wp-content/uploads/2025/10/WiltonConnects_Oct_28_2025.jpg
END:VEVENT
END:VCALENDAR