BEGIN:VCALENDAR
VERSION:2.0
PRODID:-//Wilton Chamber of Commerce - ECPv6.15.18//NONSGML v1.0//EN
CALSCALE:GREGORIAN
METHOD:PUBLISH
X-WR-CALNAME:Wilton Chamber of Commerce
X-ORIGINAL-URL:https://wiltonchamber.com
X-WR-CALDESC:Events for Wilton Chamber of Commerce
REFRESH-INTERVAL;VALUE=DURATION:PT1H
X-Robots-Tag:noindex
X-PUBLISHED-TTL:PT1H
BEGIN:VTIMEZONE
TZID:America/New_York
BEGIN:DAYLIGHT
TZOFFSETFROM:-0500
TZOFFSETTO:-0400
TZNAME:EDT
DTSTART:20230312T070000
END:DAYLIGHT
BEGIN:STANDARD
TZOFFSETFROM:-0400
TZOFFSETTO:-0500
TZNAME:EST
DTSTART:20231105T060000
END:STANDARD
BEGIN:DAYLIGHT
TZOFFSETFROM:-0500
TZOFFSETTO:-0400
TZNAME:EDT
DTSTART:20240310T070000
END:DAYLIGHT
BEGIN:STANDARD
TZOFFSETFROM:-0400
TZOFFSETTO:-0500
TZNAME:EST
DTSTART:20241103T060000
END:STANDARD
BEGIN:DAYLIGHT
TZOFFSETFROM:-0500
TZOFFSETTO:-0400
TZNAME:EDT
DTSTART:20250309T070000
END:DAYLIGHT
BEGIN:STANDARD
TZOFFSETFROM:-0400
TZOFFSETTO:-0500
TZNAME:EST
DTSTART:20251102T060000
END:STANDARD
END:VTIMEZONE
BEGIN:VEVENT
DTSTART;TZID=America/New_York:20241101T070000
DTEND;TZID=America/New_York:20241105T170000
DTSTAMP:20260423T055702
CREATED:20241016T185350Z
LAST-MODIFIED:20241016T185350Z
UID:10000434-1730444400-1730826000@wiltonchamber.com
SUMMARY:The Great Pumpkin Drop
DESCRIPTION:Yes\, you can put your unwanted pumpkins\, jack-o-lanterns and gourds in your backyard compost or feed the squirrels but if you don’t like those two options we have a solution! \nWilton Go Green and Ambler Farm have once again teamed up to provide a place for residents to drop their unwanted pumpkins and gourds so they don’t end up in the trash. This year pumpkins and gourds are heading out to local farms to help feed goats\, pigs\, cows and more! \nPLEASE NO glitter\, glue\, candles\, paint\, etc on your pumpkins.\nDrop off at Ambler Farm in the designated bin by the Red Barn dawn to dusk from November 1-5th.
URL:https://wiltonchamber.com/event-detail/the-great-pumpkin-drop/
LOCATION:Ambler Farm\, 257 Hurlbutt Street\, Wilton\, CT\, United States
CATEGORIES:Community Events,Go Green Event
ATTACH;FMTTYPE=image/png:https://wiltonchamber.com/wp-content/uploads/2024/10/Great-Pumpkin-Drop-off.png
END:VEVENT
BEGIN:VEVENT
DTSTART;TZID=America/New_York:20240601T173000
DTEND;TZID=America/New_York:20240601T203000
DTSTAMP:20260423T055702
CREATED:20240513T181212Z
LAST-MODIFIED:20240513T181214Z
UID:10000382-1717263000-1717273800@wiltonchamber.com
SUMMARY:Taste on the Farm
DESCRIPTION:Why pick one place to dine on your sacred Saturday night when you can savor culinary creations and thirst quenching libations from ten? The Farm is your venue and oh-what-a menu with signature items from Barcelona Wine Bar\, bartaco\, Calises\, Greer Southern Table\, Press Burger\, Rebel Daughter Cookies\, Sam Leuzzi Cakes\, The Cheesecake Collection\, Nod Hill Brewery\, Seir Hill and Sipstirs. \nNo need to decide if you’re in the mood for tapas or tacos\, Italian or American\, northern or southern flavors; all are within reach from your fingertips to your lips at Taste on the Farm. Have your cake and cookies and eat them too in whatever order you please\, all while grooving to the musical stylings of Mr. Know It All + Hannah Jane. \nYour ticket includes an array of savory and sweet along with curated wines\, Sangria\, creative cocktails and craft beer from favorite mixologists and local producers. Whether you decide to mix and mingle or take a seat on provided picnic blankets or picnic tables\, we’ve got you covered from your first bite to your last sip at this sought after Spring event. Please note this event is for guests 21 years and older.
URL:https://wiltonchamber.com/event-detail/taste-on-the-farm-3/
LOCATION:Ambler Farm\, 257 Hurlbutt Street\, Wilton\, CT\, United States
CATEGORIES:Community Events,Fundraiser
ATTACH;FMTTYPE=image/jpeg:https://wiltonchamber.com/wp-content/uploads/2024/05/Taste-scaled.jpeg
END:VEVENT
END:VCALENDAR