BEGIN:VCALENDAR
VERSION:2.0
PRODID:-//Wilton Chamber of Commerce - ECPv6.15.18//NONSGML v1.0//EN
CALSCALE:GREGORIAN
METHOD:PUBLISH
X-ORIGINAL-URL:https://wiltonchamber.com
X-WR-CALDESC:Events for Wilton Chamber of Commerce
REFRESH-INTERVAL;VALUE=DURATION:PT1H
X-Robots-Tag:noindex
X-PUBLISHED-TTL:PT1H
BEGIN:VTIMEZONE
TZID:America/New_York
BEGIN:DAYLIGHT
TZOFFSETFROM:-0500
TZOFFSETTO:-0400
TZNAME:EDT
DTSTART:20250309T070000
END:DAYLIGHT
BEGIN:STANDARD
TZOFFSETFROM:-0400
TZOFFSETTO:-0500
TZNAME:EST
DTSTART:20251102T060000
END:STANDARD
BEGIN:DAYLIGHT
TZOFFSETFROM:-0500
TZOFFSETTO:-0400
TZNAME:EDT
DTSTART:20260308T070000
END:DAYLIGHT
BEGIN:STANDARD
TZOFFSETFROM:-0400
TZOFFSETTO:-0500
TZNAME:EST
DTSTART:20261101T060000
END:STANDARD
BEGIN:DAYLIGHT
TZOFFSETFROM:-0500
TZOFFSETTO:-0400
TZNAME:EDT
DTSTART:20270314T070000
END:DAYLIGHT
BEGIN:STANDARD
TZOFFSETFROM:-0400
TZOFFSETTO:-0500
TZNAME:EST
DTSTART:20271107T060000
END:STANDARD
END:VTIMEZONE
BEGIN:VEVENT
DTSTART;TZID=America/New_York:20260516T183000
DTEND;TZID=America/New_York:20260516T223000
DTSTAMP:20260423T014433
CREATED:20260211T153410Z
LAST-MODIFIED:20260211T165124Z
UID:10001437-1778956200-1778970600@wiltonchamber.com
SUMMARY:A Better Chance of Wilton | 30th Anniversary Celebration
DESCRIPTION:Join us for an evening of cocktails\, dinner\, and music as we celebrate 30 years of A Better Chance of Wilton and the life-changing impact of our program. The celebration will be held at Shore & Country Club on May 16th from 6:30–10:30 PM; tickets are $250 per person. We need your support to continue this impactful program! \nFor those interested in learning more about sponsorship opportunities\, please view our sponsorship opportunities here: https://bit.ly/abcwilton-30th-sponsorship To purchase tickets or to sponsor today\, visit our website: https://abcwilton.org/https-abcwilton-org-event-single-post-name/30th/ Our program is fully funded by the generosity of private donations so every dollar makes a difference. \n——– \nA Better Chance of Wilton has successfully enriched lives by providing educational opportunities to highly motivated high school students of color for 30 years. Scholars from around the United States have come to Wilton to pursue an environment and high school experience that encourages academic excellence and nurtures their potential for college and their future.
URL:https://wiltonchamber.com/event-detail/a-better-chance-of-wilton-30th-anniversary-celebration/
LOCATION:Shore & Country Club\, 220 Gregory Boulevard\, Norwalk\, 06855\, United States
CATEGORIES:Community Events,Fundraiser
ATTACH;FMTTYPE=image/png:https://wiltonchamber.com/wp-content/uploads/2026/02/30th-anniversary-insta-and-email.png
END:VEVENT
END:VCALENDAR