BEGIN:VCALENDAR
VERSION:2.0
PRODID:-//Wilton Chamber of Commerce - ECPv6.15.18//NONSGML v1.0//EN
CALSCALE:GREGORIAN
METHOD:PUBLISH
X-ORIGINAL-URL:https://wiltonchamber.com
X-WR-CALDESC:Events for Wilton Chamber of Commerce
REFRESH-INTERVAL;VALUE=DURATION:PT1H
X-Robots-Tag:noindex
X-PUBLISHED-TTL:PT1H
BEGIN:VTIMEZONE
TZID:America/New_York
BEGIN:DAYLIGHT
TZOFFSETFROM:-0500
TZOFFSETTO:-0400
TZNAME:EDT
DTSTART:20180311T070000
END:DAYLIGHT
BEGIN:STANDARD
TZOFFSETFROM:-0400
TZOFFSETTO:-0500
TZNAME:EST
DTSTART:20181104T060000
END:STANDARD
BEGIN:DAYLIGHT
TZOFFSETFROM:-0500
TZOFFSETTO:-0400
TZNAME:EDT
DTSTART:20190310T070000
END:DAYLIGHT
BEGIN:STANDARD
TZOFFSETFROM:-0400
TZOFFSETTO:-0500
TZNAME:EST
DTSTART:20191103T060000
END:STANDARD
BEGIN:DAYLIGHT
TZOFFSETFROM:-0500
TZOFFSETTO:-0400
TZNAME:EDT
DTSTART:20200308T070000
END:DAYLIGHT
BEGIN:STANDARD
TZOFFSETFROM:-0400
TZOFFSETTO:-0500
TZNAME:EST
DTSTART:20201101T060000
END:STANDARD
BEGIN:DAYLIGHT
TZOFFSETFROM:-0500
TZOFFSETTO:-0400
TZNAME:EDT
DTSTART:20210314T070000
END:DAYLIGHT
BEGIN:STANDARD
TZOFFSETFROM:-0400
TZOFFSETTO:-0500
TZNAME:EST
DTSTART:20211107T060000
END:STANDARD
BEGIN:DAYLIGHT
TZOFFSETFROM:-0500
TZOFFSETTO:-0400
TZNAME:EDT
DTSTART:20220313T070000
END:DAYLIGHT
BEGIN:STANDARD
TZOFFSETFROM:-0400
TZOFFSETTO:-0500
TZNAME:EST
DTSTART:20221106T060000
END:STANDARD
END:VTIMEZONE
BEGIN:VEVENT
DTSTART;TZID=America/New_York:20210524T113000
DTEND;TZID=America/New_York:20210530T210000
DTSTAMP:20260422T215516
CREATED:20210421T010206Z
LAST-MODIFIED:20230405T172043Z
UID:10000098-1621855800-1622408400@wiltonchamber.com
SUMMARY:Spring Wilton Restaurant Week
DESCRIPTION:The Wilton Chamber of Commerce and in partnership with Dynamic Edge PhysioTherapy is pleased to present our annual Spring Restaurant Week which will run from Monday\, May 24th through Sunday\, May 30th. All restaurants and eateries located in Wilton\, Georgetown and surrounding areas are invited to participate by featuring special culinary selections\, one-week-only pricing\, prix fixe menus and even coupons to encourage diners to come for lunch or dinner or both! \nRestaurant Week provides the opportunity to explore new tastes and revisit favorites with restaurants who are offering different specials that week. Watch this great video produced by the students of Wilton High School in support of our local restaurants: \nSee participating restaurants and their menus below: \n\nAMG Catering and Events – MENU\nBianco Rosso Wine Bar and Restaurant – MENU coming soon\nCraft 14 Kitchen + Bar – MENU coming soon\nLittle Pub – MENU\nMarly’s Bar and Bistro – MENU\nWilton Pizza – MENU
URL:https://wiltonchamber.com/event-detail/spring-wilton-restaurant-week-2/
CATEGORIES:Restaurant Week
ATTACH;FMTTYPE=image/png:https://wiltonchamber.com/wp-content/uploads/2021/04/Spring-2021-Restaurant-Week-1024x360-1.png
END:VEVENT
BEGIN:VEVENT
DTSTART;TZID=America/New_York:20201019T110000
DTEND;TZID=America/New_York:20201025T210000
DTSTAMP:20260422T215516
CREATED:20200920T015616Z
LAST-MODIFIED:20230405T172051Z
UID:10000100-1603105200-1603659600@wiltonchamber.com
SUMMARY:Wilton Restaurant Week
DESCRIPTION:The Wilton Chamber of Commerce and in partnership with Dynamic Edge PhysioTherapy is pleased to present its Annual Fall Restaurant Week which will run from Monday\, October 19th through Sunday\, October 25th. All restaurants and eateries located in Wilton\, Georgetown and surrounding area are invited to participate by featuring special culinary selections\, one-week-only pricing\, prix fixe menus and even coupons to encourage diners to come for lunch or dinner or both! \nWilton and our neighboring towns have many wonderful restaurants with diverse cuisines\, and delicious offerings to choose from including Southwestern\, Italian\, Asian\, Mexican\, French\, Contemporary\, Farm to Table and American. Restaurant Week provides the opportunity to explore new tastes and revisit favorites with restaurants who are offering different specials that week. \nParticipating restaurants are: \n\nBianco Rosso – Lunch Menu – Dinner Menu\nCraft 14  – Lunch & Dinner Menu\nLittle Pub – Lunch Menu – Dinner Menu\nMarly’s Bar and Bistro – Dinner Menu (Sunday-Thursday from 4-8pm\, walk-ins only)\nParlor Pizza and Bar\nWilton Pizza – Dinner Menu
URL:https://wiltonchamber.com/event-detail/wilton-restaurant-week-2-2/
LOCATION:little-pub-logo-1
CATEGORIES:Restaurant Week
ATTACH;FMTTYPE=image/png:https://wiltonchamber.com/wp-content/uploads/2021/04/Copy-of-RW-Fall-2020-1024x360-1.png
END:VEVENT
BEGIN:VEVENT
DTSTART;TZID=America/New_York:20200316T113000
DTEND;TZID=America/New_York:20200322T230000
DTSTAMP:20260422T215516
CREATED:20200127T191812Z
LAST-MODIFIED:20230405T172059Z
UID:10000110-1584358200-1584918000@wiltonchamber.com
SUMMARY:Wilton Spring Restaurant Week - March 16-22\, 2020
DESCRIPTION:RESTAURANT WEEK CANCELED. In compliance with recent news from the State of Connecticut\, all restaurants and bars will close tonight Monday March 16 at 8pm until further notice. Take out or delivery may be available. Please contact restaurant directly for more information. \nThe Wilton Chamber of Commerce is pleased to present its 8th Annual Spring Restaurant Week which will run from Monday\, March 16th through Sunday\, March 22nd. All restaurants and eateries located in Wilton\, Georgetown and surrounding area are invited to participate by featuring special culinary selections\, one-week-only pricing\, prix fixe menus and even coupons to encourage diners to come for lunch or dinner or both! \nWilton and our neighboring towns have many wonderful restaurants with diverse cuisines\, and delicious offerings to choose from including Southwestern\, Italian\, Asian\, Mexican\, French\, Contemporary\, Farm to Table and American. Restaurant Week provides the opportunity to explore new tastes and revisit favorites with restaurants who are offering different specials that week. \n \nParticipating restaurants are: \n\nAranci 67\nBernard’s – LUNCH – DINNER\nBianco Rosso \nCactus Rose – daily special offers – contact restaurant for more details\nCraft 14 Kitchen and Bar\nLittle Pub  – LUNCH – DINNER \nMarly’s Bar and Bistro – DINNER\nMediterraneo\nMilestone – DINNER\nParlor Pizza and Bar\nThe Schoolhouse at Cannondale – LUNCH (Friday & Saturday) – DINNER (Wednesday\, Thursday & Friday)\nWilton Pizza
URL:https://wiltonchamber.com/event-detail/wilton-spring-restaurant-week-march-16-22-2020-2/
LOCATION:little-pub-logo-1
CATEGORIES:Restaurant Week
ATTACH;FMTTYPE=:
END:VEVENT
BEGIN:VEVENT
DTSTART;TZID=America/New_York:20191021T113000
DTEND;TZID=America/New_York:20191027T220000
DTSTAMP:20260422T215516
CREATED:20191007T160804Z
LAST-MODIFIED:20230405T172110Z
UID:10000112-1571657400-1572213600@wiltonchamber.com
SUMMARY:Wilton Restaurant Week Oct. 21-27\, 2019
DESCRIPTION:Wilton’s fall restaurant week is set for Oct. 21-27\, 2019. Please join us as our local restaurants feature their seasonal menus and specialties! Participating restaurants for this season are: \n\nBernard’s Restaurant – Bernard’s Menu\nBianco Rosso – Bianco LUNCH Menu | Bianco DINNER Menu\nCactus Rose – daily restaurant week special – call directly for more information\nCraft 14 – Craft LUNCH Menu | Craft DINNER Menu\nLittle Pub in Wilton – Little Pub Menu\nMarly’s Bar and Bistro – Marly’s Menu\nMediterraneo  – Mediterraneo LUNCH Menu | Mediterraneo DINNER Menu\nMilestone\nOak and Almond  – Oak and Almond Menu \nParlor Pizza & Bar – Parlor Menu **promotion runs all week EXCEPT Friday night**\nRed Rooster Pub – Red Rooster Menu\nSchoolhouse At Cannondale – Schoolhouse LUNCH | Schoolhouse DINNER  **promotion runs all week EXCEPT Saturday night**\nWilton Pizza – Wilton Pizza Menu
URL:https://wiltonchamber.com/event-detail/wilton-restaurant-week-oct-21-27-2019/
LOCATION:Wilton
CATEGORIES:Restaurant Week
ATTACH;FMTTYPE=image/png:https://wiltonchamber.com/wp-content/uploads/2023/02/Alexis-Murphy-New-Logo.png
END:VEVENT
END:VCALENDAR