BEGIN:VCALENDAR
VERSION:2.0
PRODID:-//Wilton Chamber of Commerce - ECPv6.15.18//NONSGML v1.0//EN
CALSCALE:GREGORIAN
METHOD:PUBLISH
X-WR-CALNAME:Wilton Chamber of Commerce
X-ORIGINAL-URL:https://wiltonchamber.com
X-WR-CALDESC:Events for Wilton Chamber of Commerce
REFRESH-INTERVAL;VALUE=DURATION:PT1H
X-Robots-Tag:noindex
X-PUBLISHED-TTL:PT1H
BEGIN:VTIMEZONE
TZID:America/New_York
BEGIN:DAYLIGHT
TZOFFSETFROM:-0500
TZOFFSETTO:-0400
TZNAME:EDT
DTSTART:20180311T070000
END:DAYLIGHT
BEGIN:STANDARD
TZOFFSETFROM:-0400
TZOFFSETTO:-0500
TZNAME:EST
DTSTART:20181104T060000
END:STANDARD
BEGIN:DAYLIGHT
TZOFFSETFROM:-0500
TZOFFSETTO:-0400
TZNAME:EDT
DTSTART:20190310T070000
END:DAYLIGHT
BEGIN:STANDARD
TZOFFSETFROM:-0400
TZOFFSETTO:-0500
TZNAME:EST
DTSTART:20191103T060000
END:STANDARD
BEGIN:DAYLIGHT
TZOFFSETFROM:-0500
TZOFFSETTO:-0400
TZNAME:EDT
DTSTART:20200308T070000
END:DAYLIGHT
BEGIN:STANDARD
TZOFFSETFROM:-0400
TZOFFSETTO:-0500
TZNAME:EST
DTSTART:20201101T060000
END:STANDARD
BEGIN:DAYLIGHT
TZOFFSETFROM:-0500
TZOFFSETTO:-0400
TZNAME:EDT
DTSTART:20210314T070000
END:DAYLIGHT
BEGIN:STANDARD
TZOFFSETFROM:-0400
TZOFFSETTO:-0500
TZNAME:EST
DTSTART:20211107T060000
END:STANDARD
BEGIN:DAYLIGHT
TZOFFSETFROM:-0500
TZOFFSETTO:-0400
TZNAME:EDT
DTSTART:20220313T070000
END:DAYLIGHT
BEGIN:STANDARD
TZOFFSETFROM:-0400
TZOFFSETTO:-0500
TZNAME:EST
DTSTART:20221106T060000
END:STANDARD
BEGIN:DAYLIGHT
TZOFFSETFROM:-0500
TZOFFSETTO:-0400
TZNAME:EDT
DTSTART:20230312T070000
END:DAYLIGHT
BEGIN:STANDARD
TZOFFSETFROM:-0400
TZOFFSETTO:-0500
TZNAME:EST
DTSTART:20231105T060000
END:STANDARD
BEGIN:DAYLIGHT
TZOFFSETFROM:-0500
TZOFFSETTO:-0400
TZNAME:EDT
DTSTART:20240310T070000
END:DAYLIGHT
BEGIN:STANDARD
TZOFFSETFROM:-0400
TZOFFSETTO:-0500
TZNAME:EST
DTSTART:20241103T060000
END:STANDARD
BEGIN:DAYLIGHT
TZOFFSETFROM:-0500
TZOFFSETTO:-0400
TZNAME:EDT
DTSTART:20250309T070000
END:DAYLIGHT
BEGIN:STANDARD
TZOFFSETFROM:-0400
TZOFFSETTO:-0500
TZNAME:EST
DTSTART:20251102T060000
END:STANDARD
BEGIN:DAYLIGHT
TZOFFSETFROM:-0500
TZOFFSETTO:-0400
TZNAME:EDT
DTSTART:20260308T070000
END:DAYLIGHT
BEGIN:STANDARD
TZOFFSETFROM:-0400
TZOFFSETTO:-0500
TZNAME:EST
DTSTART:20261101T060000
END:STANDARD
END:VTIMEZONE
BEGIN:VEVENT
DTSTART;TZID=America/New_York:20251205T170000
DTEND;TZID=America/New_York:20251205T200000
DTSTAMP:20260423T025830
CREATED:20251107T194640Z
LAST-MODIFIED:20251110T153532Z
UID:10000948-1764954000-1764964800@wiltonchamber.com
SUMMARY:Holiday Stroll 2025
DESCRIPTION:Get ready to ring in the season at the Wilton Chamber of Commerce’s Holiday Stroll for a truly magical evening on Friday\, December 5th from 5-8pm! The Wilton Chamber\, in collaboration with event sponsor Kimco Realty and partners including the Town of Wilton\, the Wilton Fire Department\, Wilton Volunteer Ambulance Corps\, Wilton Kiwanis Club\, and numerous local businesses\, warmly invites everyone to join the festivities starting at 5:00 pm. \nThe Fairfield County Brass Quintet will kick off the cheer\, filling the air with timeless holiday classics. Head to the Town Green\, where the Kiwanis Club of Wilton will host a cozy gathering with a marshmallow roast\, hot chocolate\, and a bonfire to keep you warm. \nFamilies can delight in crafts and treats from local businesses and non-profits\, with cookie decorating hosted by the Wilton Rotary Club. Be sure to keep an eye out for a special “ELF” spreading cheer throughout the green! \nThe merriment extends to the Wilton Library from 5:30 to 7:00 p.m.\, where staff will be outside their front entrance handing out special gift bags with sweet treats\, while supplies last. Children can also visit the Children’s Library to make a special bookmark\, and all visitors are encouraged to browse for gifts and stocking stuffers at the Holiday Book Sale in the gallery. \nAt 5:45 pm\, the Christmas season officially begins with our tree lighting ceremony\, followed by the highly anticipated arrival of Santa\, chauffeured by the Wilton Fire Department’s Ladder Truck 5. Children can visit Santa at the gazebo starting at 6:00 pm to share their holiday wishes and receive a special treat. \nThe enchanting voices of the carolers from the Voice Studio will entertain visitors after Santa’s arrival. For the first time ever\, bring a chair or blanket and settle in for a special outdoor screening of the holiday classic\, “Polar Express” at the Town Green\, beginning at 6:30 pm. \nWe encourage the community to stroll through town\, visit\, shop\, and enjoy the generous hospitality of participating local retailers\, restaurants\, and businesses. Celebrate the magic of the holidays and join in the festivities! \nThe Chamber extends special thanks to our event sponsor\, Kimco Realty\, along with all the merchants and businesses who host such festive receptions at their stores. Community celebrations like these help everyone get into the holiday spirit and kick off the season. Please remember to SHOP\, DINE\, and SUPPORT our local businesses! \nThe Holiday Stroll is a rain or shine event. \nFor more information\, contact Camille Carriero\, Executive Director at info@wiltonchamber.com or 203-762-0567.
URL:https://wiltonchamber.com/event-detail/holiday-stroll-2025/
LOCATION:Wilton Center\, Wilton\, CT\, 06897\, United States
CATEGORIES:Chamber Events,Holiday Stroll
ATTACH;FMTTYPE=image/png:https://wiltonchamber.com/wp-content/uploads/2025/11/Holiday-Stroll-2025-Ad-Space.png
ORGANIZER;CN="Wilton Chamber of Commerce":MAILTO:info@wiltonchamber.com
END:VEVENT
BEGIN:VEVENT
DTSTART;TZID=America/New_York:20241206T170000
DTEND;TZID=America/New_York:20241206T200000
DTSTAMP:20260423T025830
CREATED:20241001T185835Z
LAST-MODIFIED:20241203T174547Z
UID:10000430-1733504400-1733515200@wiltonchamber.com
SUMMARY:Holiday Stroll 2024
DESCRIPTION:The annual Wilton Chamber of Commerce’s Holiday Stroll will be on Friday Dec. 6th! Together with our event sponsor\, Kimco Realty and in partnership with the Town of Wilton\, Wilton Fire Department\, Wilton Volunteers Ambulance Corps.\, Wilton Kiwanis Club and several retailers and businesses in the Town Center\, all are invited to join the festivities beginning at 5:00 pm. \nEVENT UPDATE: The Kiwanis Club of Wilton will once again host the marshmallow roast for the Holiday Stroll! With the fire ban lifted in the State\, we are thrilled to have this family activity back to keep our guests warm and cozy that night! Please visit them at the corner of River Road and the entrance to Schenck’s Island this Friday\, Dec. 6th from 5-8pm. \nGet in the holiday spirit  and make your way to the Town Green to be enchanted by the strolling carolers from the Voice Studio. Families can enjoy crafts and treats provided by our local non-profit organizations\, and meet a special “ELF” strolling through the Town Green. \nIn addition to the festivities at the Town Green\, from 5:30 to 7:00 p.m.\, Wilton Library staff will welcome visitors outside their front entrance handing out special gift bags with sweet treats\, while supplies last. Children can stop by the Children’s Library to make a special bookmark to take home with their books\, and teens are welcome to visit the Teen Room to make pompom bookmarks. They invite all visitors to shop for gifts and stocking stuffers at the Holiday Book Sale in the gallery. \nAt 5:45 pm we will officially kick off the Christmas season with our tree lighting ceremony followed by the much-anticipated arrival of Santa ushered in by the Wilton Fire Department’s Ladder Truck 5. Children of all ages will be able to visit Santa at the gazebo where they can share their holiday wishes and receive a special treat starting at 6:00 pm. \nCelebrate the magic of the holidays and join in the festivities with our retailers\, restaurants\, and local businesses and we encourage the community to stroll through town\, visit\, shop and enjoy the generous hospitality of participating local businesses that evening! \nThe Chamber would like to give special thanks to our event sponsor\, Kimco Realty along with the merchants and businesses who host such festive and welcoming receptions at their stores. Community celebrations like these help residents get into the holiday spirit and kick off the season! Please remember to SHOP\, DINE and SUPPORT our local businesses! \nPlease note: The Holiday Stroll is a rain or shine event. \nFor more information about the Wilton Chamber’s Holiday Stroll\, contact Camille Carriero\, Executive Director at info@wiltonchamber.com. or 203-762-0567.
URL:https://wiltonchamber.com/event-detail/holiday-stroll-2024/
LOCATION:Wilton Center\, Wilton\, CT\, 06897\, United States
CATEGORIES:Chamber Events,Community Events,Holiday Stroll
ATTACH;FMTTYPE=image/png:https://wiltonchamber.com/wp-content/uploads/2024/10/Holiday-Stroll-2024-Instagram.png
ORGANIZER;CN="Wilton Chamber of Commerce":MAILTO:info@wiltonchamber.com
END:VEVENT
BEGIN:VEVENT
DTSTART;TZID=America/New_York:20231201T170000
DTEND;TZID=America/New_York:20231201T200000
DTSTAMP:20260423T025830
CREATED:20231031T131010Z
LAST-MODIFIED:20231114T182434Z
UID:10000220-1701450000-1701460800@wiltonchamber.com
SUMMARY:Holiday Stroll 2023
DESCRIPTION:The annual Wilton Chamber of Commerce’s Holiday Stroll will be on Friday Dec. 1st! Together with our event sponsors\, Fairfield County Bank and Meadow Ridge and in partnership with the Town of Wilton\, Wilton Fire Department\, Wilton Volunteers Ambulance Corps.\, Wilton Kiwanis Club and several retailers and businesses in the Town Center\, all are invited to join the festivities beginning at 5:00 pm. \nGet in the holiday spirit as you warm up by a roaring bonfire and partake in the marshmallow roast and hot cocoa provided by the Wilton Kiwanis Club at Schenck’s Island. Make your way to the Town Green to be enchanted by the strolling carolers and dance performance from Wilton’s Conservatory of Dance. Families can enjoy crafts and treats provided by our local non-profit organizations\, and new this year\, Justin Baiad Photography will be creating a magical winter experience with digital photo packages at the Holiday Stroll. Get your portraits with Buddy the Elf as he joins in the fun! In the tradition of giving back for the holiday season\, all proceeds for the photo session will benefit Trackside Teen Center. \nIn addition to the festivities at the Town Green and Schenck’s Island\, from 5:30 to 7:00 p.m.\, Wilton Library staff will welcome visitors outside their front entrance handing out special gift bags with sweet treats\, while supplies last. Children can stop by the Children’s Library to make a special bookmark to take home with their books! They invite all visitors to shop for gifts and stocking stuffers at the Holiday Book Sale in the gallery. \nAt 5:45 pm we will officially kick off the Christmas season with our tree lighting ceremony followed by the much-anticipated arrival of Santa at the Town Green ushered in by the Wilton Fire Department’s Ladder Truck 5. Children of all ages will be able to visit Santa at the gazebo where they can share their holiday wishes and receive a special treat starting at 6:00 pm. \nCelebrate the magic of the holidays and join in the festivities with our retailers\, restaurants\, and local businesses and we encourage the community to stroll through town\, visit\, shop and enjoy the generous hospitality of participating local businesses that evening! A special rickshaw ride through Wilton Center will be provided by College Bound Rickshaw for the enjoyment of our guests. \nThe Chamber would like to give special thanks to our event sponsors\, Fairfield County Bank and Meadow Ridge\, along with the merchants and businesses who host such festive and welcoming receptions at their stores. Community celebrations like these help residents get into the holiday spirit and kick off the season! Please remember to SHOP\, DINE and SUPPORT our local businesses! \nPlease note: The Holiday Stroll is a rain or shine event. \nFor more information about the Wilton Chamber’s Holiday Stroll\, contact Camille Carriero\, Executive Director at info@wiltonchamber.com. or 203-762-0567.
URL:https://wiltonchamber.com/event-detail/holiday-stroll-2023/
LOCATION:Wilton Center\, Wilton\, CT\, 06897\, United States
CATEGORIES:Holiday Stroll
ATTACH;FMTTYPE=image/png:https://wiltonchamber.com/wp-content/uploads/2023/10/Holiday-Stroll-2023-Instagram.png
ORGANIZER;CN="Wilton Chamber of Commerce":MAILTO:info@wiltonchamber.com
END:VEVENT
BEGIN:VEVENT
DTSTART;TZID=America/New_York:20221202T170000
DTEND;TZID=America/New_York:20221202T200000
DTSTAMP:20260423T025830
CREATED:20221115T154835Z
LAST-MODIFIED:20230405T172020Z
UID:10000058-1670000400-1670011200@wiltonchamber.com
SUMMARY:Holiday Stroll 2022
DESCRIPTION:The annual Wilton Chamber of Commerce’s Holiday Stroll will be on Friday Dec. 2nd! Together with the Town of Wilton\, Wilton Fire Department\, Wilton Volunteers Ambulance Corps.\, Wilton Kiwanis Club and several retailers and businesses in the Town Center\, all are invited to join the festivities beginning at 5:00 pm. \nGet in the holiday spirit as you warm up by a roaring bonfire and partake in the marshmallow roast and hot cocoa provided by the Wilton Kiwanis Club at Schenck’s Island. Make your way to the Town Green to be enchanted by the strolling carolers and dance performance from Wilton’s Conservatory of Dance. Families can enjoy crafts and treats provided by our local non-profit organizations and at 5:30 pm we will officially kick off the Christmas season with our tree lighting ceremony. \nIn addition to the festivities at the Town Green and Schenck’s Island\, the Wilton Library staff will welcome visitors from 5:30 to 7:00 p.m. outside their front entrance. They will be handing out special gift bags with sweet treats\, while supplies last. They invite all visitors to shop for gifts and stocking stuffers at their wonderful Holiday Book Sale in the gallery. All proceeds benefit the library. \nFor the highlight of the evening\, gather all the young ones as we keep the tradition going with Santa Claus arriving at the Town Green ushered by the Wilton Fire Department’s Ladder Truck 5. Children of all ages will be able to visit Santa at the gazebo where they can share their holiday wishes and receive a special treat from Santa starting at 5:45 pm. \nFinally\, before you head home\, make your way to the Wilton Congregational Church (70 Ridgefield Road Wilton\, CT) as Music on the Hill presents its annual holiday concert\, “Sounds of the Season\,” at 7:30 p.m. The concert features the Jubilate Ringers\, an 18-member handbell ensemble\, and the 30-voice Festival Chorus\, made up of singers from throughout the region. The concert will include selections for Christmas and Hanukkah\, as well as lullabies and winter songs. \nCelebrate the magic of the holidays and join in the festivities with our retailers\, restaurants\, and local businesses. We encourage the community to stroll through town\, visit\, shop and enjoy the generous hospitality of these local businesses that evening! \nThe Chamber would like to give special thanks to the merchants and businesses who host such festive and welcoming receptions at their stores. Community celebrations like these help residents get into the holiday spirit and kick off the season! Please remember to SHOP\, DINE and SUPPORT our local businesses! \nPlease note: The Holiday Stroll is a rain or shine event. \nFor more information about the Wilton Chamber’s Holiday Stroll\, contact Camille Carriero\, Executive Director at info@wiltonchamber.com. Or 203-762-0567
URL:https://wiltonchamber.com/event-detail/holiday-stroll-2022/
LOCATION:WP Router Placeholder Page
CATEGORIES:Holiday Stroll
ATTACH;FMTTYPE=image/png:https://wiltonchamber.com/wp-content/uploads/2023/01/Holiday-Stroll-2022-Insta-1024x1024-1.png
END:VEVENT
BEGIN:VEVENT
DTSTART;TZID=America/New_York:20211203T163000
DTEND;TZID=America/New_York:20211203T190000
DTSTAMP:20260423T025830
CREATED:20211116T152309Z
LAST-MODIFIED:20230405T172034Z
UID:10000056-1638549000-1638558000@wiltonchamber.com
SUMMARY:Holiday Stroll
DESCRIPTION:Friday Dec. 3rd marks the return of the Wilton Chamber of Commerce’s annual Holiday Stroll! Together with the Town of Wilton\, Wilton Fire Department\, Wilton Volunteers Ambulance Corps. (WVAC)\, Wilton Kiwanis Club and several retailers and businesses in the Town Center\, all are invited to join the holiday festivities beginning at 4:30 pm. \nGet in the holiday spirit as you warm up by a roaring bonfire and partake in the marshmallow roast and hot cocoa provided by the Wilton Kiwanis Club at Schenck’s Island. Make your way to the Town Green for the menorah lighting ceremony and latkes provided by Good Morning Wilton.  Then be enchanted by the strolling carolers and dance performance from Wilton’s Conservatory of Dance. Families can enjoy crafts and treats provided by our local non-profit organizations that evening at the Town Green and at 5:30 pm we will officially kick off the Christmas season with our tree lighting ceremony. \nIn addition to the festivities at the Town Green\, the Wilton Library will welcome visitors by their front entrance and provide special gift bags with sweet treats\, while supplies last. We invite you to purchase an “ornament” from their Giving Tree\, buy Hanukkah Gelt for the Children’s Library\, and shop for gifts at the Library’s Holiday Book Sale. Also\, don’t forget to admire the Bakers & Builders Gingerbread – Police Edition entries and cast your vote for the “Community Favorite” prize. \nFinally\, gather all the young ones as we keep the tradition going with Santa Claus arriving into town ushered by the Wilton Fire Department’s Ladder Truck 5. Children of all ages will be able to visit Santa at the gazebo where they can share their holiday wishes and receive a special treat from Santa starting at 5:45 pm. \nCelebrate the magic of the holidays and join in the festivities with our retailers\, restaurants\, and local businesses. We encourage the community to stroll through town\, visit\, shop and enjoy the generous hospitality of these local businesses. \nThe Chamber would like to give special thanks to the merchants and businesses who host such festive and welcoming receptions at their stores. Community celebrations like these help residents get into the holiday spirit and kick off the season! Please remember to SHOP\, DINE and SUPPORT our local businesses! \nPlease note: The Holiday Stroll is a rain or shine event. \nFor more information about the Wilton Chamber’s Holiday Stroll or to participate in the event\, contact Camille Carriero\, Executive Director at info@wiltonchamber.com. Or 203-762-0567
URL:https://wiltonchamber.com/event-detail/holiday-stroll-2/
LOCATION:little-pub-logo-1
CATEGORIES:Holiday Stroll
ATTACH;FMTTYPE=image/png:https://wiltonchamber.com/wp-content/uploads/2022/03/Holiday-Stroll-2021-boarder-FINAL-1024x360-1.png
END:VEVENT
BEGIN:VEVENT
DTSTART;TZID=America/New_York:20191206T173000
DTEND;TZID=America/New_York:20191206T200000
DTSTAMP:20260423T025830
CREATED:20191105T174651Z
LAST-MODIFIED:20230405T172105Z
UID:10000068-1575653400-1575662400@wiltonchamber.com
SUMMARY:Wilton Holiday Stroll 2019
DESCRIPTION:The annual Holiday Stroll will be held on December 6th at the Town Green. The Wilton Chamber of Commerce and the Town of Wilton have planned an expanded schedule of events to celebrate the season and the arrival of winter! \nSome activities will begin at 4:30pm at the Town Green with potato latkes sponsored by Good Morning Wilton and holiday music and entertainment by the Wilton High School Band before our tree lighting! \nThen gather at the Gazebo at 5:30 pm and meet Santa as he is escorted by the Wilton Fire Department on the Engine 5 ladder truck. Walk over to Schenck’s Island for a marshmallow roast sponsored by Wilton Kiwanis and visit the Wilton Library for their Holiday Book Sale! \nOfcourse we encourage everyone to stroll downtown Wilton\, shop and enjoy the hospitalities of our local stores and bring your family and friends to Wilton Center to celebrate in all the festivities! Please remember to SUPPORT\, SHOP and DINE LOCAL! \nParticipating merchants are: \n\n“B” Chic – 10% off all merchandise from 5:30-8:00 pm\, cupcakes and refreshments\nBankwell – kid’s get a special prize! Find them at Open House Gift Shop during the stroll\nBerkshire Hathaway HomeServices – serving cookies and cider with a very special guest appearance by Rudolph the Red-Nosed reindeer from 5:30-7:00 pm\nBubble and Brew – serving pastries and hot beverages for purchase\nClassically Cate – refreshments\, holiday cookies and a “discount grab bag”\nHalstead Real Estate – open house\, buffet of hors d’oeuvres\, music and more\nLang’s Pharmacy – savory bites and refreshments\nOpen House Gift Shop – each purchase is entered to win a $25 gift card\, purchase a scarf and receive a set of $24 gloves while supplies last\, 20% off select ornaments\nRiver Road Gallery – 10% discount on select frames\, preview to “Nature’s Colors -Abstract to Realism” show and serving chocolate covered cookies until 8:00 pm\nSignature Style – refreshments\, snacks and extended hours\nSweet Pierre’s – 10% discount on purchases and serving hot chocolate\, cookies and marshmallows\nTown Center Toys – extended hours\, snacks and refreshments\nVillage Market – serving refreshments and fine hors d’oeuvres\nWilton Hardware – beer\, wine\, hors d’oeuvres and sweet snacks from Painted Cookie\n\nMake sure to grab a bite before or after the festivities at one of our great restaurants in downtown!
URL:https://wiltonchamber.com/event-detail/wilton-holiday-stroll-2019-2/
LOCATION:little-pub-logo-1
CATEGORIES:Holiday Stroll
ATTACH;FMTTYPE=:
END:VEVENT
END:VCALENDAR