BEGIN:VCALENDAR
VERSION:2.0
PRODID:-//Wilton Chamber of Commerce - ECPv6.15.18//NONSGML v1.0//EN
CALSCALE:GREGORIAN
METHOD:PUBLISH
X-ORIGINAL-URL:https://wiltonchamber.com
X-WR-CALDESC:Events for Wilton Chamber of Commerce
REFRESH-INTERVAL;VALUE=DURATION:PT1H
X-Robots-Tag:noindex
X-PUBLISHED-TTL:PT1H
BEGIN:VTIMEZONE
TZID:America/New_York
BEGIN:DAYLIGHT
TZOFFSETFROM:-0500
TZOFFSETTO:-0400
TZNAME:EDT
DTSTART:20180311T070000
END:DAYLIGHT
BEGIN:STANDARD
TZOFFSETFROM:-0400
TZOFFSETTO:-0500
TZNAME:EST
DTSTART:20181104T060000
END:STANDARD
BEGIN:DAYLIGHT
TZOFFSETFROM:-0500
TZOFFSETTO:-0400
TZNAME:EDT
DTSTART:20190310T070000
END:DAYLIGHT
BEGIN:STANDARD
TZOFFSETFROM:-0400
TZOFFSETTO:-0500
TZNAME:EST
DTSTART:20191103T060000
END:STANDARD
BEGIN:DAYLIGHT
TZOFFSETFROM:-0500
TZOFFSETTO:-0400
TZNAME:EDT
DTSTART:20200308T070000
END:DAYLIGHT
BEGIN:STANDARD
TZOFFSETFROM:-0400
TZOFFSETTO:-0500
TZNAME:EST
DTSTART:20201101T060000
END:STANDARD
BEGIN:DAYLIGHT
TZOFFSETFROM:-0500
TZOFFSETTO:-0400
TZNAME:EDT
DTSTART:20210314T070000
END:DAYLIGHT
BEGIN:STANDARD
TZOFFSETFROM:-0400
TZOFFSETTO:-0500
TZNAME:EST
DTSTART:20211107T060000
END:STANDARD
BEGIN:DAYLIGHT
TZOFFSETFROM:-0500
TZOFFSETTO:-0400
TZNAME:EDT
DTSTART:20220313T070000
END:DAYLIGHT
BEGIN:STANDARD
TZOFFSETFROM:-0400
TZOFFSETTO:-0500
TZNAME:EST
DTSTART:20221106T060000
END:STANDARD
BEGIN:DAYLIGHT
TZOFFSETFROM:-0500
TZOFFSETTO:-0400
TZNAME:EDT
DTSTART:20230312T070000
END:DAYLIGHT
BEGIN:STANDARD
TZOFFSETFROM:-0400
TZOFFSETTO:-0500
TZNAME:EST
DTSTART:20231105T060000
END:STANDARD
BEGIN:DAYLIGHT
TZOFFSETFROM:-0500
TZOFFSETTO:-0400
TZNAME:EDT
DTSTART:20240310T070000
END:DAYLIGHT
BEGIN:STANDARD
TZOFFSETFROM:-0400
TZOFFSETTO:-0500
TZNAME:EST
DTSTART:20241103T060000
END:STANDARD
BEGIN:DAYLIGHT
TZOFFSETFROM:-0500
TZOFFSETTO:-0400
TZNAME:EDT
DTSTART:20250309T070000
END:DAYLIGHT
BEGIN:STANDARD
TZOFFSETFROM:-0400
TZOFFSETTO:-0500
TZNAME:EST
DTSTART:20251102T060000
END:STANDARD
BEGIN:DAYLIGHT
TZOFFSETFROM:-0500
TZOFFSETTO:-0400
TZNAME:EDT
DTSTART:20260308T070000
END:DAYLIGHT
BEGIN:STANDARD
TZOFFSETFROM:-0400
TZOFFSETTO:-0500
TZNAME:EST
DTSTART:20261101T060000
END:STANDARD
END:VTIMEZONE
BEGIN:VEVENT
DTSTART;TZID=America/New_York:20251025T140000
DTEND;TZID=America/New_York:20251025T160000
DTSTAMP:20260423T030116
CREATED:20250912T153524Z
LAST-MODIFIED:20250912T153524Z
UID:10000870-1761400800-1761408000@wiltonchamber.com
SUMMARY:Pumpkin Parade 2025
DESCRIPTION:Wilton Pumpkin Parade and Trick or Treating Returns! \nThe Wilton Chamber of Commerce\, in collaboration with ASML and the Town of Wilton\, is delighted to announce the return of the eagerly awaited Pumpkin Parade and Trick or Treating event in Wilton Center on Saturday\, October 25th\, from 2 to 4 PM! \nThanks to the collaboration of our event sponsor\, ASML\, everyone is invited to dress up in their spookiest or most creative costumes and collect treats throughout Wilton Center. Gather at the gazebo for some frightful fun\, as we present spooktacular interactive games and activities designed for the whole family! \nPrepare for a day filled with howling good music and abundant entertainment as the Town Green and Wilton Center become a (not so) scary party. Local businesses and non-profit organizations will be out in full force\, distributing sweet treats to all the ghouls\, goblins\, princes\, and princesses joining in the fun! \nTo ensure the safety of all trick-or-treaters\, a section of Old Ridgefield Road\, from the Town Green to Godfrey Road\, will be closed to vehicular traffic during the event. \nWe extend our heartfelt thanks to the generous local businesses\, retailers\, and organizations whose support makes these fall festivities possible\, showcasing Wilton as a wonderful destination to shop\, dine\, and enjoy community life. \nVendor registration is now OPEN and limited to 30 spots. To participate\, download the registration form here: PUMPKIN PARADE 2025. \nThis event will take place rain or shine! \n 
URL:https://wiltonchamber.com/event-detail/pumpkin-parade-2025/
LOCATION:Wilton Center\, Wilton\, CT\, 06897\, United States
CATEGORIES:Chamber Events,Halloween Events
ATTACH;FMTTYPE=image/png:https://wiltonchamber.com/wp-content/uploads/2025/09/Pumpkin-Parade-2025-Insta.png
ORGANIZER;CN="Wilton Chamber of Commerce":MAILTO:info@wiltonchamber.com
END:VEVENT
BEGIN:VEVENT
DTSTART;TZID=America/New_York:20251015T080000
DTEND;TZID=America/New_York:20251031T233000
DTSTAMP:20260423T030116
CREATED:20250903T002408Z
LAST-MODIFIED:20250903T002408Z
UID:10000853-1760515200-1761953400@wiltonchamber.com
SUMMARY:Scarecrow Fest 2025
DESCRIPTION:The Wilton Chamber of Commerce\, in collaboration with ASML\, the Town of Wilton\, the Wilton Historical Society\, the Department of Public Works\, and Parks and Recreation\, is thrilled to announce the return of our beloved annual Scarecrow Fest! \nEach year\, Wilton Center is transformed into a vibrant autumn wonderland\, adorned with unique scarecrows crafted by local organizations\, businesses\, and families. These creative displays infuse the town with festive spirit\, bringing the village to life! The event will take place from October 15th to 31st\, 2025. \n \nThis event is limited to 50 participants. Only completed applications with payment will be processed on a first come first served basis. Download application form HERE. \nContest and Prizes: Three scarecrow entries will be chosen for the following categories: \nMost Creative Scarecrow – Best Traditional Scarecrow – Best “Wilton Themed” Scarecrow. Each winner will receive a $150 Chamber of Commerce gift certificate redeemable at over two dozen local Wilton retail stores\, restaurants\, and service providers! *Winners will be contacted via email by October 27\, 2025.*
URL:https://wiltonchamber.com/event-detail/scarecrowfest-2025/
LOCATION:Wilton Center\, Wilton\, CT\, 06897\, United States
CATEGORIES:Chamber Events,Halloween Events
ATTACH;FMTTYPE=image/png:https://wiltonchamber.com/wp-content/uploads/2025/09/Scarecrow-Fest-Insta-2025-400-×-400-px.png
ORGANIZER;CN="Wilton Chamber of Commerce":MAILTO:info@wiltonchamber.com
END:VEVENT
BEGIN:VEVENT
DTSTART;TZID=America/New_York:20251001T120000
DTEND;TZID=America/New_York:20251001T170000
DTSTAMP:20260423T030116
CREATED:20250915T181855Z
LAST-MODIFIED:20250915T181855Z
UID:10000879-1759320000-1759338000@wiltonchamber.com
SUMMARY:Halloween Costume Exchange
DESCRIPTION:COLLECTION DAYS \nDrop off clean\, complete costumes for ages 0-100 on the follow days:\nMonday\, 9/22 from 4:30pm-6:30pm Cannondale Train Station\nWednesday\, 9/24 from 12pm-5pm Wilton Farmers Market\nSaturday\, 9/27 from 9:00am-11:00am Cannondale Train Station\nWednesday\, 10/1 from 12pm-5pm Wilton Farmers Market
URL:https://wiltonchamber.com/event-detail/halloween-costume-exchange-4/
LOCATION:Wilton Farmers Market\, 101 Old Ridgefield Road\, Wilton\, CT\, 06897
CATEGORIES:Community Events,Halloween Events
ATTACH;FMTTYPE=image/png:https://wiltonchamber.com/wp-content/uploads/2025/09/2025-flyer-Costume-Exchange-Instagram-Post-5.png
END:VEVENT
BEGIN:VEVENT
DTSTART;TZID=America/New_York:20250927T090000
DTEND;TZID=America/New_York:20250927T110000
DTSTAMP:20260423T030116
CREATED:20250915T181940Z
LAST-MODIFIED:20250915T181940Z
UID:10000878-1758963600-1758970800@wiltonchamber.com
SUMMARY:Halloween Costume Exchange
DESCRIPTION:COLLECTION DAYS \nDrop off clean\, complete costumes for ages 0-100 on the follow days:\nMonday\, 9/22 from 4:30pm-6:30pm Cannondale Train Station\nWednesday\, 9/24 from 12pm-5pm Wilton Farmers Market\nSaturday\, 9/27 from 9:00am-11:00am Cannondale Train Station\nWednesday\, 10/1 from 12pm-5pm Wilton Farmers Market
URL:https://wiltonchamber.com/event-detail/halloween-costume-exchange-5/
LOCATION:Cannondale Train Station\, 22 Cannon Rd\, Wilton\, CT\, 06897\, United States
CATEGORIES:Community Events,Halloween Events
ATTACH;FMTTYPE=image/png:https://wiltonchamber.com/wp-content/uploads/2025/09/2025-flyer-Costume-Exchange-Instagram-Post-4.png
END:VEVENT
BEGIN:VEVENT
DTSTART;TZID=America/New_York:20250924T120000
DTEND;TZID=America/New_York:20250924T170000
DTSTAMP:20260423T030116
CREATED:20250915T182137Z
LAST-MODIFIED:20250915T182137Z
UID:10000877-1758715200-1758733200@wiltonchamber.com
SUMMARY:Halloween Costume Exchange
DESCRIPTION:Drop off clean\, complete costumes for ages 0-100 on the follow days:\nMonday\, 9/22 from 4:30pm-6:30pm Cannondale Train Station\nWednesday\, 9/24 from 12pm-5pm Wilton Farmers Market\nSaturday\, 9/27 from 9:00am-11:00am Cannondale Train Station\nWednesday\, 10/1 from 12pm-5pm Wilton Farmers Market
URL:https://wiltonchamber.com/event-detail/halloween-costume-exchange-7/
LOCATION:Wilton Farmers Market\, 101 Old Ridgefield Road\, Wilton\, CT\, 06897
CATEGORIES:Community Events,Halloween Events
ATTACH;FMTTYPE=image/png:https://wiltonchamber.com/wp-content/uploads/2025/09/2025-flyer-Costume-Exchange-Instagram-Post-3.png
END:VEVENT
BEGIN:VEVENT
DTSTART;TZID=America/New_York:20241026T140000
DTEND;TZID=America/New_York:20241026T160000
DTSTAMP:20260423T030116
CREATED:20240902T120042Z
LAST-MODIFIED:20240903T144641Z
UID:10000419-1729951200-1729958400@wiltonchamber.com
SUMMARY:Pumpkin Parade 2024
DESCRIPTION:In partnership with ASML and the Town of Wilton\, the Wilton Chamber of Commerce is thrilled to announce the return of the much-anticipated Pumpkin Parade and Trick or Treating in Wilton Center on Saturday\, October 26th from 2-4pm! \nWith the support of our event sponsor – ASML\, all are invited to dress up and don their Halloween best as they gather treats throughout Wilton Center. Join us for some frightful fun and gather at the gazebo as we feature spooktacular interactive games and activities for the whole family this year!  \nEnjoy some howling good music with our band and plenty of entertainment as the Town Green and Wilton Center is transformed into a (not so) scary gathering place featuring our participating local businesses and non-profit organizations as they hand out sweet treats for the ghouls\, goblins\, prince and princesses trick or treating that afternoon! \nFor the safety of our trick-or-treaters\, a portion of Old Ridgefield Road from the Town Green to Godfrey Road will be closed to vehicular traffic for the duration of the event. \nWe thank our very generous local businesses\, retailers\, and organizations for supporting these fall festivities to showcase Wilton as a destination to shop\, dine and enjoy the community! \nVendor registration is now OPEN and limited to 30 spots. Download the form here: PUMPKIN PARADE 2024. \n*This is a RAIN OR SHINE event*
URL:https://wiltonchamber.com/event-detail/pumpkin-parade-2024/
LOCATION:Wilton Center\, Wilton\, CT\, 06897\, United States
CATEGORIES:Chamber Events,Halloween Events
ATTACH;FMTTYPE=image/png:https://wiltonchamber.com/wp-content/uploads/2024/08/Pumpkin-Parade-2024-Insta.png
ORGANIZER;CN="Wilton Chamber of Commerce":MAILTO:info@wiltonchamber.com
END:VEVENT
BEGIN:VEVENT
DTSTART;TZID=America/New_York:20241015T080000
DTEND;TZID=America/New_York:20241031T233000
DTSTAMP:20260423T030116
CREATED:20240902T120045Z
LAST-MODIFIED:20240918T165800Z
UID:10000418-1728979200-1730417400@wiltonchamber.com
SUMMARY:Scarecrow Festival 2024
DESCRIPTION:The Wilton Chamber of Commerce in partnership with ASML and the Town of Wilton\, The Wilton Historical Society\, Department of Public Works\, and Parks and Recreation proudly announces the return of our annual Scarecrow Fest! \nEvery year we decorate Wilton Center with one of a kind scarecrows designed by our local organizations\, businesses and families! The scarecrows add to the fall festive spirit in town and makes the village come alive! The event runs from October 15th- 31st\, 2024. \n \nEVENT UPDATE: THE EVENT IS SOLD OUT. If you’d like to be placed on the waiting list\, please contact us at 203-762-0567 or info@wiltonchamber.com \nContest and Prizes: Three scarecrow entries will be chosen for the following categories: \nMost Creative Scarecrow – Best Traditional Scarecrow – Best “Wilton Themed” Scarecrow. Each winner will receive a $150 Chamber of Commerce gift certificate redeemable at over two dozen local Wilton retail stores\, restaurants\, and service providers! *Winners will be contacted via email by October 25\, 2024.*
URL:https://wiltonchamber.com/event-detail/scarecrow-festival-2024/
LOCATION:Wilton Center\, Wilton\, CT\, 06897\, United States
CATEGORIES:Chamber Events,Halloween Events
ATTACH;FMTTYPE=image/png:https://wiltonchamber.com/wp-content/uploads/2024/09/Sold-Out-Scarecrow-Fest-Insta-2024.png
ORGANIZER;CN="Wilton Chamber of Commerce":MAILTO:info@wiltonchamber.com
END:VEVENT
BEGIN:VEVENT
DTSTART;TZID=America/New_York:20231028T140000
DTEND;TZID=America/New_York:20231028T160000
DTSTAMP:20260423T030116
CREATED:20230905T170110Z
LAST-MODIFIED:20230905T171602Z
UID:10000191-1698501600-1698508800@wiltonchamber.com
SUMMARY:Pumpkin Parade 2023
DESCRIPTION:In partnership with ASML and the Town of Wilton\, the Wilton Chamber of Commerce is thrilled to announce the return of the much-anticipated Pumpkin Parade and Trick or Treating in Wilton Center on Saturday\, October 28th from 2-4pm! \nWith the support of our event sponsor – ASML\, all are invited to dress up and don their Halloween best as they gather treats throughout Wilton Center. Join us for some frightful fun and gather at the gazebo as we feature spooktacular interactive games and activities for the whole family this year! \nEnjoy some howling good music with our band and plenty of entertainment as the Town Green and Wilton Center is transformed into a (not so) scary gathering place featuring our participating local businesses and non-profit organizations as they hand out sweet treats for the ghouls\, goblins\, prince and princesses trick or treating that afternoon! \nFor the safety of our trick-or-treaters\, a portion of Old Ridgefield Road from the Town Green to Godfrey Road will be closed to vehicular traffic for the duration of the event. \nWe thank our very generous local businesses\, retailers\, and organizations for supporting these fall festivities to showcase Wilton as a destination to shop\, dine and enjoy the community! \nVendor registration is now OPEN and limited to 30 spots. Download the form here: PUMPKIN PARADE 2023. \n*This is a RAIN OR SHINE event*
URL:https://wiltonchamber.com/event-detail/pumpkin-parade-2023/
LOCATION:Wilton Center\, Wilton\, CT\, 06897\, United States
CATEGORIES:Chamber Events,Halloween Events
ATTACH;FMTTYPE=image/png:https://wiltonchamber.com/wp-content/uploads/2023/09/Pumpkin-Parade-2023-IG-post-400-×-400-px.png
ORGANIZER;CN="Wilton Chamber of Commerce":MAILTO:info@wiltonchamber.com
END:VEVENT
BEGIN:VEVENT
DTSTART;TZID=America/New_York:20231013T080000
DTEND;TZID=America/New_York:20231031T230000
DTSTAMP:20260423T030116
CREATED:20230905T164942Z
LAST-MODIFIED:20230905T173156Z
UID:10000190-1697184000-1698793200@wiltonchamber.com
SUMMARY:Scarecrow Festival 2023
DESCRIPTION:The Chamber of Commerce in partnership with ASML and the Town of Wilton\, The Wilton Historical Society\, Department of Public Works\, and Parks and Recreation proudly announces the return of our annual Scarecrow Fest! \nEvery year we decorate Wilton Center with one of a kind scarecrows designed by our local organizations\, businesses and families! The scarecrows add to the fall festive spirit in town and help makes the village come alive! The event runs from October 13th- 31st\, 2023. \nDownload participation form here: scarecrow entry 2023. Payments can be mailed along with form to Wilton Chamber of Commerce\, 86 Old Ridgefield Road Wilton\, CT 06897. Please make payment payable to Wilton Chamber of Commerce and note “scarecrow fest 2023” on check. \nDeadline for submission is SEPTEMBER 30th\, 2023 and limited to 50 participants! For questions or inquires contact us at 203-762-0567 or info@wiltonchamber.com \nNEW THIS YEAR: Three scarecrow entries will be chosen for the following categories: \nMost Creative Scarecrow – Best Traditional Scarecrow – Best “Wilton Themed” Scarecrow. Each winner will receive a $150 Chamber of Commerce gift certificate redeemable at over two dozen local Wilton retail stores\, restaurants\, and service providers! *Winners will be contacted via email by October 25\, 2023.*
URL:https://wiltonchamber.com/event-detail/scarecrow-festival-2023/
LOCATION:Wilton Center\, Wilton\, CT\, 06897\, United States
CATEGORIES:Chamber Events,Halloween Events
ATTACH;FMTTYPE=image/png:https://wiltonchamber.com/wp-content/uploads/2023/09/Scarecrow-Fest-Insta-2023-400-×-400-px.png
ORGANIZER;CN="Wilton Chamber of Commerce":MAILTO:info@wiltonchamber.com
END:VEVENT
BEGIN:VEVENT
DTSTART;TZID=America/New_York:20221029T140000
DTEND;TZID=America/New_York:20221029T160000
DTSTAMP:20260423T030116
CREATED:20220923T184933Z
LAST-MODIFIED:20230405T172023Z
UID:10000087-1667052000-1667059200@wiltonchamber.com
SUMMARY:Wilton Chamber of Commerce's Pumpkin Parade 2022
DESCRIPTION:The Wilton Chamber of Commerce is thrilled to announce the return of the much anticipated Pumpkin Parade on Saturday Oct. 29th from 2-4pm! \nAll are invited to dress up and don their Halloween best as they gather treats from our generous participating retailers\, businesses\, and vendors. For the safety of our trick-or-treaters\, a portion of Old Ridgefield Road from the Town Green to Godfrey Road will be closed to vehicular traffic for the duration of the event. \nGather at the gazebo and capture a spooky or silly family portrait courtesy of Justin Baiad Photography. All proceeds will be donated to Wilton Social Services. In years past\, this portion of the event has raised thousands of dollars to help local families in need during the holiday season. We thank our very generous local businesses\, retailers\, and organizations for supporting these fall festivities to showcase Wilton as a destination to shop\, dine and enjoy the community! \nVendor registration is now OPEN and limited to 30 spots. Download the form here: PUMPKIN PARADE 2022. \n*This is a RAIN OR SHINE event*
URL:https://wiltonchamber.com/event-detail/wilton-chamber-of-commerces-pumpkin-parade-2022-2/
LOCATION:little-pub-logo-1
CATEGORIES:Halloween Events
ATTACH;FMTTYPE=image/png:https://wiltonchamber.com/wp-content/uploads/2023/01/Pumpkin-Parade-2022-FB-post.png
END:VEVENT
BEGIN:VEVENT
DTSTART;TZID=America/New_York:20221014T080000
DTEND;TZID=America/New_York:20221031T170000
DTSTAMP:20260423T030116
CREATED:20220906T140700Z
LAST-MODIFIED:20230405T172027Z
UID:10000085-1665734400-1667235600@wiltonchamber.com
SUMMARY:Scarecrow Fest 2022
DESCRIPTION:The Chamber of Commerce along with the town of Wilton\, The Wilton Historical Society\, Department of Public Works and Parks and Recreation proudly announces the return of our annual Scarecrow Fest! \nEvery year we decorate Wilton Center with one of a kind scarecrows designed by our local organizations\, businesses and families! The scarecrows add to the fall festive spirit in town and help makes the village come alive! The event runs from October 14th- 31st\, 2022. \nDownload participation form here: scarecrow entry 2022. Payments can be mailed along with form to Wilton Chamber of Commerce\, 86 Old Ridgefield Road Wilton\, CT 06897. Please make payment payable to Wilton Chamber of Commerce and note “scarecrow fest 2022” on check. \nDeadline for submission is SEPTEMBER 30th\, 2022 and limited to 50 participants! For questions or inquires contact us at 203-762-0567 or info@wiltonchamber.com \nUPDATE: SCAVENGER HUNT FORM \nThe Town of Wilton has organized a scavenger hunt! A great activity to do with your children\, pull up the Scarecrow Scavenger Hunt webform on your mobile device and try to find all of the items listed on the scarecrows around Wilton town center. \nTake a walk through town to view the scarecrows and search for the designated items on the scarecrows\, record your findings on the form\, and submit. Fun for grown-ups and kids alike! \nPrize drawing will be at the conclusion and all winners will be notified by email or phone. First three names drawn will win gift certificates to select Wilton businesses. Participants/winners do not need to be present at the drawing.\nFor more information regarding the scavenger hunt\, contact Sarah Gioffre at sarah.gioffre@wiltonct.org.
URL:https://wiltonchamber.com/event-detail/scarecrow-fest-2022/
LOCATION:little-pub-logo-1
CATEGORIES:Halloween Events
ATTACH;FMTTYPE=image/png:https://wiltonchamber.com/wp-content/uploads/2023/01/Scarecrow-Fest-2022-1024x360-1.png
END:VEVENT
BEGIN:VEVENT
DTSTART;TZID=America/New_York:20211030T140000
DTEND;TZID=America/New_York:20211030T160000
DTSTAMP:20260423T030116
CREATED:20210930T175227Z
LAST-MODIFIED:20230405T172038Z
UID:10000093-1635602400-1635609600@wiltonchamber.com
SUMMARY:Pumpkin Parade
DESCRIPTION:We are thrilled to announce the return of the Chamber of Commerce’s Pumpkin Parade on Saturday Oct. 30th from 2-4pm! \nAll are invited to dress up and don their Halloween best as they gather treats from our generous participating retailers\, businesses\, and vendors. For the safety of our trick-or-treaters\, a portion of Old Ridgefield Road from the Town Green to Godfrey Road will be closed to vehicular traffic for the duration of the event. \nGather at the gazebo and capture a spooky or silly family portrait courtesy of Justin Baiad Photography. All proceeds will be donated to Wilton Social Services. In years past\, this portion of the event has raised thousands of dollars to help local families in need during the holiday season. We thank our very generous local businesses\, retailers\, and organizations for supporting these fall festivities to showcase Wilton as a destination to shop\, dine and enjoy the community! \n*This is a RAIN OR SHINE event*
URL:https://wiltonchamber.com/event-detail/pumpkin-parade-2/
LOCATION:little-pub-logo-1
CATEGORIES:Halloween Events
ATTACH;FMTTYPE=image/png:https://wiltonchamber.com/wp-content/uploads/2021/09/Pumpkin-Parade-FB-post.png
END:VEVENT
BEGIN:VEVENT
DTSTART;TZID=America/New_York:20211015T080000
DTEND;TZID=America/New_York:20211101T170000
DTSTAMP:20260423T030116
CREATED:20210903T170454Z
LAST-MODIFIED:20230405T172039Z
UID:10000094-1634284800-1635786000@wiltonchamber.com
SUMMARY:Scarecrow Fest 2021
DESCRIPTION:The Chamber of Commerce along with the town of Wilton\, The Wilton Historical Society\, Department of Public Works and Parks and Recreation proudly announces the return of our annual Scarecrow Fest! \nEvery year we decorate Wilton Center with one of a kind scarecrows designed by our local organizations\, businesses and families! The scarecrows really add to the fall festive spirit in town and help makes the village come alive! The event runs from October 15- November 1\, 2021. \nDownload participation form here: scarecrow entry 2021. Payments can be mailed along with form to Wilton Chamber of Commerce\, 86 Old Ridgefield Road Wilton\, CT 06897. Please make payment payable to Wilton Chamber of Commerce and note “scarecrow fest 2021” on check. \nDeadline for submission is OCTOBER 1st\, 2021 and limited to 50 participants! For any questions or inquires contact us at 203-762-0567 or info@wiltonchamber.com \nThe Town of Wilton has organized a fun family friendly scavenger hunt once again and lucky winners will win a gift certificate to select Wilton restaurants! Details on the Scavenger Hunt can be found on the Town of Wilton website.
URL:https://wiltonchamber.com/event-detail/scarecrow-fest-2021/
LOCATION:little-pub-logo-1
CATEGORIES:Halloween Events
ATTACH;FMTTYPE=image/png:https://wiltonchamber.com/wp-content/uploads/2021/09/Scarecrow-Fest-2021-banner-1024x360-1.png
END:VEVENT
BEGIN:VEVENT
DTSTART;TZID=America/New_York:20201016T080000
DTEND;TZID=America/New_York:20201102T170000
DTSTAMP:20260423T030116
CREATED:20200918T140430Z
LAST-MODIFIED:20230405T172052Z
UID:10000101-1602835200-1604336400@wiltonchamber.com
SUMMARY:Scarecrow Fest 2020
DESCRIPTION:The Chamber of Commerce along with the town of Wilton\, The Wilton Historical Society\, Department of Public Works and Parks and Recreation proudly announces the return of our annual Scarecrow Fest! \nEvery year we decorate Wilton Center with one of a kind scarecrows designed by our local organizations\, businesses and families! The scarecrows really add to the fall festive spirit in town and help makes the village come alive! The event runs from October 16- November 2\, 2020. Download participation form here: scarecrow entry 2020 \nPayments can be mailed along with form to Wilton Chamber of Commerce\, 86 Old Ridgefield Road Wilton\, CT 06897. Please make payment payable to Wilton Chamber of Commerce and note “scarecrow fest 2020” on check. \nDeadline for submission is OCTOBER 1st\, 2020 and limited to 50 participants! For any questions or inquires contact us at 203-762-0567 or info@wiltonchamber.com
URL:https://wiltonchamber.com/event-detail/scarecrow-fest-2020-2/
LOCATION:little-pub-logo-1
CATEGORIES:Halloween Events
ATTACH;FMTTYPE=:
END:VEVENT
BEGIN:VEVENT
DTSTART;TZID=America/New_York:20191026T143000
DTEND;TZID=America/New_York:20191026T163000
DTSTAMP:20260423T030116
CREATED:20191008T141411Z
LAST-MODIFIED:20230405T172108Z
UID:10000111-1572100200-1572107400@wiltonchamber.com
SUMMARY:Pumpkin Parade
DESCRIPTION:Have the kids (and adults too) trick or treat around Wilton Center! On Saturday\, October 26th from 2:30-4:30 pm\, Old Ridgefield Road from Godfrey to Center Streets will be closed down as Wilton Center becomes the place to be where ghouls and goblins roam! Visit all our local merchants\, shops and restaurants as they give you a treat on this very festive afternoon!
URL:https://wiltonchamber.com/event-detail/pumpkin-parade/
LOCATION:little-pub-logo-1
CATEGORIES:Halloween Events
ATTACH;FMTTYPE=image/png:https://wiltonchamber.com/wp-content/uploads/2023/02/Connecticut-Humane-Society-logo-1.png
END:VEVENT
BEGIN:VEVENT
DTSTART;TZID=America/New_York:20191018T080000
DTEND;TZID=America/New_York:20191031T230000
DTSTAMP:20260423T030116
CREATED:20190909T151025Z
LAST-MODIFIED:20230405T172111Z
UID:10000119-1571385600-1572562800@wiltonchamber.com
SUMMARY:Scarecrow Fest 2019
DESCRIPTION:It’s that time again! The Chamber of Commerce along with the town of Wilton\, Trackside Teen Center\, Department of Public Works and Parks and Recreation proudly announces the return of our annual Scarecrow Fest! \nThis event will last from October 18-31\, 2019. Download application form here: scarecrow entry 2019 \nPayments can be mailed along with application to Wilton Chamber of Commerce\, 86 Old Ridgefield Road Wilton\, CT 06897. Please make payment payable to Wilton Chamber of Commerce and note “scarecrow fest 2019” on check. \nDeadline for submission is SEPTEMBER 28\, 2019 and limited to first 50 applications! For any questions or inquires contact us at 203-762-0567. \nUPDATE: REGISTRATION IS NOW CLOSED. Please check back next year for our 2020 Scarecrow Fest update. \n  \n  \n 
URL:https://wiltonchamber.com/event-detail/scarecrow-fest-2019-2/
LOCATION:little-pub-logo-1
CATEGORIES:Halloween Events
ATTACH;FMTTYPE=image/jpeg:https://wiltonchamber.com/wp-content/uploads/2023/02/NRVT-Logo-1.jpg
END:VEVENT
END:VCALENDAR