BEGIN:VCALENDAR
VERSION:2.0
PRODID:-//Wilton Chamber of Commerce - ECPv6.15.18//NONSGML v1.0//EN
CALSCALE:GREGORIAN
METHOD:PUBLISH
X-ORIGINAL-URL:https://wiltonchamber.com
X-WR-CALDESC:Events for Wilton Chamber of Commerce
REFRESH-INTERVAL;VALUE=DURATION:PT1H
X-Robots-Tag:noindex
X-PUBLISHED-TTL:PT1H
BEGIN:VTIMEZONE
TZID:America/New_York
BEGIN:DAYLIGHT
TZOFFSETFROM:-0500
TZOFFSETTO:-0400
TZNAME:EDT
DTSTART:20220313T070000
END:DAYLIGHT
BEGIN:STANDARD
TZOFFSETFROM:-0400
TZOFFSETTO:-0500
TZNAME:EST
DTSTART:20221106T060000
END:STANDARD
BEGIN:DAYLIGHT
TZOFFSETFROM:-0500
TZOFFSETTO:-0400
TZNAME:EDT
DTSTART:20230312T070000
END:DAYLIGHT
BEGIN:STANDARD
TZOFFSETFROM:-0400
TZOFFSETTO:-0500
TZNAME:EST
DTSTART:20231105T060000
END:STANDARD
BEGIN:DAYLIGHT
TZOFFSETFROM:-0500
TZOFFSETTO:-0400
TZNAME:EDT
DTSTART:20240310T070000
END:DAYLIGHT
BEGIN:STANDARD
TZOFFSETFROM:-0400
TZOFFSETTO:-0500
TZNAME:EST
DTSTART:20241103T060000
END:STANDARD
BEGIN:DAYLIGHT
TZOFFSETFROM:-0500
TZOFFSETTO:-0400
TZNAME:EDT
DTSTART:20250309T070000
END:DAYLIGHT
BEGIN:STANDARD
TZOFFSETFROM:-0400
TZOFFSETTO:-0500
TZNAME:EST
DTSTART:20251102T060000
END:STANDARD
BEGIN:DAYLIGHT
TZOFFSETFROM:-0500
TZOFFSETTO:-0400
TZNAME:EDT
DTSTART:20260308T070000
END:DAYLIGHT
BEGIN:STANDARD
TZOFFSETFROM:-0400
TZOFFSETTO:-0500
TZNAME:EST
DTSTART:20261101T060000
END:STANDARD
BEGIN:DAYLIGHT
TZOFFSETFROM:-0500
TZOFFSETTO:-0400
TZNAME:EDT
DTSTART:20270314T070000
END:DAYLIGHT
BEGIN:STANDARD
TZOFFSETFROM:-0400
TZOFFSETTO:-0500
TZNAME:EST
DTSTART:20271107T060000
END:STANDARD
END:VTIMEZONE
BEGIN:VEVENT
DTSTART;TZID=America/New_York:20260212T090000
DTEND;TZID=America/New_York:20260212T170000
DTSTAMP:20260423T013735
CREATED:20260202T183742Z
LAST-MODIFIED:20260202T183742Z
UID:10001429-1770886800-1770915600@wiltonchamber.com
SUMMARY:Whip Salon Wilton Housewarming
DESCRIPTION:Whip Salon has officially opened its doors at 23 Danbury Road\, Wilton\, and the team is inviting the community to celebrate their new space! Join us on Thursday\, February 12th for a full day of “Whip” style celebration. \nFestivities Include: \n\n9:00 AM: Ribbon Cutting Ceremony 🎀\nAll Day: Exclusive Raffles\, Premium Swag\, and Luxury Prizes for clients 🎁\n\nGuests are invited to tour the gorgeous\, light-filled salon and meet the talented stylists behind the chairs. Whether you’re a regular or visiting for the first time\, February 12th is the perfect day to experience the “Whip” difference!
URL:https://wiltonchamber.com/event-detail/whip-salon-housewarming/
LOCATION:Whip Salon – Wilton\, 23 Danbury Road\, Wilton\, CT\, 06897\, United States
CATEGORIES:Community Events,Grand Opening,Ribbon Cutting
ATTACH;FMTTYPE=image/png:https://wiltonchamber.com/wp-content/uploads/2026/02/Whip-Salon-Ribbon-Cutting-2.12.png
END:VEVENT
BEGIN:VEVENT
DTSTART;TZID=America/New_York:20240405T100000
DTEND;TZID=America/New_York:20240405T113000
DTSTAMP:20260423T013735
CREATED:20240305T174208Z
LAST-MODIFIED:20240305T174208Z
UID:10000286-1712311200-1712316600@wiltonchamber.com
SUMMARY:Grand Opening and Ribbon Cutting - The Vital Stretch Wilton
DESCRIPTION:The Vital Stretch Wilton is thrilled to announce its grand opening on Friday April 5th! Please join us for a ribbon cutting ceremony at 10:00 am followed by a reception and facility tour! \nDeveloped by Melissa and Robert Goldring\, Physical Therapist and Chiropractic Physician\, The Vital Stretch® method combines joint motion\, fascial stretching\, PNF stretching while using the body’s own neurological reflexes and pathways to release tissue and muscle without pain. \nThis location is owned and managed by Wilton resident Jacob Mani and services include a unique blend of both dynamic movement and static holds all while being comfortably supported so your body can release all those tight spots in the most efficient way possible. \nFind out more and experience for yourself the health benefits offered at The Vital Stretch! \nThe Vital Stretch Wilton \n5 River Road Suite 3 \nWilton\, CT 06897 \n203-210-7101
URL:https://wiltonchamber.com/event-detail/grand-opening-and-ribbon-cutting-the-vital-stretch-wilton/
LOCATION:The Vital Stretch Wilton\, 5 River Road\, Wilton\, 06897\, United States
CATEGORIES:Chamber Events,Community Events,Grand Opening,Ribbon Cutting
ATTACH;FMTTYPE=image/png:https://wiltonchamber.com/wp-content/uploads/2024/03/Vital-Stretch-Ribbon-Cutting-4.5-.png
END:VEVENT
BEGIN:VEVENT
DTSTART;TZID=America/New_York:20231019T110000
DTEND;TZID=America/New_York:20231019T120000
DTSTAMP:20260423T013735
CREATED:20231002T160652Z
LAST-MODIFIED:20231012T164423Z
UID:10000211-1697713200-1697716800@wiltonchamber.com
SUMMARY:Grand Opening and Ribbon Cutting - ReWilding Wellness
DESCRIPTION:Dr. Kristy Vanacore is a holistic licensed family psychologist who recreantly expanded her in-person healing and holistic studies mentorship center in Wilton where she has curated a community-based safe haven for people of all ages and stages to gather in joy. She developed a “rewilding mentoring program” by bringing the health and wellness industry back to its roots to reconnect people with their innate self-healing capacities. \nHer method of healing helps her clients to unlearn the conditioning of fear so they can free themselves from the dependency on practitioners\, pills\, supplements\, and therapies. All are invited to join us for a ribbon cutting ceremony on: \nThursday Oct. 19\, 2023 – 11:00 am\n134 Old Ridgefield Road\nWilton\, CT 06897
URL:https://wiltonchamber.com/event-detail/grand-opening-and-ribbon-cutting-rewilding-wellness/
LOCATION:ReWilding Wellness\, 134 Old Ridgefield Road\, Wilton\, CT\, 06897\, United States
CATEGORIES:Chamber Events,Community Events,Grand Opening,Ribbon Cutting
ATTACH;FMTTYPE=image/jpeg:https://wiltonchamber.com/wp-content/uploads/2023/10/Rewilding-Ribbon-Cutting.jpg
ORGANIZER;CN="Wilton Chamber of Commerce":MAILTO:info@wiltonchamber.com
END:VEVENT
BEGIN:VEVENT
DTSTART;TZID=America/New_York:20230423T100000
DTEND;TZID=America/New_York:20230423T180000
DTSTAMP:20260423T013735
CREATED:20230404T182753Z
LAST-MODIFIED:20230417T181644Z
UID:10000146-1682244000-1682272800@wiltonchamber.com
SUMMARY:The PlayPlace Wilton Opening Day Event
DESCRIPTION:Join The PlayPlace Wilton for thier grand opening celebration on Sunday\, April 23rd from 10:00am-6:00pm!  Located at 644 Danbury Road\, Wilton CT\, The PlayPlace Wilton invites everyone to stop by and learn more about what they plan to offer to the community! Its also a great opportunity for your whole family to come by and check out the center! Ribbon cutting ceremony will be at 12:00 noon! \nPlus there will be food trucks\, drinks\, face painting\, balloon artists\, music\, fun games & free open play during the event! \nLimited space available\, register for your time slot today! Register links are available here: GRAND OPENING DAY CELEBRATION \n 
URL:https://wiltonchamber.com/event-detail/the-playplace-wilton-opening-day-event/
LOCATION:The PlayPlace Wilton\, 644 Danbury Road\, Wilton\, CT\, 06897\, United States
CATEGORIES:Community Events,Grand Opening,Ribbon Cutting
ATTACH;FMTTYPE=image/jpeg:https://wiltonchamber.com/wp-content/uploads/2023/04/PlayPlace-Grand-Opening-revised.jpg
END:VEVENT
END:VCALENDAR