BEGIN:VCALENDAR
VERSION:2.0
PRODID:-//Wilton Chamber of Commerce - ECPv6.15.18//NONSGML v1.0//EN
CALSCALE:GREGORIAN
METHOD:PUBLISH
X-ORIGINAL-URL:https://wiltonchamber.com
X-WR-CALDESC:Events for Wilton Chamber of Commerce
REFRESH-INTERVAL;VALUE=DURATION:PT1H
X-Robots-Tag:noindex
X-PUBLISHED-TTL:PT1H
BEGIN:VTIMEZONE
TZID:America/New_York
BEGIN:DAYLIGHT
TZOFFSETFROM:-0500
TZOFFSETTO:-0400
TZNAME:EDT
DTSTART:20220313T070000
END:DAYLIGHT
BEGIN:STANDARD
TZOFFSETFROM:-0400
TZOFFSETTO:-0500
TZNAME:EST
DTSTART:20221106T060000
END:STANDARD
BEGIN:DAYLIGHT
TZOFFSETFROM:-0500
TZOFFSETTO:-0400
TZNAME:EDT
DTSTART:20230312T070000
END:DAYLIGHT
BEGIN:STANDARD
TZOFFSETFROM:-0400
TZOFFSETTO:-0500
TZNAME:EST
DTSTART:20231105T060000
END:STANDARD
BEGIN:DAYLIGHT
TZOFFSETFROM:-0500
TZOFFSETTO:-0400
TZNAME:EDT
DTSTART:20240310T070000
END:DAYLIGHT
BEGIN:STANDARD
TZOFFSETFROM:-0400
TZOFFSETTO:-0500
TZNAME:EST
DTSTART:20241103T060000
END:STANDARD
END:VTIMEZONE
BEGIN:VEVENT
DTSTART;TZID=America/New_York:20231208T200000
DTEND;TZID=America/New_York:20231208T220000
DTSTAMP:20260423T030854
CREATED:20231115T195522Z
LAST-MODIFIED:20231115T195801Z
UID:10000265-1702065600-1702072800@wiltonchamber.com
SUMMARY:The Wilton Playshop Presents "A Christmas Carol"
DESCRIPTION:Back by popular demand\, The Wilton Playshop is once again staging a fantastic one-man adaptation of Charles Dickens’ “A Christmas Carol”. \nThe timeless tale of redemption and hope tells the story of Ebenezer Scrooge\, a greedy miser who hates Christmas. He is transformed into a caring\, kindly person when visited by four ghosts on Christmas Eve: Jacob Marley\, and the spirits of Christmas Past\, Present\, and Future. Patrick R. Spadaccino\, who both adapted the show and stars in it\, plays twenty-five different roles in the ninety-minute performance and brings each character to life! The show\, which was originally presented in 2018 at the Farmington Valley Stage Company in Collinsville\, CT\, is directed by Scott R. Brill. \nShowtimes are on Friday\, Dec. 8\, 8 pm; Saturday\, Dec. 9\, 8 pm; and Sunday\, Dec. 10\, 2 pm. Tickets: $30/adults\, $25/seniors and students. For tickets and more information\, visit www.wiltonplayshop.org
URL:https://wiltonchamber.com/event-detail/the-wilton-playshop-presents-a-christmas-carol-2/2023-12-08/
LOCATION:Wilton Playshop\, 15 Lovers Lane\, Wilton\, CT\, 06897\, United States
CATEGORIES:Community Events,Entertainment - Play
ATTACH;FMTTYPE=image/jpeg:https://wiltonchamber.com/wp-content/uploads/2023/11/xmas-carol-pic.jpeg
ORGANIZER;CN="Wilton Playshop":MAILTO:info@wiltonplayshop.org
END:VEVENT
END:VCALENDAR