BEGIN:VCALENDAR
VERSION:2.0
PRODID:-//Wilton Chamber of Commerce - ECPv6.15.18//NONSGML v1.0//EN
CALSCALE:GREGORIAN
METHOD:PUBLISH
X-WR-CALNAME:Wilton Chamber of Commerce
X-ORIGINAL-URL:https://wiltonchamber.com
X-WR-CALDESC:Events for Wilton Chamber of Commerce
REFRESH-INTERVAL;VALUE=DURATION:PT1H
X-Robots-Tag:noindex
X-PUBLISHED-TTL:PT1H
BEGIN:VTIMEZONE
TZID:America/New_York
BEGIN:DAYLIGHT
TZOFFSETFROM:-0500
TZOFFSETTO:-0400
TZNAME:EDT
DTSTART:20190310T070000
END:DAYLIGHT
BEGIN:STANDARD
TZOFFSETFROM:-0400
TZOFFSETTO:-0500
TZNAME:EST
DTSTART:20191103T060000
END:STANDARD
BEGIN:DAYLIGHT
TZOFFSETFROM:-0500
TZOFFSETTO:-0400
TZNAME:EDT
DTSTART:20200308T070000
END:DAYLIGHT
BEGIN:STANDARD
TZOFFSETFROM:-0400
TZOFFSETTO:-0500
TZNAME:EST
DTSTART:20201101T060000
END:STANDARD
BEGIN:DAYLIGHT
TZOFFSETFROM:-0500
TZOFFSETTO:-0400
TZNAME:EDT
DTSTART:20210314T070000
END:DAYLIGHT
BEGIN:STANDARD
TZOFFSETFROM:-0400
TZOFFSETTO:-0500
TZNAME:EST
DTSTART:20211107T060000
END:STANDARD
BEGIN:DAYLIGHT
TZOFFSETFROM:-0500
TZOFFSETTO:-0400
TZNAME:EDT
DTSTART:20220313T070000
END:DAYLIGHT
BEGIN:STANDARD
TZOFFSETFROM:-0400
TZOFFSETTO:-0500
TZNAME:EST
DTSTART:20221106T060000
END:STANDARD
END:VTIMEZONE
BEGIN:VEVENT
DTSTART;TZID=America/New_York:20210422T090000
DTEND;TZID=America/New_York:20210422T100000
DTSTAMP:20260422T234710
CREATED:20210324T165817Z
LAST-MODIFIED:20230405T172045Z
UID:10000099-1619082000-1619085600@wiltonchamber.com
SUMMARY:2021 Economic Forecast Meeting
DESCRIPTION:UPDATE: This is the link to the complete video recording of the meeting and important contact information for AdvanceCT: \nECONOMIC FORECAST MEETING FULL RECORDING \n\nContact AdvanceCT with your ideas for expansion and recruitment ideas: retainCT@advancect.org or recruit2CT@advancect.org\nJoin and post commercial properties on AdvanceCT’s Sitefinder: https://www.advancect.org/advancing-business/site-selection/real-estate/\nBecome a member of AdvanceCT: membership@advancect.org or be a part of their team https://www.advancect.org/about/staff/job-opportunities/\n\nThe Wilton Chamber of Commerce presents our “2021 Economic Forecast Meeting” on Thursday\, April 22nd . This year’s meeting will be held virtually on Zoom from 9:00-10:00am and lead by Peter Denious\, a Wilton resident and the President and C.E.O. of AdvanceCT.  \nPeter came to AdvanceCT in August 2019 as an accomplished private equity and venture capital professional who helped realize commercial and economic opportunity by connecting ideas\, people\, and capital. \nFor the previous 17 years\, Peter worked for FLAG Capital Management and its successor\, Aberdeen Standard Investments\, based in Stamford\, CT.  Peter was a member of the senior leadership team responsible for growing the FLAG private equity platform to over $6.5B in AUM from approximately $1B when he joined in 2001.  During his tenure\, Peter oversaw the venture capital fund investment program and became deeply involved with FLAG’s push into international markets\, particularly Europe and Asia.  He was a member of both the Investment and Management Committees and was ultimately responsible for a $2B investment portfolio. Before FLAG\, he worked for J.H. Whitney & Co. a direct private investment firm based in Stamford\, CT.  He started his private equity career following business school at BancBoston Capital based in Boston\, MA. Prior to graduate school\, Peter worked for Prudential Securities and Chemical Bank in investment and commercial banking. \nPeter is a graduate of Trinity College and received his MBA from the Tuck School of Business at Dartmouth College\, where he is a board member of the Center for Private Equity and Venture Capital. Peter is an Ex-Officio member of the Governor’s Workforce Council. He is also a member of Social Venture Partners Connecticut\, a not for profit focused on closing the opportunity gap in Connecticut by supporting innovative organizations and initiatives in education and workforce development. \nThere is no charge for this event but registration is required. Once registered\, an email with a secure Zoom link will be sent. For questions or more information\, please contact us at info@wiltonchamber.com or 203-762-0567.
URL:https://wiltonchamber.com/event-detail/2021-economic-forecast-meeting/
CATEGORIES:Economic Forecast Breakfast
ATTACH;FMTTYPE=image/png:https://wiltonchamber.com/wp-content/uploads/2021/09/Circle-3-1024x1024-1.png
END:VEVENT
BEGIN:VEVENT
DTSTART;TZID=America/New_York:20200206T080000
DTEND;TZID=America/New_York:20200206T093000
DTSTAMP:20260422T234710
CREATED:20200102T205717Z
LAST-MODIFIED:20230405T172101Z
UID:10000051-1580976000-1580981400@wiltonchamber.com
SUMMARY:Economic Forecast Breakfast
DESCRIPTION:The Wilton Chamber of Commerce presents again their “Eggs & the Economy” breakfast on Thursday\, February 6th at Marly’s Bar and Bistro\, 205 Town Green\, Wilton\, beginning at 8am. \nThe Chamber’s “Economic Forecast Breakfast” will be lead by Peter Denious\, a Wilton resident\, who has been named the new President and CEO of the ADVANCECT (formerly Connecticut Economic Resource Center or CERC). We are excited to welcome him to our Economic Breakfast to speak about ADVANCECT and statewide economic development initiatives. Attendees will have the opportunity to meet Peter\, listen to his update and offer their input as to what would be helpful to local business and answer questions \nFor the previous 17 years\, Peter worked for FLAG Capital Management and its successor\, Aberdeen Standard Investments\, based in Stamford\, CT.  Peter was a member of the senior leadership team responsible for growing the FLAG private equity platform to over $6.5B in AUM from approximately $1B when he joined in 2001.  During his tenure\, Peter oversaw the venture capital fund investment program and became deeply involved with FLAG’s push into international markets\, particularly Europe and Asia.  He was a member of both the Investment and Management Committees and was ultimately responsible for a $2B investment portfolio. Before FLAG\, he worked for J.H. Whitney & Co. a direct private investment firm based in Stamford\, CT.  He started his private equity career following business school at BancBoston Capital based in Boston\, MA. Prior to graduate school\, Peter worked for Prudential Securities and Chemical Bank in investment and commercial banking. \nCost for the Chamber’s Economic Forecast Breakfast is $40 per Chamber member\, $45 per future member and reservations are requested. To RSVP\, or for more information\, call the Chamber at (203) 762-0567\,  info@wiltonchamber.com or register and pay here:
URL:https://wiltonchamber.com/event-detail/economic-forecast-breakfast/
CATEGORIES:Economic Forecast Breakfast
ATTACH;FMTTYPE=:
END:VEVENT
END:VCALENDAR